Workbook
Name 美团: 美团!$F$5:$F$165
Name 抖音: 抖音!$F$5:$F$165
Name 人工: 人工!$F$5:$F$165
Name 瓶装水: 瓶装水!$F$6:$F$165
Name 槟榔: 槟榔!$F$6:$F$165

Sheet 渠道01
F3: 渠道01
F4: 团单名称 | G4: 计费赠送
F5: 团单01
F6: 团单02
F7: 团单03
F8: 团单04
F9: 团单05
F10: 团单06
F11: 团单07
F12: 团单08
F13: 团单09

Sheet 渠道02
F3: 渠道02
F4: 团单名称 | G4: 计费赠送
F5: 团单01
F6: 团单02
F7: 团单03
F8: 团单04

Sheet 渠道03
F3: 渠道03 | H3: 岗位01 | I3: 岗位02 | J3: 岗位03
F4: 活动 | G4: 计费赠送 | H4: 姓名01 | I4: 姓名02 | J4: 姓名03
F5: 活动01
F6: 活动02
F7: 活动03
F8: 活动04

Sheet 渠道04
F3: 渠道04
F4: 团单名称 | G4: 固定金额
F5: 商品01
F6: 商品02

Sheet 渠道05
F3: 渠道05
F4: 品名 | G4: 固定金额
F5: 商品01
F6: 商品02

Sheet 1日白
A1: 减账原因 | B1: 类目 | C1: 金额 | D1: 上班现金 | F1: 下班现金 | H1: =人工!H3 | I1: 姓名01 | K1: =人工!I3 | L1: 姓名02 | N1: =人工!J3
C2: =IFERROR(VLOOKUP(B2,INDIRECT(A2&"!$F$5:$G$13"),2,0),"")
C3: =IFERROR(VLOOKUP(B3,INDIRECT(A3&"!$F$5:$G$13"),2,0),"") | D3: 上班微信 | F3: 下班微信
C4: =IFERROR(VLOOKUP(B4,INDIRECT(A4&"!$F$5:$G$13"),2,0),"")
C5: =IFERROR(VLOOKUP(B5,INDIRECT(A5&"!$F$5:$G$13"),2,0),"")
C6: =IFERROR(VLOOKUP(B6,INDIRECT(A6&"!$F$5:$G$13"),2,0),"")
C7: =IFERROR(VLOOKUP(B7,INDIRECT(A7&"!$F$5:$G$13"),2,0),"") | D7: 上班支付宝 | F7: 下班支付宝
C8: =IFERROR(VLOOKUP(B8,INDIRECT(A8&"!$F$5:$G$13"),2,0),"")
C9: =IFERROR(VLOOKUP(B9,INDIRECT(A9&"!$F$5:$G$13"),2,0),"") | D9: 抄表区 | Z9: =渠道01!F3
C10: =IFERROR(VLOOKUP(B10,INDIRECT(A10&"!$F$5:$G$13"),2,0),"") | Z10: =渠道02!F3
C11: =IFERROR(VLOOKUP(B11,INDIRECT(A11&"!$F$5:$G$13"),2,0),"") | D11: 本班网费 | F11: 商品 | H11: 美团数量 | I11: =COUNTIF(A2:A2000,Z9) | J11: 美团金额 | K11: =SUMIF($A$2:$A$2000,$Z$9,$C$2:$C$2000) | Z11: =渠道03!F3
C12: =IFERROR(VLOOKUP(B12,INDIRECT(A12&"!$F$5:$G$13"),2,0),"") | Z12: =渠道04!F3
C13: =IFERROR(VLOOKUP(B13,INDIRECT(A13&"!$F$5:$G$13"),2,0),"") | D13: 本班XY | F13: 减账合计 | G13: =SUM(C$2:C$2000) | H13: 抖音数量 | I13: =COUNTIF(A2:A2000,Z10) | J13: 抖音金额 | K13: =SUMIF($A$2:$A$2000,$Z$10,$C$2:$C$2000) | Z13: =渠道05!F3
C14: =IFERROR(VLOOKUP(B14,INDIRECT(A14&"!$F$5:$G$13"),2,0),"")
C15: =IFERROR(VLOOKUP(B15,INDIRECT(A15&"!$F$5:$G$13"),2,0),"") | D15: 本班微信 | E15: =G3-E3 | F15: 本班现金 | G15: =G1-E1 | H15: 人工数量 | I15: =COUNTIF(A2:A2000,Z11) | J15: 人工金额 | K15: =SUMIF($A$2:$A$2000,$Z$11,$C$2:$C$2000)
C16: =IFERROR(VLOOKUP(B16,INDIRECT(A16&"!$F$5:$G$13"),2,0),"")
C17: =IFERROR(VLOOKUP(B17,INDIRECT(A17&"!$F$5:$G$13"),2,0),"") | D17: 本班支付宝 | E17: =G7-E7 | F17: 差额 | G17: =((G13+E15+G15+E17)-(E11+E13+G11)) | H17: 瓶装水换购 | I17: =COUNTIF(A2:A2000,$Z$12) | J17: 瓶装水金额 | K17: =SUMIF($A$2:$A$2000,$Z$12,$C$2:$C$2000)
C18: =IFERROR(VLOOKUP(B18,INDIRECT(A18&"!$F$5:$G$13"),2,0),"")
C19: =IFERROR(VLOOKUP(B19,INDIRECT(A19&"!$F$5:$G$13"),2,0),"") | D19: 5日白 | E19: 10日白 | F19: 15日白 | G19: 20日白 | H19: 槟榔换购 | I19: =COUNTIF(A2:A2000,Z13) | J19: 槟榔金额 | K19: =SUMIF($A$2:$A$2000,$Z$13,$C$2:$C$2000)
C20: =IFERROR(VLOOKUP(B20,INDIRECT(A20&"!$F$5:$G$13"),2,0),"")
C21: =IFERROR(VLOOKUP(B21,INDIRECT(A21&"!$F$5:$G$13"),2,0),"")
C22: =IFERROR(VLOOKUP(B22,INDIRECT(A22&"!$F$5:$G$13"),2,0),"")
C23: =IFERROR(VLOOKUP(B23,INDIRECT(A23&"!$F$5:$G$13"),2,0),"") | D23: 25日白 | E23: 31日夜 | F23: 上交款 | G23: =E15+E17+G15
C24: =IFERROR(VLOOKUP(B24,INDIRECT(A24&"!$F$5:$G$13"),2,0),"")
C25: =IFERROR(VLOOKUP(B25,INDIRECT(A25&"!$F$5:$G$13"),2,0),"")
C26: =IFERROR(VLOOKUP(B26,INDIRECT(A26&"!$F$5:$G$13"),2,0),"")
C27: =IFERROR(VLOOKUP(B27,INDIRECT(A27&"!$F$5:$G$13"),2,0),"")
C28: =IFERROR(VLOOKUP(B28,INDIRECT(A28&"!$F$5:$G$13"),2,0),"")
C29: =IFERROR(VLOOKUP(B29,INDIRECT(A29&"!$F$5:$G$13"),2,0),"")
C30: =IFERROR(VLOOKUP(B30,INDIRECT(A30&"!$F$5:$G$13"),2,0),"")
C31: =IFERROR(VLOOKUP(B31,INDIRECT(A31&"!$F$5:$G$13"),2,0),"")
C32: =IFERROR(VLOOKUP(B32,INDIRECT(A32&"!$F$5:$G$13"),2,0),"")
C33: =IFERROR(VLOOKUP(B33,INDIRECT(A33&"!$F$5:$G$13"),2,0),"")
C34: =IFERROR(VLOOKUP(B34,INDIRECT(A34&"!$F$5:$G$13"),2,0),"")
C35: =IFERROR(VLOOKUP(B35,INDIRECT(A35&"!$F$5:$G$13"),2,0),"")
... C260: =IFERROR(VLOOKUP(B260,INDIRECT(A260&"!$F$5:$G$13"),2,0),"")

Sheet 1日夜
A1: 减账原因 | B1: 类目 | C1: 金额 | D1: 上班现金 | E1: ='1日白'!G1 | F1: 下班现金 | H1: =人工!H3 | I1: 姓名01 | K1: =人工!I3 | L1: 姓名02 | N1: =人工!J3 | O1: 姓名03
C2: =IFERROR(VLOOKUP(B2,INDIRECT(A2&"!$F$5:$G$13"),2,0),"")
C3: =IFERROR(VLOOKUP(B3,INDIRECT(A3&"!$F$5:$G$13"),2,0),"") | D3: 上班微信 | E3: ='1日白'!G3 | F3: 下班微信
C4: =IFERROR(VLOOKUP(B4,INDIRECT(A4&"!$F$5:$G$13"),2,0),"")
C5: =IFERROR(VLOOKUP(B5,INDIRECT(A5&"!$F$5:$G$13"),2,0),"")
C6: =IFERROR(VLOOKUP(B6,INDIRECT(A6&"!$F$5:$G$13"),2,0),"")
C7: =IFERROR(VLOOKUP(B7,INDIRECT(A7&"!$F$5:$G$13"),2,0),"") | D7: 上班支付宝 | E7: ='1日白'!G7 | F7: 下班支付宝
C8: =IFERROR(VLOOKUP(B8,INDIRECT(A8&"!$F$5:$G$13"),2,0),"")
C9: =IFERROR(VLOOKUP(B9,INDIRECT(A9&"!$F$5:$G$13"),2,0),"") | D9: 抄表区 | Z9: =渠道01!F3
C10: =IFERROR(VLOOKUP(B10,INDIRECT(A10&"!$F$5:$G$13"),2,0),"") | Z10: =渠道02!F3
C11: =IFERROR(VLOOKUP(B11,INDIRECT(A11&"!$F$5:$G$13"),2,0),"") | D11: 本班网费 | F11: 商品 | H11: 美团数量 | I11: =COUNTIF(A2:A2000,Z9) | J11: 美团金额 | K11: =SUMIF($A$2:$A$2000,$Z$9,$C$2:$C$2000) | Z11: =渠道03!F3
C12: =IFERROR(VLOOKUP(B12,INDIRECT(A12&"!$F$5:$G$13"),2,0),"") | Z12: =渠道04!F3
C13: =IFERROR(VLOOKUP(B13,INDIRECT(A13&"!$F$5:$G$13"),2,0),"") | D13: 本班XY | F13: 减账合计 | G13: =SUM(C$2:C$2000) | H13: 抖音数量 | I13: =COUNTIF(A2:A2000,Z10) | J13: 抖音金额 | K13: =SUMIF($A$2:$A$2000,$Z$10,$C$2:$C$2000) | Z13: =渠道05!F3
C14: =IFERROR(VLOOKUP(B14,INDIRECT(A14&"!$F$5:$G$13"),2,0),"")
C15: =IFERROR(VLOOKUP(B15,INDIRECT(A15&"!$F$5:$G$13"),2,0),"") | D15: 本班微信 | E15: =G3-E3 | F15: 本班现金 | G15: =G1-E1 | H15: 人工数量 | I15: =COUNTIF(A2:A2000,Z11) | J15: 人工金额 | K15: =SUMIF($A$2:$A$2000,$Z$11,$C$2:$C$2000)
C16: =IFERROR(VLOOKUP(B16,INDIRECT(A16&"!$F$5:$G$13"),2,0),"")
C17: =IFERROR(VLOOKUP(B17,INDIRECT(A17&"!$F$5:$G$13"),2,0),"") | D17: 本班支付宝 | E17: =G7-E7 | F17: 差额 | G17: =((G13+E15+G15+E17)-(E11+E13+G11)) | H17: 瓶装水换购 | I17: =COUNTIF(A2:A2000,$Z$12) | J17: 瓶装水金额 | K17: =SUMIF($A$2:$A$2000,$Z$12,$C$2:$C$2000)
C18: =IFERROR(VLOOKUP(B18,INDIRECT(A18&"!$F$5:$G$13"),2,0),"")
C19: =IFERROR(VLOOKUP(B19,INDIRECT(A19&"!$F$5:$G$13"),2,0),"") | H19: 槟榔换购 | I19: =COUNTIF(A2:A2000,Z13) | J19: 槟榔金额 | K19: =SUMIF($A$2:$A$2000,$Z$13,$C$2:$C$2000)
C20: =IFERROR(VLOOKUP(B20,INDIRECT(A20&"!$F$5:$G$13"),2,0),"")
C21: =IFERROR(VLOOKUP(B21,INDIRECT(A21&"!$F$5:$G$13"),2,0),"")
C22: =IFERROR(VLOOKUP(B22,INDIRECT(A22&"!$F$5:$G$13"),2,0),"")
C23: =IFERROR(VLOOKUP(B23,INDIRECT(A23&"!$F$5:$G$13"),2,0),"") | F23: 上交款 | G23: =E15+E17+G15
C24: =IFERROR(VLOOKUP(B24,INDIRECT(A24&"!$F$5:$G$13"),2,0),"")
C25: =IFERROR(VLOOKUP(B25,INDIRECT(A25&"!$F$5:$G$13"),2,0),"")
C26: =IFERROR(VLOOKUP(B26,INDIRECT(A26&"!$F$5:$G$13"),2,0),"")
C27: =IFERROR(VLOOKUP(B27,INDIRECT(A27&"!$F$5:$G$13"),2,0),"")
C28: =IFERROR(VLOOKUP(B28,INDIRECT(A28&"!$F$5:$G$13"),2,0),"")
C29: =IFERROR(VLOOKUP(B29,INDIRECT(A29&"!$F$5:$G$13"),2,0),"")
C30: =IFERROR(VLOOKUP(B30,INDIRECT(A30&"!$F$5:$G$13"),2,0),"")
C31: =IFERROR(VLOOKUP(B31,INDIRECT(A31&"!$F$5:$G$13"),2,0),"")
C32: =IFERROR(VLOOKUP(B32,INDIRECT(A32&"!$F$5:$G$13"),2,0),"")
C33: =IFERROR(VLOOKUP(B33,INDIRECT(A33&"!$F$5:$G$13"),2,0),"")
C34: =IFERROR(VLOOKUP(B34,INDIRECT(A34&"!$F$5:$G$13"),2,0),"")
C35: =IFERROR(VLOOKUP(B35,INDIRECT(A35&"!$F$5:$G$13"),2,0),"")
... C260: =IFERROR(VLOOKUP(B260,INDIRECT(A260&"!$F$5:$G$13"),2,0),"")

Sheet 2日白
A1: 减账原因 | B1: 类目 | C1: 金额 | D1: 上班现金 | E1: ='1日夜'!G1 | F1: 下班现金 | H1: =人工!H3 | I1: 姓名01 | K1: =人工!I3 | L1: 姓名02 | N1: =人工!J3 | O1: 姓名03
C2: =IFERROR(VLOOKUP(B2,INDIRECT(A2&"!$F$5:$G$13"),2,0),"")
C3: =IFERROR(VLOOKUP(B3,INDIRECT(A3&"!$F$5:$G$13"),2,0),"") | D3: 上班微信 | E3: ='1日夜'!G3 | F3: 下班微信
C4: =IFERROR(VLOOKUP(B4,INDIRECT(A4&"!$F$5:$G$13"),2,0),"")
C5: =IFERROR(VLOOKUP(B5,INDIRECT(A5&"!$F$5:$G$13"),2,0),"")
C6: =IFERROR(VLOOKUP(B6,INDIRECT(A6&"!$F$5:$G$13"),2,0),"")
C7: =IFERROR(VLOOKUP(B7,INDIRECT(A7&"!$F$5:$G$13"),2,0),"") | D7: 上班支付宝 | E7: ='1日夜'!G7 | F7: 下班支付宝
C8: =IFERROR(VLOOKUP(B8,INDIRECT(A8&"!$F$5:$G$13"),2,0),"")
C9: =IFERROR(VLOOKUP(B9,INDIRECT(A9&"!$F$5:$G$13"),2,0),"") | D9: 抄表区 | Z9: =渠道01!F3
C10: =IFERROR(VLOOKUP(B10,INDIRECT(A10&"!$F$5:$G$13"),2,0),"") | Z10: =渠道02!F3
C11: =IFERROR(VLOOKUP(B11,INDIRECT(A11&"!$F$5:$G$13"),2,0),"") | D11: 本班网费 | F11: 商品 | H11: 美团数量 | I11: =COUNTIF(A2:A2000,Z9) | J11: 美团金额 | K11: =SUMIF($A$2:$A$2000,$Z$9,$C$2:$C$2000) | Z11: =渠道03!F3
C12: =IFERROR(VLOOKUP(B12,INDIRECT(A12&"!$F$5:$G$13"),2,0),"") | Z12: =渠道04!F3
C13: =IFERROR(VLOOKUP(B13,INDIRECT(A13&"!$F$5:$G$13"),2,0),"") | D13: 本班XY | F13: 减账合计 | G13: =SUM(C$2:C$2000) | H13: 抖音数量 | I13: =COUNTIF(A2:A2000,Z10) | J13: 抖音金额 | K13: =SUMIF($A$2:$A$2000,$Z$10,$C$2:$C$2000) | Z13: =渠道05!F3
C14: =IFERROR(VLOOKUP(B14,INDIRECT(A14&"!$F$5:$G$13"),2,0),"")
C15: =IFERROR(VLOOKUP(B15,INDIRECT(A15&"!$F$5:$G$13"),2,0),"") | D15: 本班微信 | E15: =G3-E3 | F15: 本班现金 | G15: =G1-E1 | H15: 人工数量 | I15: =COUNTIF(A2:A2000,Z11) | J15: 人工金额 | K15: =SUMIF($A$2:$A$2000,$Z$11,$C$2:$C$2000)
C16: =IFERROR(VLOOKUP(B16,INDIRECT(A16&"!$F$5:$G$13"),2,0),"")
C17: =IFERROR(VLOOKUP(B17,INDIRECT(A17&"!$F$5:$G$13"),2,0),"") | D17: 本班支付宝 | E17: =G7-E7 | F17: 差额 | G17: =((G13+E15+G15+E17)-(E11+E13+G11)) | H17: 瓶装水换购 | I17: =COUNTIF(A2:A2000,$Z$12) | J17: 瓶装水金额 | K17: =SUMIF($A$2:$A$2000,$Z$12,$C$2:$C$2000)
C18: =IFERROR(VLOOKUP(B18,INDIRECT(A18&"!$F$5:$G$13"),2,0),"")
C19: =IFERROR(VLOOKUP(B19,INDIRECT(A19&"!$F$5:$G$13"),2,0),"") | H19: 槟榔换购 | I19: =COUNTIF(A2:A2000,Z13) | J19: 槟榔金额 | K19: =SUMIF($A$2:$A$2000,$Z$13,$C$2:$C$2000)
C20: =IFERROR(VLOOKUP(B20,INDIRECT(A20&"!$F$5:$G$13"),2,0),"")
C21: =IFERROR(VLOOKUP(B21,INDIRECT(A21&"!$F$5:$G$13"),2,0),"")
C22: =IFERROR(VLOOKUP(B22,INDIRECT(A22&"!$F$5:$G$13"),2,0),"")
C23: =IFERROR(VLOOKUP(B23,INDIRECT(A23&"!$F$5:$G$13"),2,0),"") | F23: 上交款 | G23: =E15+E17+G15
C24: =IFERROR(VLOOKUP(B24,INDIRECT(A24&"!$F$5:$G$13"),2,0),"")
C25: =IFERROR(VLOOKUP(B25,INDIRECT(A25&"!$F$5:$G$13"),2,0),"")
C26: =IFERROR(VLOOKUP(B26,INDIRECT(A26&"!$F$5:$G$13"),2,0),"")
C27: =IFERROR(VLOOKUP(B27,INDIRECT(A27&"!$F$5:$G$13"),2,0),"")
C28: =IFERROR(VLOOKUP(B28,INDIRECT(A28&"!$F$5:$G$13"),2,0),"")
C29: =IFERROR(VLOOKUP(B29,INDIRECT(A29&"!$F$5:$G$13"),2,0),"")
C30: =IFERROR(VLOOKUP(B30,INDIRECT(A30&"!$F$5:$G$13"),2,0),"")
C31: =IFERROR(VLOOKUP(B31,INDIRECT(A31&"!$F$5:$G$13"),2,0),"")
C32: =IFERROR(VLOOKUP(B32,INDIRECT(A32&"!$F$5:$G$13"),2,0),"")
C33: =IFERROR(VLOOKUP(B33,INDIRECT(A33&"!$F$5:$G$13"),2,0),"")
C34: =IFERROR(VLOOKUP(B34,INDIRECT(A34&"!$F$5:$G$13"),2,0),"")
C35: =IFERROR(VLOOKUP(B35,INDIRECT(A35&"!$F$5:$G$13"),2,0),"")
... C260: =IFERROR(VLOOKUP(B260,INDIRECT(A260&"!$F$5:$G$13"),2,0),"")

Sheet 2日夜
A1: 减账原因 | B1: 类目 | C1: 金额 | D1: 上班现金 | E1: ='2日白'!G1 | F1: 下班现金 | H1: =人工!H3 | I1: 姓名01 | K1: =人工!I3 | L1: 姓名02 | N1: =人工!J3 | O1: 姓名03
C2: =IFERROR(VLOOKUP(B2,INDIRECT(A2&"!$F$5:$G$13"),2,0),"")
C3: =IFERROR(VLOOKUP(B3,INDIRECT(A3&"!$F$5:$G$13"),2,0),"") | D3: 上班微信 | E3: ='2日白'!G3 | F3: 下班微信
C4: =IFERROR(VLOOKUP(B4,INDIRECT(A4&"!$F$5:$G$13"),2,0),"")
C5: =IFERROR(VLOOKUP(B5,INDIRECT(A5&"!$F$5:$G$13"),2,0),"")
C6: =IFERROR(VLOOKUP(B6,INDIRECT(A6&"!$F$5:$G$13"),2,0),"")
C7: =IFERROR(VLOOKUP(B7,INDIRECT(A7&"!$F$5:$G$13"),2,0),"") | D7: 上班支付宝 | E7: ='2日白'!G7 | F7: 下班支付宝
C8: =IFERROR(VLOOKUP(B8,INDIRECT(A8&"!$F$5:$G$13"),2,0),"")
C9: =IFERROR(VLOOKUP(B9,INDIRECT(A9&"!$F$5:$G$13"),2,0),"") | D9: 抄表区 | Z9: =渠道01!F3
C10: =IFERROR(VLOOKUP(B10,INDIRECT(A10&"!$F$5:$G$13"),2,0),"") | Z10: =渠道02!F3
C11: =IFERROR(VLOOKUP(B11,INDIRECT(A11&"!$F$5:$G$13"),2,0),"") | D11: 本班网费 | F11: 商品 | H11: 美团数量 | I11: =COUNTIF(A2:A2000,Z9) | J11: 美团金额 | K11: =SUMIF($A$2:$A$2000,$Z$9,$C$2:$C$2000) | Z11: =渠道03!F3
C12: =IFERROR(VLOOKUP(B12,INDIRECT(A12&"!$F$5:$G$13"),2,0),"") | Z12: =渠道04!F3
C13: =IFERROR(VLOOKUP(B13,INDIRECT(A13&"!$F$5:$G$13"),2,0),"") | D13: 本班XY | F13: 减账合计 | G13: =SUM(C$2:C$2000) | H13: 抖音数量 | I13: =COUNTIF(A2:A2000,Z10) | J13: 抖音金额 | K13: =SUMIF($A$2:$A$2000,$Z$10,$C$2:$C$2000) | Z13: =渠道05!F3
C14: =IFERROR(VLOOKUP(B14,INDIRECT(A14&"!$F$5:$G$13"),2,0),"")
C15: =IFERROR(VLOOKUP(B15,INDIRECT(A15&"!$F$5:$G$13"),2,0),"") | D15: 本班微信 | E15: =G3-E3 | F15: 本班现金 | G15: =G1-E1 | H15: 人工数量 | I15: =COUNTIF(A2:A2000,Z11) | J15: 人工金额 | K15: =SUMIF($A$2:$A$2000,$Z$11,$C$2:$C$2000)
C16: =IFERROR(VLOOKUP(B16,INDIRECT(A16&"!$F$5:$G$13"),2,0),"")
C17: =IFERROR(VLOOKUP(B17,INDIRECT(A17&"!$F$5:$G$13"),2,0),"") | D17: 本班支付宝 | E17: =G7-E7 | F17: 差额 | G17: =((G13+E15+G15+E17)-(E11+E13+G11)) | H17: 瓶装水换购 | I17: =COUNTIF(A2:A2000,$Z$12) | J17: 瓶装水金额 | K17: =SUMIF($A$2:$A$2000,$Z$12,$C$2:$C$2000)
C18: =IFERROR(VLOOKUP(B18,INDIRECT(A18&"!$F$5:$G$13"),2,0),"")
C19: =IFERROR(VLOOKUP(B19,INDIRECT(A19&"!$F$5:$G$13"),2,0),"") | H19: 槟榔换购 | I19: =COUNTIF(A2:A2000,Z13) | J19: 槟榔金额 | K19: =SUMIF($A$2:$A$2000,$Z$13,$C$2:$C$2000)
C20: =IFERROR(VLOOKUP(B20,INDIRECT(A20&"!$F$5:$G$13"),2,0),"")
C21: =IFERROR(VLOOKUP(B21,INDIRECT(A21&"!$F$5:$G$13"),2,0),"")
C22: =IFERROR(VLOOKUP(B22,INDIRECT(A22&"!$F$5:$G$13"),2,0),"")
C23: =IFERROR(VLOOKUP(B23,INDIRECT(A23&"!$F$5:$G$13"),2,0),"") | F23: 上交款 | G23: =E15+E17+G15
C24: =IFERROR(VLOOKUP(B24,INDIRECT(A24&"!$F$5:$G$13"),2,0),"")
C25: =IFERROR(VLOOKUP(B25,INDIRECT(A25&"!$F$5:$G$13"),2,0),"")
C26: =IFERROR(VLOOKUP(B26,INDIRECT(A26&"!$F$5:$G$13"),2,0),"")
C27: =IFERROR(VLOOKUP(B27,INDIRECT(A27&"!$F$5:$G$13"),2,0),"")
C28: =IFERROR(VLOOKUP(B28,INDIRECT(A28&"!$F$5:$G$13"),2,0),"")
C29: =IFERROR(VLOOKUP(B29,INDIRECT(A29&"!$F$5:$G$13"),2,0),"")
C30: =IFERROR(VLOOKUP(B30,INDIRECT(A30&"!$F$5:$G$13"),2,0),"")
C31: =IFERROR(VLOOKUP(B31,INDIRECT(A31&"!$F$5:$G$13"),2,0),"")
C32: =IFERROR(VLOOKUP(B32,INDIRECT(A32&"!$F$5:$G$13"),2,0),"")
C33: =IFERROR(VLOOKUP(B33,INDIRECT(A33&"!$F$5:$G$13"),2,0),"")
C34: =IFERROR(VLOOKUP(B34,INDIRECT(A34&"!$F$5:$G$13"),2,0),"")
C35: =IFERROR(VLOOKUP(B35,INDIRECT(A35&"!$F$5:$G$13"),2,0),"")
... C260: =IFERROR(VLOOKUP(B260,INDIRECT(A260&"!$F$5:$G$13"),2,0),"")

Sheet 3日白
A1: 减账原因 | B1: 类目 | C1: 金额 | D1: 上班现金 | E1: =('2日夜'!G1) | F1: 下班现金 | H1: =人工!H3 | I1: 姓名01 | K1: =人工!I3 | L1: 姓名02 | N1: =人工!J3 | O1: 姓名03
C2: =IFERROR(VLOOKUP(B2,INDIRECT(A2&"!$F$5:$G$13"),2,0),"")
C3: =IFERROR(VLOOKUP(B3,INDIRECT(A3&"!$F$5:$G$13"),2,0),"") | D3: 上班微信 | E3: =('2日夜'!G3) | F3: 下班微信
C4: =IFERROR(VLOOKUP(B4,INDIRECT(A4&"!$F$5:$G$13"),2,0),"")
C5: =IFERROR(VLOOKUP(B5,INDIRECT(A5&"!$F$5:$G$13"),2,0),"")
C6: =IFERROR(VLOOKUP(B6,INDIRECT(A6&"!$F$5:$G$13"),2,0),"")
C7: =IFERROR(VLOOKUP(B7,INDIRECT(A7&"!$F$5:$G$13"),2,0),"") | D7: 上班支付宝 | E7: =('2日夜'!G7) | F7: 下班支付宝
C8: =IFERROR(VLOOKUP(B8,INDIRECT(A8&"!$F$5:$G$13"),2,0),"")
C9: =IFERROR(VLOOKUP(B9,INDIRECT(A9&"!$F$5:$G$13"),2,0),"") | D9: 抄表区 | Z9: =渠道01!F3
C10: =IFERROR(VLOOKUP(B10,INDIRECT(A10&"!$F$5:$G$13"),2,0),"") | Z10: =渠道02!F3
C11: =IFERROR(VLOOKUP(B11,INDIRECT(A11&"!$F$5:$G$13"),2,0),"") | D11: 本班网费 | F11: 商品 | H11: 美团数量 | I11: =COUNTIF(A2:A2000,Z9) | J11: 美团金额 | K11: =SUMIF($A$2:$A$2000,$Z$9,$C$2:$C$2000) | Z11: =渠道03!F3
C12: =IFERROR(VLOOKUP(B12,INDIRECT(A12&"!$F$5:$G$13"),2,0),"") | Z12: =渠道04!F3
C13: =IFERROR(VLOOKUP(B13,INDIRECT(A13&"!$F$5:$G$13"),2,0),"") | D13: 本班XY | F13: 减账合计 | G13: =SUM(C$2:C$2000) | H13: 抖音数量 | I13: =COUNTIF(A2:A2000,Z10) | J13: 抖音金额 | K13: =SUMIF($A$2:$A$2000,$Z$10,$C$2:$C$2000) | Z13: =渠道05!F3
C14: =IFERROR(VLOOKUP(B14,INDIRECT(A14&"!$F$5:$G$13"),2,0),"")
C15: =IFERROR(VLOOKUP(B15,INDIRECT(A15&"!$F$5:$G$13"),2,0),"") | D15: 本班微信 | E15: =G3-E3 | F15: 本班现金 | G15: =G1-E1 | H15: 人工数量 | I15: =COUNTIF(A2:A2000,Z11) | J15: 人工金额 | K15: =SUMIF($A$2:$A$2000,$Z$11,$C$2:$C$2000)
C16: =IFERROR(VLOOKUP(B16,INDIRECT(A16&"!$F$5:$G$13"),2,0),"")
C17: =IFERROR(VLOOKUP(B17,INDIRECT(A17&"!$F$5:$G$13"),2,0),"") | D17: 本班支付宝 | E17: =G7-E7 | F17: 差额 | G17: =((G13+E15+G15+E17)-(E11+E13+G11)) | H17: 瓶装水换购 | I17: =COUNTIF(A2:A2000,$Z$12) | J17: 瓶装水金额 | K17: =SUMIF($A$2:$A$2000,$Z$12,$C$2:$C$2000)
C18: =IFERROR(VLOOKUP(B18,INDIRECT(A18&"!$F$5:$G$13"),2,0),"")
C19: =IFERROR(VLOOKUP(B19,INDIRECT(A19&"!$F$5:$G$13"),2,0),"") | H19: 槟榔换购 | I19: =COUNTIF(A2:A2000,Z13) | J19: 槟榔金额 | K19: =SUMIF($A$2:$A$2000,$Z$13,$C$2:$C$2000)
C20: =IFERROR(VLOOKUP(B20,INDIRECT(A20&"!$F$5:$G$13"),2,0),"")
C21: =IFERROR(VLOOKUP(B21,INDIRECT(A21&"!$F$5:$G$13"),2,0),"")
C22: =IFERROR(VLOOKUP(B22,INDIRECT(A22&"!$F$5:$G$13"),2,0),"")
C23: =IFERROR(VLOOKUP(B23,INDIRECT(A23&"!$F$5:$G$13"),2,0),"") | F23: 上交款 | G23: =E15+E17+G15
C24: =IFERROR(VLOOKUP(B24,INDIRECT(A24&"!$F$5:$G$13"),2,0),"")
C25: =IFERROR(VLOOKUP(B25,INDIRECT(A25&"!$F$5:$G$13"),2,0),"")
C26: =IFERROR(VLOOKUP(B26,INDIRECT(A26&"!$F$5:$G$13"),2,0),"")
C27: =IFERROR(VLOOKUP(B27,INDIRECT(A27&"!$F$5:$G$13"),2,0),"")
C28: =IFERROR(VLOOKUP(B28,INDIRECT(A28&"!$F$5:$G$13"),2,0),"")
C29: =IFERROR(VLOOKUP(B29,INDIRECT(A29&"!$F$5:$G$13"),2,0),"")
C30: =IFERROR(VLOOKUP(B30,INDIRECT(A30&"!$F$5:$G$13"),2,0),"")
C31: =IFERROR(VLOOKUP(B31,INDIRECT(A31&"!$F$5:$G$13"),2,0),"")
C32: =IFERROR(VLOOKUP(B32,INDIRECT(A32&"!$F$5:$G$13"),2,0),"")
C33: =IFERROR(VLOOKUP(B33,INDIRECT(A33&"!$F$5:$G$13"),2,0),"")
C34: =IFERROR(VLOOKUP(B34,INDIRECT(A34&"!$F$5:$G$13"),2,0),"")
C35: =IFERROR(VLOOKUP(B35,INDIRECT(A35&"!$F$5:$G$13"),2,0),"")
... C260: =IFERROR(VLOOKUP(B260,INDIRECT(A260&"!$F$5:$G$13"),2,0),"")

Sheet 3日夜
A1: 减账原因 | B1: 类目 | C1: 金额 | D1: 上班现金 | E1: ='3日白'!G1 | F1: 下班现金 | H1: =人工!H3 | I1: 姓名01 | K1: =人工!I3 | L1: 姓名02 | N1: =人工!J3 | O1: 姓名03
C2: =IFERROR(VLOOKUP(B2,INDIRECT(A2&"!$F$5:$G$13"),2,0),"")
C3: =IFERROR(VLOOKUP(B3,INDIRECT(A3&"!$F$5:$G$13"),2,0),"") | D3: 上班微信 | E3: ='3日白'!G3 | F3: 下班微信
C4: =IFERROR(VLOOKUP(B4,INDIRECT(A4&"!$F$5:$G$13"),2,0),"")
C5: =IFERROR(VLOOKUP(B5,INDIRECT(A5&"!$F$5:$G$13"),2,0),"")
C6: =IFERROR(VLOOKUP(B6,INDIRECT(A6&"!$F$5:$G$13"),2,0),"")
C7: =IFERROR(VLOOKUP(B7,INDIRECT(A7&"!$F$5:$G$13"),2,0),"") | D7: 上班支付宝 | E7: ='3日白'!G7 | F7: 下班支付宝
C8: =IFERROR(VLOOKUP(B8,INDIRECT(A8&"!$F$5:$G$13"),2,0),"")
C9: =IFERROR(VLOOKUP(B9,INDIRECT(A9&"!$F$5:$G$13"),2,0),"") | D9: 抄表区 | Z9: =渠道01!F3
C10: =IFERROR(VLOOKUP(B10,INDIRECT(A10&"!$F$5:$G$13"),2,0),"") | Z10: =渠道02!F3
C11: =IFERROR(VLOOKUP(B11,INDIRECT(A11&"!$F$5:$G$13"),2,0),"") | D11: 本班网费 | F11: 商品 | H11: 美团数量 | I11: =COUNTIF(A2:A2000,Z9) | J11: 美团金额 | K11: =SUMIF($A$2:$A$2000,$Z$9,$C$2:$C$2000) | Z11: =渠道03!F3
C12: =IFERROR(VLOOKUP(B12,INDIRECT(A12&"!$F$5:$G$13"),2,0),"") | Z12: =渠道04!F3
C13: =IFERROR(VLOOKUP(B13,INDIRECT(A13&"!$F$5:$G$13"),2,0),"") | D13: 本班XY | F13: 减账合计 | G13: =SUM(C$2:C$2000) | H13: 抖音数量 | I13: =COUNTIF(A2:A2000,Z10) | J13: 抖音金额 | K13: =SUMIF($A$2:$A$2000,$Z$10,$C$2:$C$2000) | Z13: =渠道05!F3
C14: =IFERROR(VLOOKUP(B14,INDIRECT(A14&"!$F$5:$G$13"),2,0),"")
C15: =IFERROR(VLOOKUP(B15,INDIRECT(A15&"!$F$5:$G$13"),2,0),"") | D15: 本班微信 | E15: =G3-E3 | F15: 本班现金 | G15: =G1-E1 | H15: 人工数量 | I15: =COUNTIF(A2:A2000,Z11) | J15: 人工金额 | K15: =SUMIF($A$2:$A$2000,$Z$11,$C$2:$C$2000)
C16: =IFERROR(VLOOKUP(B16,INDIRECT(A16&"!$F$5:$G$13"),2,0),"")
C17: =IFERROR(VLOOKUP(B17,INDIRECT(A17&"!$F$5:$G$13"),2,0),"") | D17: 本班支付宝 | E17: =G7-E7 | F17: 差额 | G17: =((G13+E15+G15+E17)-(E11+E13+G11)) | H17: 瓶装水换购 | I17: =COUNTIF(A2:A2000,$Z$12) | J17: 瓶装水金额 | K17: =SUMIF($A$2:$A$2000,$Z$12,$C$2:$C$2000)
C18: =IFERROR(VLOOKUP(B18,INDIRECT(A18&"!$F$5:$G$13"),2,0),"")
C19: =IFERROR(VLOOKUP(B19,INDIRECT(A19&"!$F$5:$G$13"),2,0),"") | H19: 槟榔换购 | I19: =COUNTIF(A2:A2000,Z13) | J19: 槟榔金额 | K19: =SUMIF($A$2:$A$2000,$Z$13,$C$2:$C$2000)
C20: =IFERROR(VLOOKUP(B20,INDIRECT(A20&"!$F$5:$G$13"),2,0),"")
C21: =IFERROR(VLOOKUP(B21,INDIRECT(A21&"!$F$5:$G$13"),2,0),"")
C22: =IFERROR(VLOOKUP(B22,INDIRECT(A22&"!$F$5:$G$13"),2,0),"")
C23: =IFERROR(VLOOKUP(B23,INDIRECT(A23&"!$F$5:$G$13"),2,0),"") | F23: 上交款 | G23: =E15+E17+G15
C24: =IFERROR(VLOOKUP(B24,INDIRECT(A24&"!$F$5:$G$13"),2,0),"")
C25: =IFERROR(VLOOKUP(B25,INDIRECT(A25&"!$F$5:$G$13"),2,0),"")
C26: =IFERROR(VLOOKUP(B26,INDIRECT(A26&"!$F$5:$G$13"),2,0),"")
C27: =IFERROR(VLOOKUP(B27,INDIRECT(A27&"!$F$5:$G$13"),2,0),"")
C28: =IFERROR(VLOOKUP(B28,INDIRECT(A28&"!$F$5:$G$13"),2,0),"")
C29: =IFERROR(VLOOKUP(B29,INDIRECT(A29&"!$F$5:$G$13"),2,0),"")
C30: =IFERROR(VLOOKUP(B30,INDIRECT(A30&"!$F$5:$G$13"),2,0),"")
C31: =IFERROR(VLOOKUP(B31,INDIRECT(A31&"!$F$5:$G$13"),2,0),"")
C32: =IFERROR(VLOOKUP(B32,INDIRECT(A32&"!$F$5:$G$13"),2,0),"")
C33: =IFERROR(VLOOKUP(B33,INDIRECT(A33&"!$F$5:$G$13"),2,0),"")
C34: =IFERROR(VLOOKUP(B34,INDIRECT(A34&"!$F$5:$G$13"),2,0),"")
C35: =IFERROR(VLOOKUP(B35,INDIRECT(A35&"!$F$5:$G$13"),2,0),"")
... C260: =IFERROR(VLOOKUP(B260,INDIRECT(A260&"!$F$5:$G$13"),2,0),"")

Sheet 4日白
A1: 减账原因 | B1: 类目 | C1: 金额 | D1: 上班现金 | E1: ='3日夜'!G1 | F1: 下班现金 | H1: =人工!H3 | I1: 姓名01 | K1: =人工!I3 | L1: 姓名02 | N1: =人工!J3 | O1: 姓名03
C2: =IFERROR(VLOOKUP(B2,INDIRECT(A2&"!$F$5:$G$13"),2,0),"")
C3: =IFERROR(VLOOKUP(B3,INDIRECT(A3&"!$F$5:$G$13"),2,0),"") | D3: 上班微信 | E3: ='3日夜'!G3 | F3: 下班微信
C4: =IFERROR(VLOOKUP(B4,INDIRECT(A4&"!$F$5:$G$13"),2,0),"")
C5: =IFERROR(VLOOKUP(B5,INDIRECT(A5&"!$F$5:$G$13"),2,0),"")
C6: =IFERROR(VLOOKUP(B6,INDIRECT(A6&"!$F$5:$G$13"),2,0),"")
C7: =IFERROR(VLOOKUP(B7,INDIRECT(A7&"!$F$5:$G$13"),2,0),"") | D7: 上班支付宝 | E7: ='3日夜'!G7 | F7: 下班支付宝
C8: =IFERROR(VLOOKUP(B8,INDIRECT(A8&"!$F$5:$G$13"),2,0),"")
C9: =IFERROR(VLOOKUP(B9,INDIRECT(A9&"!$F$5:$G$13"),2,0),"") | D9: 抄表区 | Z9: =渠道01!F3
C10: =IFERROR(VLOOKUP(B10,INDIRECT(A10&"!$F$5:$G$13"),2,0),"") | Z10: =渠道02!F3
C11: =IFERROR(VLOOKUP(B11,INDIRECT(A11&"!$F$5:$G$13"),2,0),"") | D11: 本班网费 | F11: 商品 | H11: 美团数量 | I11: =COUNTIF(A2:A2000,Z9) | J11: 美团金额 | K11: =SUMIF($A$2:$A$2000,$Z$9,$C$2:$C$2000) | Z11: =渠道03!F3
C12: =IFERROR(VLOOKUP(B12,INDIRECT(A12&"!$F$5:$G$13"),2,0),"") | Z12: =渠道04!F3
C13: =IFERROR(VLOOKUP(B13,INDIRECT(A13&"!$F$5:$G$13"),2,0),"") | D13: 本班XY | F13: 减账合计 | G13: =SUM(C$2:C$2000) | H13: 抖音数量 | I13: =COUNTIF(A2:A2000,Z10) | J13: 抖音金额 | K13: =SUMIF($A$2:$A$2000,$Z$10,$C$2:$C$2000) | Z13: =渠道05!F3
C14: =IFERROR(VLOOKUP(B14,INDIRECT(A14&"!$F$5:$G$13"),2,0),"")
C15: =IFERROR(VLOOKUP(B15,INDIRECT(A15&"!$F$5:$G$13"),2,0),"") | D15: 本班微信 | E15: =G3-E3 | F15: 本班现金 | G15: =G1-E1 | H15: 人工数量 | I15: =COUNTIF(A2:A2000,Z11) | J15: 人工金额 | K15: =SUMIF($A$2:$A$2000,$Z$11,$C$2:$C$2000)
C16: =IFERROR(VLOOKUP(B16,INDIRECT(A16&"!$F$5:$G$13"),2,0),"")
C17: =IFERROR(VLOOKUP(B17,INDIRECT(A17&"!$F$5:$G$13"),2,0),"") | D17: 本班支付宝 | E17: =G7-E7 | F17: 差额 | G17: =((G13+E15+G15+E17)-(E11+E13+G11)) | H17: 瓶装水换购 | I17: =COUNTIF(A2:A2000,$Z$12) | J17: 瓶装水金额 | K17: =SUMIF($A$2:$A$2000,$Z$12,$C$2:$C$2000)
C18: =IFERROR(VLOOKUP(B18,INDIRECT(A18&"!$F$5:$G$13"),2,0),"")
C19: =IFERROR(VLOOKUP(B19,INDIRECT(A19&"!$F$5:$G$13"),2,0),"") | H19: 槟榔换购 | I19: =COUNTIF(A2:A2000,Z13) | J19: 槟榔金额 | K19: =SUMIF($A$2:$A$2000,$Z$13,$C$2:$C$2000)
C20: =IFERROR(VLOOKUP(B20,INDIRECT(A20&"!$F$5:$G$13"),2,0),"")
C21: =IFERROR(VLOOKUP(B21,INDIRECT(A21&"!$F$5:$G$13"),2,0),"")
C22: =IFERROR(VLOOKUP(B22,INDIRECT(A22&"!$F$5:$G$13"),2,0),"")
C23: =IFERROR(VLOOKUP(B23,INDIRECT(A23&"!$F$5:$G$13"),2,0),"") | F23: 上交款 | G23: =E15+E17+G15
C24: =IFERROR(VLOOKUP(B24,INDIRECT(A24&"!$F$5:$G$13"),2,0),"")
C25: =IFERROR(VLOOKUP(B25,INDIRECT(A25&"!$F$5:$G$13"),2,0),"")
C26: =IFERROR(VLOOKUP(B26,INDIRECT(A26&"!$F$5:$G$13"),2,0),"")
C27: =IFERROR(VLOOKUP(B27,INDIRECT(A27&"!$F$5:$G$13"),2,0),"")
C28: =IFERROR(VLOOKUP(B28,INDIRECT(A28&"!$F$5:$G$13"),2,0),"")
C29: =IFERROR(VLOOKUP(B29,INDIRECT(A29&"!$F$5:$G$13"),2,0),"")
C30: =IFERROR(VLOOKUP(B30,INDIRECT(A30&"!$F$5:$G$13"),2,0),"")
C31: =IFERROR(VLOOKUP(B31,INDIRECT(A31&"!$F$5:$G$13"),2,0),"")
C32: =IFERROR(VLOOKUP(B32,INDIRECT(A32&"!$F$5:$G$13"),2,0),"")
C33: =IFERROR(VLOOKUP(B33,INDIRECT(A33&"!$F$5:$G$13"),2,0),"")
C34: =IFERROR(VLOOKUP(B34,INDIRECT(A34&"!$F$5:$G$13"),2,0),"")
C35: =IFERROR(VLOOKUP(B35,INDIRECT(A35&"!$F$5:$G$13"),2,0),"")
... C260: =IFERROR(VLOOKUP(B260,INDIRECT(A260&"!$F$5:$G$13"),2,0),"")

Sheet 4日夜
A1: 减账原因 | B1: 类目 | C1: 金额 | D1: 上班现金 | E1: =('4日白'!G1) | F1: 下班现金 | H1: =人工!H3 | K1: =人工!I3 | N1: =人工!J3 | O1: 姓名03
C2: =IFERROR(VLOOKUP(B2,INDIRECT(A2&"!$F$5:$G$13"),2,0),"")
C3: =IFERROR(VLOOKUP(B3,INDIRECT(A3&"!$F$5:$G$13"),2,0),"") | D3: 上班微信 | E3: ='4日白'!G3 | F3: 下班微信
C4: =IFERROR(VLOOKUP(B4,INDIRECT(A4&"!$F$5:$G$13"),2,0),"")
C5: =IFERROR(VLOOKUP(B5,INDIRECT(A5&"!$F$5:$G$13"),2,0),"")
C6: =IFERROR(VLOOKUP(B6,INDIRECT(A6&"!$F$5:$G$13"),2,0),"")
C7: =IFERROR(VLOOKUP(B7,INDIRECT(A7&"!$F$5:$G$13"),2,0),"") | D7: 上班支付宝 | E7: ='4日白'!G7 | F7: 下班支付宝
C8: =IFERROR(VLOOKUP(B8,INDIRECT(A8&"!$F$5:$G$13"),2,0),"")
C9: =IFERROR(VLOOKUP(B9,INDIRECT(A9&"!$F$5:$G$13"),2,0),"") | D9: 抄表区 | Z9: =渠道01!F3
C10: =IFERROR(VLOOKUP(B10,INDIRECT(A10&"!$F$5:$G$13"),2,0),"") | Z10: =渠道02!F3
C11: =IFERROR(VLOOKUP(B11,INDIRECT(A11&"!$F$5:$G$13"),2,0),"") | D11: 本班网费 | F11: 商品 | H11: 美团数量 | I11: =COUNTIF(A2:A2000,Z9) | J11: 美团金额 | K11: =SUMIF($A$2:$A$2000,$Z$9,$C$2:$C$2000) | Z11: =渠道03!F3
C12: =IFERROR(VLOOKUP(B12,INDIRECT(A12&"!$F$5:$G$13"),2,0),"") | Z12: =渠道04!F3
C13: =IFERROR(VLOOKUP(B13,INDIRECT(A13&"!$F$5:$G$13"),2,0),"") | D13: 本班XY | F13: 减账合计 | G13: =SUM(C$2:C$2000) | H13: 抖音数量 | I13: =COUNTIF(A2:A2000,Z10) | J13: 抖音金额 | K13: =SUMIF($A$2:$A$2000,$Z$10,$C$2:$C$2000) | Z13: =渠道05!F3
C14: =IFERROR(VLOOKUP(B14,INDIRECT(A14&"!$F$5:$G$13"),2,0),"")
C15: =IFERROR(VLOOKUP(B15,INDIRECT(A15&"!$F$5:$G$13"),2,0),"") | D15: 本班微信 | E15: =G3-E3 | F15: 本班现金 | G15: =G1-E1 | H15: 人工数量 | I15: =COUNTIF(A2:A2000,Z11) | J15: 人工金额 | K15: =SUMIF($A$2:$A$2000,$Z$11,$C$2:$C$2000)
C16: =IFERROR(VLOOKUP(B16,INDIRECT(A16&"!$F$5:$G$13"),2,0),"")
C17: =IFERROR(VLOOKUP(B17,INDIRECT(A17&"!$F$5:$G$13"),2,0),"") | D17: 本班支付宝 | E17: =G7-E7 | F17: 差额 | G17: =((G13+E15+G15+E17)-(E11+E13+G11)) | H17: 瓶装水换购 | I17: =COUNTIF(A2:A2000,$Z$12) | J17: 瓶装水金额 | K17: =SUMIF($A$2:$A$2000,$Z$12,$C$2:$C$2000)
C18: =IFERROR(VLOOKUP(B18,INDIRECT(A18&"!$F$5:$G$13"),2,0),"")
C19: =IFERROR(VLOOKUP(B19,INDIRECT(A19&"!$F$5:$G$13"),2,0),"") | H19: 槟榔换购 | I19: =COUNTIF(A2:A2000,Z13) | J19: 槟榔金额 | K19: =SUMIF($A$2:$A$2000,$Z$13,$C$2:$C$2000)
C20: =IFERROR(VLOOKUP(B20,INDIRECT(A20&"!$F$5:$G$13"),2,0),"")
C21: =IFERROR(VLOOKUP(B21,INDIRECT(A21&"!$F$5:$G$13"),2,0),"")
C22: =IFERROR(VLOOKUP(B22,INDIRECT(A22&"!$F$5:$G$13"),2,0),"")
C23: =IFERROR(VLOOKUP(B23,INDIRECT(A23&"!$F$5:$G$13"),2,0),"") | F23: 上交款 | G23: =E15+E17+G15
C24: =IFERROR(VLOOKUP(B24,INDIRECT(A24&"!$F$5:$G$13"),2,0),"")
C25: =IFERROR(VLOOKUP(B25,INDIRECT(A25&"!$F$5:$G$13"),2,0),"")
C26: =IFERROR(VLOOKUP(B26,INDIRECT(A26&"!$F$5:$G$13"),2,0),"")
C27: =IFERROR(VLOOKUP(B27,INDIRECT(A27&"!$F$5:$G$13"),2,0),"")
C28: =IFERROR(VLOOKUP(B28,INDIRECT(A28&"!$F$5:$G$13"),2,0),"")
C29: =IFERROR(VLOOKUP(B29,INDIRECT(A29&"!$F$5:$G$13"),2,0),"")
C30: =IFERROR(VLOOKUP(B30,INDIRECT(A30&"!$F$5:$G$13"),2,0),"")
C31: =IFERROR(VLOOKUP(B31,INDIRECT(A31&"!$F$5:$G$13"),2,0),"")
C32: =IFERROR(VLOOKUP(B32,INDIRECT(A32&"!$F$5:$G$13"),2,0),"")
C33: =IFERROR(VLOOKUP(B33,INDIRECT(A33&"!$F$5:$G$13"),2,0),"")
C34: =IFERROR(VLOOKUP(B34,INDIRECT(A34&"!$F$5:$G$13"),2,0),"")
C35: =IFERROR(VLOOKUP(B35,INDIRECT(A35&"!$F$5:$G$13"),2,0),"")
... C260: =IFERROR(VLOOKUP(B260,INDIRECT(A260&"!$F$5:$G$13"),2,0),"")

Sheet 5日白
A1: 减账原因 | B1: 类目 | C1: 金额 | D1: 上班现金 | E1: ='4日夜'!G1 | F1: 下班现金 | H1: =人工!H3 | I1: 姓名01 | K1: =人工!I3 | L1: 姓名02 | N1: =人工!J3 | O1: 姓名03
C2: =IFERROR(VLOOKUP(B2,INDIRECT(A2&"!$F$5:$G$13"),2,0),"")
C3: =IFERROR(VLOOKUP(B3,INDIRECT(A3&"!$F$5:$G$13"),2,0),"") | D3: 上班微信 | E3: ='4日夜'!G3 | F3: 下班微信
C4: =IFERROR(VLOOKUP(B4,INDIRECT(A4&"!$F$5:$G$13"),2,0),"")
C5: =IFERROR(VLOOKUP(B5,INDIRECT(A5&"!$F$5:$G$13"),2,0),"")
C6: =IFERROR(VLOOKUP(B6,INDIRECT(A6&"!$F$5:$G$13"),2,0),"")
C7: =IFERROR(VLOOKUP(B7,INDIRECT(A7&"!$F$5:$G$13"),2,0),"") | D7: 上班支付宝 | E7: ='4日夜'!G7 | F7: 下班支付宝
C8: =IFERROR(VLOOKUP(B8,INDIRECT(A8&"!$F$5:$G$13"),2,0),"")
C9: =IFERROR(VLOOKUP(B9,INDIRECT(A9&"!$F$5:$G$13"),2,0),"") | D9: 抄表区 | Z9: =渠道01!F3
C10: =IFERROR(VLOOKUP(B10,INDIRECT(A10&"!$F$5:$G$13"),2,0),"") | Z10: =渠道02!F3
C11: =IFERROR(VLOOKUP(B11,INDIRECT(A11&"!$F$5:$G$13"),2,0),"") | D11: 本班网费 | F11: 商品 | H11: 美团数量 | I11: =COUNTIF(A2:A2000,Z9) | J11: 美团金额 | K11: =SUMIF($A$2:$A$2000,$Z$9,$C$2:$C$2000) | Z11: =渠道03!F3
C12: =IFERROR(VLOOKUP(B12,INDIRECT(A12&"!$F$5:$G$13"),2,0),"") | Z12: =渠道04!F3
C13: =IFERROR(VLOOKUP(B13,INDIRECT(A13&"!$F$5:$G$13"),2,0),"") | D13: 本班XY | F13: 减账合计 | G13: =SUM(C$2:C$2000) | H13: 抖音数量 | I13: =COUNTIF(A2:A2000,Z10) | J13: 抖音金额 | K13: =SUMIF($A$2:$A$2000,$Z$10,$C$2:$C$2000) | Z13: =渠道05!F3
C14: =IFERROR(VLOOKUP(B14,INDIRECT(A14&"!$F$5:$G$13"),2,0),"")
C15: =IFERROR(VLOOKUP(B15,INDIRECT(A15&"!$F$5:$G$13"),2,0),"") | D15: 本班微信 | E15: =G3-E3 | F15: 本班现金 | G15: =G1-E1 | H15: 人工数量 | I15: =COUNTIF(A2:A2000,Z11) | J15: 人工金额 | K15: =SUMIF($A$2:$A$2000,$Z$11,$C$2:$C$2000)
C16: =IFERROR(VLOOKUP(B16,INDIRECT(A16&"!$F$5:$G$13"),2,0),"")
C17: =IFERROR(VLOOKUP(B17,INDIRECT(A17&"!$F$5:$G$13"),2,0),"") | D17: 本班支付宝 | E17: =G7-E7 | F17: 差额 | G17: =((G13+E15+G15+E17)-(E11+E13+G11)) | H17: 瓶装水换购 | I17: =COUNTIF(A2:A2000,$Z$12) | J17: 瓶装水金额 | K17: =SUMIF($A$2:$A$2000,$Z$12,$C$2:$C$2000)
C18: =IFERROR(VLOOKUP(B18,INDIRECT(A18&"!$F$5:$G$13"),2,0),"")
C19: =IFERROR(VLOOKUP(B19,INDIRECT(A19&"!$F$5:$G$13"),2,0),"") | H19: 槟榔换购 | I19: =COUNTIF(A2:A2000,Z13) | J19: 槟榔金额 | K19: =SUMIF($A$2:$A$2000,$Z$13,$C$2:$C$2000)
C20: =IFERROR(VLOOKUP(B20,INDIRECT(A20&"!$F$5:$G$13"),2,0),"")
C21: =IFERROR(VLOOKUP(B21,INDIRECT(A21&"!$F$5:$G$13"),2,0),"")
C22: =IFERROR(VLOOKUP(B22,INDIRECT(A22&"!$F$5:$G$13"),2,0),"")
C23: =IFERROR(VLOOKUP(B23,INDIRECT(A23&"!$F$5:$G$13"),2,0),"") | F23: 上交款 | G23: =E15+E17+G15
C24: =IFERROR(VLOOKUP(B24,INDIRECT(A24&"!$F$5:$G$13"),2,0),"")
C25: =IFERROR(VLOOKUP(B25,INDIRECT(A25&"!$F$5:$G$13"),2,0),"")
C26: =IFERROR(VLOOKUP(B26,INDIRECT(A26&"!$F$5:$G$13"),2,0),"")
C27: =IFERROR(VLOOKUP(B27,INDIRECT(A27&"!$F$5:$G$13"),2,0),"")
C28: =IFERROR(VLOOKUP(B28,INDIRECT(A28&"!$F$5:$G$13"),2,0),"")
C29: =IFERROR(VLOOKUP(B29,INDIRECT(A29&"!$F$5:$G$13"),2,0),"")
C30: =IFERROR(VLOOKUP(B30,INDIRECT(A30&"!$F$5:$G$13"),2,0),"")
C31: =IFERROR(VLOOKUP(B31,INDIRECT(A31&"!$F$5:$G$13"),2,0),"")
C32: =IFERROR(VLOOKUP(B32,INDIRECT(A32&"!$F$5:$G$13"),2,0),"")
C33: =IFERROR(VLOOKUP(B33,INDIRECT(A33&"!$F$5:$G$13"),2,0),"")
C34: =IFERROR(VLOOKUP(B34,INDIRECT(A34&"!$F$5:$G$13"),2,0),"")
C35: =IFERROR(VLOOKUP(B35,INDIRECT(A35&"!$F$5:$G$13"),2,0),"")
... C260: =IFERROR(VLOOKUP(B260,INDIRECT(A260&"!$F$5:$G$13"),2,0),"")

Sheet 5日夜
A1: 减账原因 | B1: 类目 | C1: 金额 | D1: 上班现金 | E1: ='5日白'!G1 | F1: 下班现金 | H1: =人工!H3 | I1: 姓名01 | K1: =人工!I3 | L1: 姓名02 | N1: =人工!J3 | O1: 姓名03
C2: =IFERROR(VLOOKUP(B2,INDIRECT(A2&"!$F$5:$G$13"),2,0),"")
C3: =IFERROR(VLOOKUP(B3,INDIRECT(A3&"!$F$5:$G$13"),2,0),"") | D3: 上班微信 | E3: ='5日白'!G3 | F3: 下班微信
C4: =IFERROR(VLOOKUP(B4,INDIRECT(A4&"!$F$5:$G$13"),2,0),"")
C5: =IFERROR(VLOOKUP(B5,INDIRECT(A5&"!$F$5:$G$13"),2,0),"")
C6: =IFERROR(VLOOKUP(B6,INDIRECT(A6&"!$F$5:$G$13"),2,0),"")
C7: =IFERROR(VLOOKUP(B7,INDIRECT(A7&"!$F$5:$G$13"),2,0),"") | D7: 上班支付宝 | E7: ='5日白'!G7 | F7: 下班支付宝
C8: =IFERROR(VLOOKUP(B8,INDIRECT(A8&"!$F$5:$G$13"),2,0),"")
C9: =IFERROR(VLOOKUP(B9,INDIRECT(A9&"!$F$5:$G$13"),2,0),"") | D9: 抄表区 | Z9: =渠道01!F3
C10: =IFERROR(VLOOKUP(B10,INDIRECT(A10&"!$F$5:$G$13"),2,0),"") | Z10: =渠道02!F3
C11: =IFERROR(VLOOKUP(B11,INDIRECT(A11&"!$F$5:$G$13"),2,0),"") | D11: 本班网费 | F11: 商品 | H11: 美团数量 | I11: =COUNTIF(A2:A2000,Z9) | J11: 美团金额 | K11: =SUMIF($A$2:$A$2000,$Z$9,$C$2:$C$2000) | Z11: =渠道03!F3
C12: =IFERROR(VLOOKUP(B12,INDIRECT(A12&"!$F$5:$G$13"),2,0),"") | Z12: =渠道04!F3
C13: =IFERROR(VLOOKUP(B13,INDIRECT(A13&"!$F$5:$G$13"),2,0),"") | D13: 本班XY | F13: 减账合计 | G13: =SUM(C$2:C$2000) | H13: 抖音数量 | I13: =COUNTIF(A2:A2000,Z10) | J13: 抖音金额 | K13: =SUMIF($A$2:$A$2000,$Z$10,$C$2:$C$2000) | Z13: =渠道05!F3
C14: =IFERROR(VLOOKUP(B14,INDIRECT(A14&"!$F$5:$G$13"),2,0),"")
C15: =IFERROR(VLOOKUP(B15,INDIRECT(A15&"!$F$5:$G$13"),2,0),"") | D15: 本班微信 | E15: =G3-E3 | F15: 本班现金 | G15: =G1-E1 | H15: 人工数量 | I15: =COUNTIF(A2:A2000,Z11) | J15: 人工金额 | K15: =SUMIF($A$2:$A$2000,$Z$11,$C$2:$C$2000)
C16: =IFERROR(VLOOKUP(B16,INDIRECT(A16&"!$F$5:$G$13"),2,0),"")
C17: =IFERROR(VLOOKUP(B17,INDIRECT(A17&"!$F$5:$G$13"),2,0),"") | D17: 本班支付宝 | E17: =G7-E7 | F17: 差额 | G17: =((G13+E15+G15+E17)-(E11+E13+G11)) | H17: 瓶装水换购 | I17: =COUNTIF(A2:A2000,$Z$12) | J17: 瓶装水金额 | K17: =SUMIF($A$2:$A$2000,$Z$12,$C$2:$C$2000)
C18: =IFERROR(VLOOKUP(B18,INDIRECT(A18&"!$F$5:$G$13"),2,0),"")
C19: =IFERROR(VLOOKUP(B19,INDIRECT(A19&"!$F$5:$G$13"),2,0),"") | H19: 槟榔换购 | I19: =COUNTIF(A2:A2000,Z13) | J19: 槟榔金额 | K19: =SUMIF($A$2:$A$2000,$Z$13,$C$2:$C$2000)
C20: =IFERROR(VLOOKUP(B20,INDIRECT(A20&"!$F$5:$G$13"),2,0),"")
C21: =IFERROR(VLOOKUP(B21,INDIRECT(A21&"!$F$5:$G$13"),2,0),"")
C22: =IFERROR(VLOOKUP(B22,INDIRECT(A22&"!$F$5:$G$13"),2,0),"")
C23: =IFERROR(VLOOKUP(B23,INDIRECT(A23&"!$F$5:$G$13"),2,0),"") | F23: 上交款 | G23: =E15+E17+G15
C24: =IFERROR(VLOOKUP(B24,INDIRECT(A24&"!$F$5:$G$13"),2,0),"")
C25: =IFERROR(VLOOKUP(B25,INDIRECT(A25&"!$F$5:$G$13"),2,0),"")
C26: =IFERROR(VLOOKUP(B26,INDIRECT(A26&"!$F$5:$G$13"),2,0),"")
C27: =IFERROR(VLOOKUP(B27,INDIRECT(A27&"!$F$5:$G$13"),2,0),"")
C28: =IFERROR(VLOOKUP(B28,INDIRECT(A28&"!$F$5:$G$13"),2,0),"")
C29: =IFERROR(VLOOKUP(B29,INDIRECT(A29&"!$F$5:$G$13"),2,0),"")
C30: =IFERROR(VLOOKUP(B30,INDIRECT(A30&"!$F$5:$G$13"),2,0),"")
C31: =IFERROR(VLOOKUP(B31,INDIRECT(A31&"!$F$5:$G$13"),2,0),"")
C32: =IFERROR(VLOOKUP(B32,INDIRECT(A32&"!$F$5:$G$13"),2,0),"")
C33: =IFERROR(VLOOKUP(B33,INDIRECT(A33&"!$F$5:$G$13"),2,0),"")
C34: =IFERROR(VLOOKUP(B34,INDIRECT(A34&"!$F$5:$G$13"),2,0),"")
C35: =IFERROR(VLOOKUP(B35,INDIRECT(A35&"!$F$5:$G$13"),2,0),"")
... C260: =IFERROR(VLOOKUP(B260,INDIRECT(A260&"!$F$5:$G$13"),2,0),"")

Sheet 6日白
A1: 减账原因 | B1: 类目 | C1: 金额 | D1: 上班现金 | E1: ='5日夜'!G1 | F1: 下班现金 | H1: =人工!H3 | I1: 姓名01 | K1: =人工!I3 | L1: 姓名02 | N1: =人工!J3 | O1: 姓名03
C2: =IFERROR(VLOOKUP(B2,INDIRECT(A2&"!$F$5:$G$13"),2,0),"")
C3: =IFERROR(VLOOKUP(B3,INDIRECT(A3&"!$F$5:$G$13"),2,0),"") | D3: 上班微信 | E3: ='5日夜'!G3 | F3: 下班微信
C4: =IFERROR(VLOOKUP(B4,INDIRECT(A4&"!$F$5:$G$13"),2,0),"")
C5: =IFERROR(VLOOKUP(B5,INDIRECT(A5&"!$F$5:$G$13"),2,0),"")
C6: =IFERROR(VLOOKUP(B6,INDIRECT(A6&"!$F$5:$G$13"),2,0),"")
C7: =IFERROR(VLOOKUP(B7,INDIRECT(A7&"!$F$5:$G$13"),2,0),"") | D7: 上班支付宝 | E7: ='5日夜'!G7 | F7: 下班支付宝
C8: =IFERROR(VLOOKUP(B8,INDIRECT(A8&"!$F$5:$G$13"),2,0),"")
C9: =IFERROR(VLOOKUP(B9,INDIRECT(A9&"!$F$5:$G$13"),2,0),"") | D9: 抄表区 | Z9: =渠道01!F3
C10: =IFERROR(VLOOKUP(B10,INDIRECT(A10&"!$F$5:$G$13"),2,0),"") | Z10: =渠道02!F3
C11: =IFERROR(VLOOKUP(B11,INDIRECT(A11&"!$F$5:$G$13"),2,0),"") | D11: 本班网费 | F11: 商品 | H11: 美团数量 | I11: =COUNTIF(A2:A2000,Z9) | J11: 美团金额 | K11: =SUMIF($A$2:$A$2000,$Z$9,$C$2:$C$2000) | Z11: =渠道03!F3
C12: =IFERROR(VLOOKUP(B12,INDIRECT(A12&"!$F$5:$G$13"),2,0),"") | Z12: =渠道04!F3
C13: =IFERROR(VLOOKUP(B13,INDIRECT(A13&"!$F$5:$G$13"),2,0),"") | D13: 本班XY | F13: 减账合计 | G13: =SUM(C$2:C$2000) | H13: 抖音数量 | I13: =COUNTIF(A2:A2000,Z10) | J13: 抖音金额 | K13: =SUMIF($A$2:$A$2000,$Z$10,$C$2:$C$2000) | Z13: =渠道05!F3
C14: =IFERROR(VLOOKUP(B14,INDIRECT(A14&"!$F$5:$G$13"),2,0),"")
C15: =IFERROR(VLOOKUP(B15,INDIRECT(A15&"!$F$5:$G$13"),2,0),"") | D15: 本班微信 | E15: =G3-E3 | F15: 本班现金 | G15: =G1-E1 | H15: 人工数量 | I15: =COUNTIF(A2:A2000,Z11) | J15: 人工金额 | K15: =SUMIF($A$2:$A$2000,$Z$11,$C$2:$C$2000)
C16: =IFERROR(VLOOKUP(B16,INDIRECT(A16&"!$F$5:$G$13"),2,0),"")
C17: =IFERROR(VLOOKUP(B17,INDIRECT(A17&"!$F$5:$G$13"),2,0),"") | D17: 本班支付宝 | E17: =G7-E7 | F17: 差额 | G17: =((G13+E15+G15+E17)-(E11+E13+G11)) | H17: 瓶装水换购 | I17: =COUNTIF(A2:A2000,$Z$12) | J17: 瓶装水金额 | K17: =SUMIF($A$2:$A$2000,$Z$12,$C$2:$C$2000)
C18: =IFERROR(VLOOKUP(B18,INDIRECT(A18&"!$F$5:$G$13"),2,0),"")
C19: =IFERROR(VLOOKUP(B19,INDIRECT(A19&"!$F$5:$G$13"),2,0),"") | H19: 槟榔换购 | I19: =COUNTIF(A2:A2000,Z13) | J19: 槟榔金额 | K19: =SUMIF($A$2:$A$2000,$Z$13,$C$2:$C$2000)
C20: =IFERROR(VLOOKUP(B20,INDIRECT(A20&"!$F$5:$G$13"),2,0),"")
C21: =IFERROR(VLOOKUP(B21,INDIRECT(A21&"!$F$5:$G$13"),2,0),"")
C22: =IFERROR(VLOOKUP(B22,INDIRECT(A22&"!$F$5:$G$13"),2,0),"")
C23: =IFERROR(VLOOKUP(B23,INDIRECT(A23&"!$F$5:$G$13"),2,0),"") | F23: 上交款 | G23: =E15+E17+G15
C24: =IFERROR(VLOOKUP(B24,INDIRECT(A24&"!$F$5:$G$13"),2,0),"")
C25: =IFERROR(VLOOKUP(B25,INDIRECT(A25&"!$F$5:$G$13"),2,0),"")
C26: =IFERROR(VLOOKUP(B26,INDIRECT(A26&"!$F$5:$G$13"),2,0),"")
C27: =IFERROR(VLOOKUP(B27,INDIRECT(A27&"!$F$5:$G$13"),2,0),"")
C28: =IFERROR(VLOOKUP(B28,INDIRECT(A28&"!$F$5:$G$13"),2,0),"")
C29: =IFERROR(VLOOKUP(B29,INDIRECT(A29&"!$F$5:$G$13"),2,0),"")
C30: =IFERROR(VLOOKUP(B30,INDIRECT(A30&"!$F$5:$G$13"),2,0),"")
C31: =IFERROR(VLOOKUP(B31,INDIRECT(A31&"!$F$5:$G$13"),2,0),"")
C32: =IFERROR(VLOOKUP(B32,INDIRECT(A32&"!$F$5:$G$13"),2,0),"")
C33: =IFERROR(VLOOKUP(B33,INDIRECT(A33&"!$F$5:$G$13"),2,0),"")
C34: =IFERROR(VLOOKUP(B34,INDIRECT(A34&"!$F$5:$G$13"),2,0),"")
C35: =IFERROR(VLOOKUP(B35,INDIRECT(A35&"!$F$5:$G$13"),2,0),"")
... C260: =IFERROR(VLOOKUP(B260,INDIRECT(A260&"!$F$5:$G$13"),2,0),"")

Sheet 6日夜
A1: 减账原因 | B1: 类目 | C1: 金额 | D1: 上班现金 | E1: ='6日白'!G1 | F1: 下班现金 | H1: =人工!H3 | I1: 姓名01 | K1: =人工!I3 | L1: 姓名02 | N1: =人工!J3 | O1: 姓名03
C2: =IFERROR(VLOOKUP(B2,INDIRECT(A2&"!$F$5:$G$13"),2,0),"")
C3: =IFERROR(VLOOKUP(B3,INDIRECT(A3&"!$F$5:$G$13"),2,0),"") | D3: 上班微信 | E3: ='6日白'!G3 | F3: 下班微信
C4: =IFERROR(VLOOKUP(B4,INDIRECT(A4&"!$F$5:$G$13"),2,0),"")
C5: =IFERROR(VLOOKUP(B5,INDIRECT(A5&"!$F$5:$G$13"),2,0),"")
C6: =IFERROR(VLOOKUP(B6,INDIRECT(A6&"!$F$5:$G$13"),2,0),"")
C7: =IFERROR(VLOOKUP(B7,INDIRECT(A7&"!$F$5:$G$13"),2,0),"") | D7: 上班支付宝 | E7: ='6日白'!G7 | F7: 下班支付宝
C8: =IFERROR(VLOOKUP(B8,INDIRECT(A8&"!$F$5:$G$13"),2,0),"")
C9: =IFERROR(VLOOKUP(B9,INDIRECT(A9&"!$F$5:$G$13"),2,0),"") | D9: 抄表区 | Z9: =渠道01!F3
C10: =IFERROR(VLOOKUP(B10,INDIRECT(A10&"!$F$5:$G$13"),2,0),"") | Z10: =渠道02!F3
C11: =IFERROR(VLOOKUP(B11,INDIRECT(A11&"!$F$5:$G$13"),2,0),"") | D11: 本班网费 | F11: 商品 | H11: 美团数量 | I11: =COUNTIF(A2:A2000,Z9) | J11: 美团金额 | K11: =SUMIF($A$2:$A$2000,$Z$9,$C$2:$C$2000) | Z11: =渠道03!F3
C12: =IFERROR(VLOOKUP(B12,INDIRECT(A12&"!$F$5:$G$13"),2,0),"") | Z12: =渠道04!F3
C13: =IFERROR(VLOOKUP(B13,INDIRECT(A13&"!$F$5:$G$13"),2,0),"") | D13: 本班XY | F13: 减账合计 | G13: =SUM(C$2:C$2000) | H13: 抖音数量 | I13: =COUNTIF(A2:A2000,Z10) | J13: 抖音金额 | K13: =SUMIF($A$2:$A$2000,$Z$10,$C$2:$C$2000) | Z13: =渠道05!F3
C14: =IFERROR(VLOOKUP(B14,INDIRECT(A14&"!$F$5:$G$13"),2,0),"")
C15: =IFERROR(VLOOKUP(B15,INDIRECT(A15&"!$F$5:$G$13"),2,0),"") | D15: 本班微信 | E15: =G3-E3 | F15: 本班现金 | G15: =G1-E1 | H15: 人工数量 | I15: =COUNTIF(A2:A2000,Z11) | J15: 人工金额 | K15: =SUMIF($A$2:$A$2000,$Z$11,$C$2:$C$2000)
C16: =IFERROR(VLOOKUP(B16,INDIRECT(A16&"!$F$5:$G$13"),2,0),"")
C17: =IFERROR(VLOOKUP(B17,INDIRECT(A17&"!$F$5:$G$13"),2,0),"") | D17: 本班支付宝 | E17: =G7-E7 | F17: 差额 | G17: =((G13+E15+G15+E17)-(E11+E13+G11)) | H17: 瓶装水换购 | I17: =COUNTIF(A2:A2000,$Z$12) | J17: 瓶装水金额 | K17: =SUMIF($A$2:$A$2000,$Z$12,$C$2:$C$2000)
C18: =IFERROR(VLOOKUP(B18,INDIRECT(A18&"!$F$5:$G$13"),2,0),"")
C19: =IFERROR(VLOOKUP(B19,INDIRECT(A19&"!$F$5:$G$13"),2,0),"") | H19: 槟榔换购 | I19: =COUNTIF(A2:A2000,Z13) | J19: 槟榔金额 | K19: =SUMIF($A$2:$A$2000,$Z$13,$C$2:$C$2000)
C20: =IFERROR(VLOOKUP(B20,INDIRECT(A20&"!$F$5:$G$13"),2,0),"")
C21: =IFERROR(VLOOKUP(B21,INDIRECT(A21&"!$F$5:$G$13"),2,0),"")
C22: =IFERROR(VLOOKUP(B22,INDIRECT(A22&"!$F$5:$G$13"),2,0),"")
C23: =IFERROR(VLOOKUP(B23,INDIRECT(A23&"!$F$5:$G$13"),2,0),"") | F23: 上交款 | G23: =E15+E17+G15
C24: =IFERROR(VLOOKUP(B24,INDIRECT(A24&"!$F$5:$G$13"),2,0),"")
C25: =IFERROR(VLOOKUP(B25,INDIRECT(A25&"!$F$5:$G$13"),2,0),"")
C26: =IFERROR(VLOOKUP(B26,INDIRECT(A26&"!$F$5:$G$13"),2,0),"")
C27: =IFERROR(VLOOKUP(B27,INDIRECT(A27&"!$F$5:$G$13"),2,0),"")
C28: =IFERROR(VLOOKUP(B28,INDIRECT(A28&"!$F$5:$G$13"),2,0),"")
C29: =IFERROR(VLOOKUP(B29,INDIRECT(A29&"!$F$5:$G$13"),2,0),"")
C30: =IFERROR(VLOOKUP(B30,INDIRECT(A30&"!$F$5:$G$13"),2,0),"")
C31: =IFERROR(VLOOKUP(B31,INDIRECT(A31&"!$F$5:$G$13"),2,0),"")
C32: =IFERROR(VLOOKUP(B32,INDIRECT(A32&"!$F$5:$G$13"),2,0),"")
C33: =IFERROR(VLOOKUP(B33,INDIRECT(A33&"!$F$5:$G$13"),2,0),"")
C34: =IFERROR(VLOOKUP(B34,INDIRECT(A34&"!$F$5:$G$13"),2,0),"")
C35: =IFERROR(VLOOKUP(B35,INDIRECT(A35&"!$F$5:$G$13"),2,0),"")
... C260: =IFERROR(VLOOKUP(B260,INDIRECT(A260&"!$F$5:$G$13"),2,0),"")

Sheet 7日白
A1: 减账原因 | B1: 类目 | C1: 金额 | D1: 上班现金 | E1: ='6日夜'!G1 | F1: 下班现金 | H1: =人工!H3 | I1: 姓名01 | K1: =人工!I3 | L1: 姓名02 | N1: =人工!J3 | O1: 姓名03
C2: =IFERROR(VLOOKUP(B2,INDIRECT(A2&"!$F$5:$G$13"),2,0),"")
C3: =IFERROR(VLOOKUP(B3,INDIRECT(A3&"!$F$5:$G$13"),2,0),"") | D3: 上班微信 | E3: ='6日夜'!G3 | F3: 下班微信
C4: =IFERROR(VLOOKUP(B4,INDIRECT(A4&"!$F$5:$G$13"),2,0),"")
C5: =IFERROR(VLOOKUP(B5,INDIRECT(A5&"!$F$5:$G$13"),2,0),"")
C6: =IFERROR(VLOOKUP(B6,INDIRECT(A6&"!$F$5:$G$13"),2,0),"")
C7: =IFERROR(VLOOKUP(B7,INDIRECT(A7&"!$F$5:$G$13"),2,0),"") | D7: 上班支付宝 | E7: ='6日夜'!G7 | F7: 下班支付宝
C8: =IFERROR(VLOOKUP(B8,INDIRECT(A8&"!$F$5:$G$13"),2,0),"")
C9: =IFERROR(VLOOKUP(B9,INDIRECT(A9&"!$F$5:$G$13"),2,0),"") | D9: 抄表区 | Z9: =渠道01!F3
C10: =IFERROR(VLOOKUP(B10,INDIRECT(A10&"!$F$5:$G$13"),2,0),"") | Z10: =渠道02!F3
C11: =IFERROR(VLOOKUP(B11,INDIRECT(A11&"!$F$5:$G$13"),2,0),"") | D11: 本班网费 | F11: 商品 | H11: 美团数量 | I11: =COUNTIF(A2:A2000,Z9) | J11: 美团金额 | K11: =SUMIF($A$2:$A$2000,$Z$9,$C$2:$C$2000) | Z11: =渠道03!F3
C12: =IFERROR(VLOOKUP(B12,INDIRECT(A12&"!$F$5:$G$13"),2,0),"") | Z12: =渠道04!F3
C13: =IFERROR(VLOOKUP(B13,INDIRECT(A13&"!$F$5:$G$13"),2,0),"") | D13: 本班XY | F13: 减账合计 | G13: =SUM(C$2:C$2000) | H13: 抖音数量 | I13: =COUNTIF(A2:A2000,Z10) | J13: 抖音金额 | K13: =SUMIF($A$2:$A$2000,$Z$10,$C$2:$C$2000) | Z13: =渠道05!F3
C14: =IFERROR(VLOOKUP(B14,INDIRECT(A14&"!$F$5:$G$13"),2,0),"")
C15: =IFERROR(VLOOKUP(B15,INDIRECT(A15&"!$F$5:$G$13"),2,0),"") | D15: 本班微信 | E15: =G3-E3 | F15: 本班现金 | G15: =G1-E1 | H15: 人工数量 | I15: =COUNTIF(A2:A2000,Z11) | J15: 人工金额 | K15: =SUMIF($A$2:$A$2000,$Z$11,$C$2:$C$2000)
C16: =IFERROR(VLOOKUP(B16,INDIRECT(A16&"!$F$5:$G$13"),2,0),"")
C17: =IFERROR(VLOOKUP(B17,INDIRECT(A17&"!$F$5:$G$13"),2,0),"") | D17: 本班支付宝 | E17: =G7-E7 | F17: 差额 | G17: =((G13+E15+G15+E17)-(E11+E13+G11)) | H17: 瓶装水换购 | I17: =COUNTIF(A2:A2000,$Z$12) | J17: 瓶装水金额 | K17: =SUMIF($A$2:$A$2000,$Z$12,$C$2:$C$2000)
C18: =IFERROR(VLOOKUP(B18,INDIRECT(A18&"!$F$5:$G$13"),2,0),"")
C19: =IFERROR(VLOOKUP(B19,INDIRECT(A19&"!$F$5:$G$13"),2,0),"") | H19: 槟榔换购 | I19: =COUNTIF(A2:A2000,Z13) | J19: 槟榔金额 | K19: =SUMIF($A$2:$A$2000,$Z$13,$C$2:$C$2000)
C20: =IFERROR(VLOOKUP(B20,INDIRECT(A20&"!$F$5:$G$13"),2,0),"")
C21: =IFERROR(VLOOKUP(B21,INDIRECT(A21&"!$F$5:$G$13"),2,0),"")
C22: =IFERROR(VLOOKUP(B22,INDIRECT(A22&"!$F$5:$G$13"),2,0),"")
C23: =IFERROR(VLOOKUP(B23,INDIRECT(A23&"!$F$5:$G$13"),2,0),"") | F23: 上交款 | G23: =E15+E17+G15
C24: =IFERROR(VLOOKUP(B24,INDIRECT(A24&"!$F$5:$G$13"),2,0),"")
C25: =IFERROR(VLOOKUP(B25,INDIRECT(A25&"!$F$5:$G$13"),2,0),"")
C26: =IFERROR(VLOOKUP(B26,INDIRECT(A26&"!$F$5:$G$13"),2,0),"")
C27: =IFERROR(VLOOKUP(B27,INDIRECT(A27&"!$F$5:$G$13"),2,0),"")
C28: =IFERROR(VLOOKUP(B28,INDIRECT(A28&"!$F$5:$G$13"),2,0),"")
C29: =IFERROR(VLOOKUP(B29,INDIRECT(A29&"!$F$5:$G$13"),2,0),"")
C30: =IFERROR(VLOOKUP(B30,INDIRECT(A30&"!$F$5:$G$13"),2,0),"")
C31: =IFERROR(VLOOKUP(B31,INDIRECT(A31&"!$F$5:$G$13"),2,0),"")
C32: =IFERROR(VLOOKUP(B32,INDIRECT(A32&"!$F$5:$G$13"),2,0),"")
C33: =IFERROR(VLOOKUP(B33,INDIRECT(A33&"!$F$5:$G$13"),2,0),"")
C34: =IFERROR(VLOOKUP(B34,INDIRECT(A34&"!$F$5:$G$13"),2,0),"")
C35: =IFERROR(VLOOKUP(B35,INDIRECT(A35&"!$F$5:$G$13"),2,0),"")
... C260: =IFERROR(VLOOKUP(B260,INDIRECT(A260&"!$F$5:$G$13"),2,0),"")

Sheet 7日夜
A1: 减账原因 | B1: 类目 | C1: 金额 | D1: 上班现金 | E1: ='7日白'!G1 | F1: 下班现金 | H1: =人工!H3 | I1: 姓名01 | K1: =人工!I3 | L1: 姓名02 | N1: =人工!J3 | O1: 姓名03
C2: =IFERROR(VLOOKUP(B2,INDIRECT(A2&"!$F$5:$G$13"),2,0),"")
C3: =IFERROR(VLOOKUP(B3,INDIRECT(A3&"!$F$5:$G$13"),2,0),"") | D3: 上班微信 | E3: ='7日白'!G3 | F3: 下班微信
C4: =IFERROR(VLOOKUP(B4,INDIRECT(A4&"!$F$5:$G$13"),2,0),"")
C5: =IFERROR(VLOOKUP(B5,INDIRECT(A5&"!$F$5:$G$13"),2,0),"")
C6: =IFERROR(VLOOKUP(B6,INDIRECT(A6&"!$F$5:$G$13"),2,0),"")
C7: =IFERROR(VLOOKUP(B7,INDIRECT(A7&"!$F$5:$G$13"),2,0),"") | D7: 上班支付宝 | E7: ='7日白'!G7 | F7: 下班支付宝
C8: =IFERROR(VLOOKUP(B8,INDIRECT(A8&"!$F$5:$G$13"),2,0),"")
C9: =IFERROR(VLOOKUP(B9,INDIRECT(A9&"!$F$5:$G$13"),2,0),"") | D9: 抄表区 | Z9: =渠道01!F3
C10: =IFERROR(VLOOKUP(B10,INDIRECT(A10&"!$F$5:$G$13"),2,0),"") | Z10: =渠道02!F3
C11: =IFERROR(VLOOKUP(B11,INDIRECT(A11&"!$F$5:$G$13"),2,0),"") | D11: 本班网费 | F11: 商品 | H11: 美团数量 | I11: =COUNTIF(A2:A2000,Z9) | J11: 美团金额 | K11: =SUMIF($A$2:$A$2000,$Z$9,$C$2:$C$2000) | Z11: =渠道03!F3
C12: =IFERROR(VLOOKUP(B12,INDIRECT(A12&"!$F$5:$G$13"),2,0),"") | Z12: =渠道04!F3
C13: =IFERROR(VLOOKUP(B13,INDIRECT(A13&"!$F$5:$G$13"),2,0),"") | D13: 本班XY | F13: 减账合计 | G13: =SUM(C$2:C$2000) | H13: 抖音数量 | I13: =COUNTIF(A2:A2000,Z10) | J13: 抖音金额 | K13: =SUMIF($A$2:$A$2000,$Z$10,$C$2:$C$2000) | Z13: =渠道05!F3
C14: =IFERROR(VLOOKUP(B14,INDIRECT(A14&"!$F$5:$G$13"),2,0),"")
C15: =IFERROR(VLOOKUP(B15,INDIRECT(A15&"!$F$5:$G$13"),2,0),"") | D15: 本班微信 | E15: =G3-E3 | F15: 本班现金 | G15: =G1-E1 | H15: 人工数量 | I15: =COUNTIF(A2:A2000,Z11) | J15: 人工金额 | K15: =SUMIF($A$2:$A$2000,$Z$11,$C$2:$C$2000)
C16: =IFERROR(VLOOKUP(B16,INDIRECT(A16&"!$F$5:$G$13"),2,0),"")
C17: =IFERROR(VLOOKUP(B17,INDIRECT(A17&"!$F$5:$G$13"),2,0),"") | D17: 本班支付宝 | E17: =G7-E7 | F17: 差额 | G17: =((G13+E15+G15+E17)-(E11+E13+G11)) | H17: 瓶装水换购 | I17: =COUNTIF(A2:A2000,$Z$12) | J17: 瓶装水金额 | K17: =SUMIF($A$2:$A$2000,$Z$12,$C$2:$C$2000)
C18: =IFERROR(VLOOKUP(B18,INDIRECT(A18&"!$F$5:$G$13"),2,0),"")
C19: =IFERROR(VLOOKUP(B19,INDIRECT(A19&"!$F$5:$G$13"),2,0),"") | H19: 槟榔换购 | I19: =COUNTIF(A2:A2000,Z13) | J19: 槟榔金额 | K19: =SUMIF($A$2:$A$2000,$Z$13,$C$2:$C$2000)
C20: =IFERROR(VLOOKUP(B20,INDIRECT(A20&"!$F$5:$G$13"),2,0),"")
C21: =IFERROR(VLOOKUP(B21,INDIRECT(A21&"!$F$5:$G$13"),2,0),"")
C22: =IFERROR(VLOOKUP(B22,INDIRECT(A22&"!$F$5:$G$13"),2,0),"")
C23: =IFERROR(VLOOKUP(B23,INDIRECT(A23&"!$F$5:$G$13"),2,0),"") | F23: 上交款 | G23: =E15+E17+G15
C24: =IFERROR(VLOOKUP(B24,INDIRECT(A24&"!$F$5:$G$13"),2,0),"")
C25: =IFERROR(VLOOKUP(B25,INDIRECT(A25&"!$F$5:$G$13"),2,0),"")
C26: =IFERROR(VLOOKUP(B26,INDIRECT(A26&"!$F$5:$G$13"),2,0),"")
C27: =IFERROR(VLOOKUP(B27,INDIRECT(A27&"!$F$5:$G$13"),2,0),"")
C28: =IFERROR(VLOOKUP(B28,INDIRECT(A28&"!$F$5:$G$13"),2,0),"")
C29: =IFERROR(VLOOKUP(B29,INDIRECT(A29&"!$F$5:$G$13"),2,0),"")
C30: =IFERROR(VLOOKUP(B30,INDIRECT(A30&"!$F$5:$G$13"),2,0),"")
C31: =IFERROR(VLOOKUP(B31,INDIRECT(A31&"!$F$5:$G$13"),2,0),"")
C32: =IFERROR(VLOOKUP(B32,INDIRECT(A32&"!$F$5:$G$13"),2,0),"")
C33: =IFERROR(VLOOKUP(B33,INDIRECT(A33&"!$F$5:$G$13"),2,0),"")
C34: =IFERROR(VLOOKUP(B34,INDIRECT(A34&"!$F$5:$G$13"),2,0),"")
C35: =IFERROR(VLOOKUP(B35,INDIRECT(A35&"!$F$5:$G$13"),2,0),"")
... C260: =IFERROR(VLOOKUP(B260,INDIRECT(A260&"!$F$5:$G$13"),2,0),"")

Sheet 8日白
A1: 减账原因 | B1: 类目 | C1: 金额 | D1: 上班现金 | E1: ='7日夜'!G1 | F1: 下班现金 | H1: =人工!H3 | I1: 姓名01 | K1: =人工!I3 | L1: 姓名02 | N1: =人工!J3 | O1: 姓名03
C2: =IFERROR(VLOOKUP(B2,INDIRECT(A2&"!$F$5:$G$13"),2,0),"")
C3: =IFERROR(VLOOKUP(B3,INDIRECT(A3&"!$F$5:$G$13"),2,0),"") | D3: 上班微信 | E3: ='7日夜'!G3 | F3: 下班微信
C4: =IFERROR(VLOOKUP(B4,INDIRECT(A4&"!$F$5:$G$13"),2,0),"")
C5: =IFERROR(VLOOKUP(B5,INDIRECT(A5&"!$F$5:$G$13"),2,0),"")
C6: =IFERROR(VLOOKUP(B6,INDIRECT(A6&"!$F$5:$G$13"),2,0),"")
C7: =IFERROR(VLOOKUP(B7,INDIRECT(A7&"!$F$5:$G$13"),2,0),"") | D7: 上班支付宝 | E7: ='7日夜'!G7 | F7: 下班支付宝
C8: =IFERROR(VLOOKUP(B8,INDIRECT(A8&"!$F$5:$G$13"),2,0),"")
C9: =IFERROR(VLOOKUP(B9,INDIRECT(A9&"!$F$5:$G$13"),2,0),"") | D9: 抄表区 | Z9: =渠道01!F3
C10: =IFERROR(VLOOKUP(B10,INDIRECT(A10&"!$F$5:$G$13"),2,0),"") | Z10: =渠道02!F3
C11: =IFERROR(VLOOKUP(B11,INDIRECT(A11&"!$F$5:$G$13"),2,0),"") | D11: 本班网费 | F11: 商品 | H11: 美团数量 | I11: =COUNTIF(A2:A2000,Z9) | J11: 美团金额 | K11: =SUMIF($A$2:$A$2000,$Z$9,$C$2:$C$2000) | Z11: =渠道03!F3
C12: =IFERROR(VLOOKUP(B12,INDIRECT(A12&"!$F$5:$G$13"),2,0),"") | Z12: =渠道04!F3
C13: =IFERROR(VLOOKUP(B13,INDIRECT(A13&"!$F$5:$G$13"),2,0),"") | D13: 本班XY | F13: 减账合计 | G13: =SUM(C$2:C$2000) | H13: 抖音数量 | I13: =COUNTIF(A2:A2000,Z10) | J13: 抖音金额 | K13: =SUMIF($A$2:$A$2000,$Z$10,$C$2:$C$2000) | Z13: =渠道05!F3
C14: =IFERROR(VLOOKUP(B14,INDIRECT(A14&"!$F$5:$G$13"),2,0),"")
C15: =IFERROR(VLOOKUP(B15,INDIRECT(A15&"!$F$5:$G$13"),2,0),"") | D15: 本班微信 | E15: =G3-E3 | F15: 本班现金 | G15: =G1-E1 | H15: 人工数量 | I15: =COUNTIF(A2:A2000,Z11) | J15: 人工金额 | K15: =SUMIF($A$2:$A$2000,$Z$11,$C$2:$C$2000)
C16: =IFERROR(VLOOKUP(B16,INDIRECT(A16&"!$F$5:$G$13"),2,0),"")
C17: =IFERROR(VLOOKUP(B17,INDIRECT(A17&"!$F$5:$G$13"),2,0),"") | D17: 本班支付宝 | E17: =G7-E7 | F17: 差额 | G17: =((G13+E15+G15+E17)-(E11+E13+G11)) | H17: 瓶装水换购 | I17: =COUNTIF(A2:A2000,$Z$12) | J17: 瓶装水金额 | K17: =SUMIF($A$2:$A$2000,$Z$12,$C$2:$C$2000)
C18: =IFERROR(VLOOKUP(B18,INDIRECT(A18&"!$F$5:$G$13"),2,0),"")
C19: =IFERROR(VLOOKUP(B19,INDIRECT(A19&"!$F$5:$G$13"),2,0),"") | H19: 槟榔换购 | I19: =COUNTIF(A2:A2000,Z13) | J19: 槟榔金额 | K19: =SUMIF($A$2:$A$2000,$Z$13,$C$2:$C$2000)
C20: =IFERROR(VLOOKUP(B20,INDIRECT(A20&"!$F$5:$G$13"),2,0),"")
C21: =IFERROR(VLOOKUP(B21,INDIRECT(A21&"!$F$5:$G$13"),2,0),"")
C22: =IFERROR(VLOOKUP(B22,INDIRECT(A22&"!$F$5:$G$13"),2,0),"")
C23: =IFERROR(VLOOKUP(B23,INDIRECT(A23&"!$F$5:$G$13"),2,0),"") | F23: 上交款 | G23: =E15+E17+G15
C24: =IFERROR(VLOOKUP(B24,INDIRECT(A24&"!$F$5:$G$13"),2,0),"")
C25: =IFERROR(VLOOKUP(B25,INDIRECT(A25&"!$F$5:$G$13"),2,0),"")
C26: =IFERROR(VLOOKUP(B26,INDIRECT(A26&"!$F$5:$G$13"),2,0),"")
C27: =IFERROR(VLOOKUP(B27,INDIRECT(A27&"!$F$5:$G$13"),2,0),"")
C28: =IFERROR(VLOOKUP(B28,INDIRECT(A28&"!$F$5:$G$13"),2,0),"")
C29: =IFERROR(VLOOKUP(B29,INDIRECT(A29&"!$F$5:$G$13"),2,0),"")
C30: =IFERROR(VLOOKUP(B30,INDIRECT(A30&"!$F$5:$G$13"),2,0),"")
C31: =IFERROR(VLOOKUP(B31,INDIRECT(A31&"!$F$5:$G$13"),2,0),"")
C32: =IFERROR(VLOOKUP(B32,INDIRECT(A32&"!$F$5:$G$13"),2,0),"")
C33: =IFERROR(VLOOKUP(B33,INDIRECT(A33&"!$F$5:$G$13"),2,0),"")
C34: =IFERROR(VLOOKUP(B34,INDIRECT(A34&"!$F$5:$G$13"),2,0),"")
C35: =IFERROR(VLOOKUP(B35,INDIRECT(A35&"!$F$5:$G$13"),2,0),"")
... C260: =IFERROR(VLOOKUP(B260,INDIRECT(A260&"!$F$5:$G$13"),2,0),"")

Sheet 8日夜
A1: 减账原因 | B1: 类目 | C1: 金额 | D1: 上班现金 | E1: ='8日白'!G1 | F1: 下班现金 | H1: =人工!H3 | I1: 姓名01 | K1: =人工!I3 | L1: 姓名02 | N1: =人工!J3 | O1: 姓名03
C2: =IFERROR(VLOOKUP(B2,INDIRECT(A2&"!$F$5:$G$13"),2,0),"")
C3: =IFERROR(VLOOKUP(B3,INDIRECT(A3&"!$F$5:$G$13"),2,0),"") | D3: 上班微信 | E3: ='8日白'!G3 | F3: 下班微信
C4: =IFERROR(VLOOKUP(B4,INDIRECT(A4&"!$F$5:$G$13"),2,0),"")
C5: =IFERROR(VLOOKUP(B5,INDIRECT(A5&"!$F$5:$G$13"),2,0),"")
C6: =IFERROR(VLOOKUP(B6,INDIRECT(A6&"!$F$5:$G$13"),2,0),"")
C7: =IFERROR(VLOOKUP(B7,INDIRECT(A7&"!$F$5:$G$13"),2,0),"") | D7: 上班支付宝 | E7: ='8日白'!G7 | F7: 下班支付宝
C8: =IFERROR(VLOOKUP(B8,INDIRECT(A8&"!$F$5:$G$13"),2,0),"")
C9: =IFERROR(VLOOKUP(B9,INDIRECT(A9&"!$F$5:$G$13"),2,0),"") | D9: 抄表区 | Z9: =渠道01!F3
C10: =IFERROR(VLOOKUP(B10,INDIRECT(A10&"!$F$5:$G$13"),2,0),"") | Z10: =渠道02!F3
C11: =IFERROR(VLOOKUP(B11,INDIRECT(A11&"!$F$5:$G$13"),2,0),"") | D11: 本班网费 | F11: 商品 | H11: 美团数量 | I11: =COUNTIF(A2:A2000,Z9) | J11: 美团金额 | K11: =SUMIF($A$2:$A$2000,$Z$9,$C$2:$C$2000) | Z11: =渠道03!F3
C12: =IFERROR(VLOOKUP(B12,INDIRECT(A12&"!$F$5:$G$13"),2,0),"") | Z12: =渠道04!F3
C13: =IFERROR(VLOOKUP(B13,INDIRECT(A13&"!$F$5:$G$13"),2,0),"") | D13: 本班XY | F13: 减账合计 | G13: =SUM(C$2:C$2000) | H13: 抖音数量 | I13: =COUNTIF(A2:A2000,Z10) | J13: 抖音金额 | K13: =SUMIF($A$2:$A$2000,$Z$10,$C$2:$C$2000) | Z13: =渠道05!F3
C14: =IFERROR(VLOOKUP(B14,INDIRECT(A14&"!$F$5:$G$13"),2,0),"")
C15: =IFERROR(VLOOKUP(B15,INDIRECT(A15&"!$F$5:$G$13"),2,0),"") | D15: 本班微信 | E15: =G3-E3 | F15: 本班现金 | G15: =G1-E1 | H15: 人工数量 | I15: =COUNTIF(A2:A2000,Z11) | J15: 人工金额 | K15: =SUMIF($A$2:$A$2000,$Z$11,$C$2:$C$2000)
C16: =IFERROR(VLOOKUP(B16,INDIRECT(A16&"!$F$5:$G$13"),2,0),"")
C17: =IFERROR(VLOOKUP(B17,INDIRECT(A17&"!$F$5:$G$13"),2,0),"") | D17: 本班支付宝 | E17: =G7-E7 | F17: 差额 | G17: =((G13+E15+G15+E17)-(E11+E13+G11)) | H17: 瓶装水换购 | I17: =COUNTIF(A2:A2000,$Z$12) | J17: 瓶装水金额 | K17: =SUMIF($A$2:$A$2000,$Z$12,$C$2:$C$2000)
C18: =IFERROR(VLOOKUP(B18,INDIRECT(A18&"!$F$5:$G$13"),2,0),"")
C19: =IFERROR(VLOOKUP(B19,INDIRECT(A19&"!$F$5:$G$13"),2,0),"") | H19: 槟榔换购 | I19: =COUNTIF(A2:A2000,Z13) | J19: 槟榔金额 | K19: =SUMIF($A$2:$A$2000,$Z$13,$C$2:$C$2000)
C20: =IFERROR(VLOOKUP(B20,INDIRECT(A20&"!$F$5:$G$13"),2,0),"")
C21: =IFERROR(VLOOKUP(B21,INDIRECT(A21&"!$F$5:$G$13"),2,0),"")
C22: =IFERROR(VLOOKUP(B22,INDIRECT(A22&"!$F$5:$G$13"),2,0),"")
C23: =IFERROR(VLOOKUP(B23,INDIRECT(A23&"!$F$5:$G$13"),2,0),"") | F23: 上交款 | G23: =E15+E17+G15
C24: =IFERROR(VLOOKUP(B24,INDIRECT(A24&"!$F$5:$G$13"),2,0),"")
C25: =IFERROR(VLOOKUP(B25,INDIRECT(A25&"!$F$5:$G$13"),2,0),"")
C26: =IFERROR(VLOOKUP(B26,INDIRECT(A26&"!$F$5:$G$13"),2,0),"")
C27: =IFERROR(VLOOKUP(B27,INDIRECT(A27&"!$F$5:$G$13"),2,0),"")
C28: =IFERROR(VLOOKUP(B28,INDIRECT(A28&"!$F$5:$G$13"),2,0),"")
C29: =IFERROR(VLOOKUP(B29,INDIRECT(A29&"!$F$5:$G$13"),2,0),"")
C30: =IFERROR(VLOOKUP(B30,INDIRECT(A30&"!$F$5:$G$13"),2,0),"")
C31: =IFERROR(VLOOKUP(B31,INDIRECT(A31&"!$F$5:$G$13"),2,0),"")
C32: =IFERROR(VLOOKUP(B32,INDIRECT(A32&"!$F$5:$G$13"),2,0),"")
C33: =IFERROR(VLOOKUP(B33,INDIRECT(A33&"!$F$5:$G$13"),2,0),"")
C34: =IFERROR(VLOOKUP(B34,INDIRECT(A34&"!$F$5:$G$13"),2,0),"")
C35: =IFERROR(VLOOKUP(B35,INDIRECT(A35&"!$F$5:$G$13"),2,0),"")
... C260: =IFERROR(VLOOKUP(B260,INDIRECT(A260&"!$F$5:$G$13"),2,0),"")

Sheet 9日白
A1: 减账原因 | B1: 类目 | C1: 金额 | D1: 上班现金 | E1: ='8日夜'!G1 | F1: 下班现金 | H1: =人工!H3 | I1: 姓名01 | K1: =人工!I3 | L1: 姓名02 | N1: =人工!J3 | O1: 姓名03
C2: =IFERROR(VLOOKUP(B2,INDIRECT(A2&"!$F$5:$G$13"),2,0),"")
C3: =IFERROR(VLOOKUP(B3,INDIRECT(A3&"!$F$5:$G$13"),2,0),"") | D3: 上班微信 | E3: ='8日夜'!G3 | F3: 下班微信
C4: =IFERROR(VLOOKUP(B4,INDIRECT(A4&"!$F$5:$G$13"),2,0),"")
C5: =IFERROR(VLOOKUP(B5,INDIRECT(A5&"!$F$5:$G$13"),2,0),"")
C6: =IFERROR(VLOOKUP(B6,INDIRECT(A6&"!$F$5:$G$13"),2,0),"")
C7: =IFERROR(VLOOKUP(B7,INDIRECT(A7&"!$F$5:$G$13"),2,0),"") | D7: 上班支付宝 | E7: ='8日夜'!G7 | F7: 下班支付宝
C8: =IFERROR(VLOOKUP(B8,INDIRECT(A8&"!$F$5:$G$13"),2,0),"")
C9: =IFERROR(VLOOKUP(B9,INDIRECT(A9&"!$F$5:$G$13"),2,0),"") | D9: 抄表区 | Z9: =渠道01!F3
C10: =IFERROR(VLOOKUP(B10,INDIRECT(A10&"!$F$5:$G$13"),2,0),"") | Z10: =渠道02!F3
C11: =IFERROR(VLOOKUP(B11,INDIRECT(A11&"!$F$5:$G$13"),2,0),"") | D11: 本班网费 | F11: 商品 | H11: 美团数量 | I11: =COUNTIF(A2:A2000,Z9) | J11: 美团金额 | K11: =SUMIF($A$2:$A$2000,$Z$9,$C$2:$C$2000) | Z11: =渠道03!F3
C12: =IFERROR(VLOOKUP(B12,INDIRECT(A12&"!$F$5:$G$13"),2,0),"") | Z12: =渠道04!F3
C13: =IFERROR(VLOOKUP(B13,INDIRECT(A13&"!$F$5:$G$13"),2,0),"") | D13: 本班XY | F13: 减账合计 | G13: =SUM(C$2:C$2000) | H13: 抖音数量 | I13: =COUNTIF(A2:A2000,Z10) | J13: 抖音金额 | K13: =SUMIF($A$2:$A$2000,$Z$10,$C$2:$C$2000) | Z13: =渠道05!F3
C14: =IFERROR(VLOOKUP(B14,INDIRECT(A14&"!$F$5:$G$13"),2,0),"")
C15: =IFERROR(VLOOKUP(B15,INDIRECT(A15&"!$F$5:$G$13"),2,0),"") | D15: 本班微信 | E15: =G3-E3 | F15: 本班现金 | G15: =G1-E1 | H15: 人工数量 | I15: =COUNTIF(A2:A2000,Z11) | J15: 人工金额 | K15: =SUMIF($A$2:$A$2000,$Z$11,$C$2:$C$2000)
C16: =IFERROR(VLOOKUP(B16,INDIRECT(A16&"!$F$5:$G$13"),2,0),"")
C17: =IFERROR(VLOOKUP(B17,INDIRECT(A17&"!$F$5:$G$13"),2,0),"") | D17: 本班支付宝 | E17: =G7-E7 | F17: 差额 | G17: =((G13+E15+G15+E17)-(E11+E13+G11)) | H17: 瓶装水换购 | I17: =COUNTIF(A2:A2000,$Z$12) | J17: 瓶装水金额 | K17: =SUMIF($A$2:$A$2000,$Z$12,$C$2:$C$2000)
C18: =IFERROR(VLOOKUP(B18,INDIRECT(A18&"!$F$5:$G$13"),2,0),"")
C19: =IFERROR(VLOOKUP(B19,INDIRECT(A19&"!$F$5:$G$13"),2,0),"") | H19: 槟榔换购 | I19: =COUNTIF(A2:A2000,Z13) | J19: 槟榔金额 | K19: =SUMIF($A$2:$A$2000,$Z$13,$C$2:$C$2000)
C20: =IFERROR(VLOOKUP(B20,INDIRECT(A20&"!$F$5:$G$13"),2,0),"")
C21: =IFERROR(VLOOKUP(B21,INDIRECT(A21&"!$F$5:$G$13"),2,0),"")
C22: =IFERROR(VLOOKUP(B22,INDIRECT(A22&"!$F$5:$G$13"),2,0),"")
C23: =IFERROR(VLOOKUP(B23,INDIRECT(A23&"!$F$5:$G$13"),2,0),"") | F23: 上交款 | G23: =E15+E17+G15
C24: =IFERROR(VLOOKUP(B24,INDIRECT(A24&"!$F$5:$G$13"),2,0),"")
C25: =IFERROR(VLOOKUP(B25,INDIRECT(A25&"!$F$5:$G$13"),2,0),"")
C26: =IFERROR(VLOOKUP(B26,INDIRECT(A26&"!$F$5:$G$13"),2,0),"")
C27: =IFERROR(VLOOKUP(B27,INDIRECT(A27&"!$F$5:$G$13"),2,0),"")
C28: =IFERROR(VLOOKUP(B28,INDIRECT(A28&"!$F$5:$G$13"),2,0),"")
C29: =IFERROR(VLOOKUP(B29,INDIRECT(A29&"!$F$5:$G$13"),2,0),"")
C30: =IFERROR(VLOOKUP(B30,INDIRECT(A30&"!$F$5:$G$13"),2,0),"")
C31: =IFERROR(VLOOKUP(B31,INDIRECT(A31&"!$F$5:$G$13"),2,0),"")
C32: =IFERROR(VLOOKUP(B32,INDIRECT(A32&"!$F$5:$G$13"),2,0),"")
C33: =IFERROR(VLOOKUP(B33,INDIRECT(A33&"!$F$5:$G$13"),2,0),"")
C34: =IFERROR(VLOOKUP(B34,INDIRECT(A34&"!$F$5:$G$13"),2,0),"")
C35: =IFERROR(VLOOKUP(B35,INDIRECT(A35&"!$F$5:$G$13"),2,0),"")
... C260: =IFERROR(VLOOKUP(B260,INDIRECT(A260&"!$F$5:$G$13"),2,0),"")

Sheet 9日夜
A1: 减账原因 | B1: 类目 | C1: 金额 | D1: 上班现金 | E1: ='9日白'!G1 | F1: 下班现金 | H1: =人工!H3 | I1: 姓名01 | K1: =人工!I3 | L1: 姓名02 | N1: =人工!J3 | O1: 姓名03
C2: =IFERROR(VLOOKUP(B2,INDIRECT(A2&"!$F$5:$G$13"),2,0),"")
C3: =IFERROR(VLOOKUP(B3,INDIRECT(A3&"!$F$5:$G$13"),2,0),"") | D3: 上班微信 | E3: ='9日白'!G3 | F3: 下班微信
C4: =IFERROR(VLOOKUP(B4,INDIRECT(A4&"!$F$5:$G$13"),2,0),"")
C5: =IFERROR(VLOOKUP(B5,INDIRECT(A5&"!$F$5:$G$13"),2,0),"")
C6: =IFERROR(VLOOKUP(B6,INDIRECT(A6&"!$F$5:$G$13"),2,0),"")
C7: =IFERROR(VLOOKUP(B7,INDIRECT(A7&"!$F$5:$G$13"),2,0),"") | D7: 上班支付宝 | E7: ='9日白'!G7 | F7: 下班支付宝
C8: =IFERROR(VLOOKUP(B8,INDIRECT(A8&"!$F$5:$G$13"),2,0),"")
C9: =IFERROR(VLOOKUP(B9,INDIRECT(A9&"!$F$5:$G$13"),2,0),"") | D9: 抄表区 | Z9: =渠道01!F3
C10: =IFERROR(VLOOKUP(B10,INDIRECT(A10&"!$F$5:$G$13"),2,0),"") | Z10: =渠道02!F3
C11: =IFERROR(VLOOKUP(B11,INDIRECT(A11&"!$F$5:$G$13"),2,0),"") | D11: 本班网费 | F11: 商品 | H11: 美团数量 | I11: =COUNTIF(A2:A2000,Z9) | J11: 美团金额 | K11: =SUMIF($A$2:$A$2000,$Z$9,$C$2:$C$2000) | Z11: =渠道03!F3
C12: =IFERROR(VLOOKUP(B12,INDIRECT(A12&"!$F$5:$G$13"),2,0),"") | Z12: =渠道04!F3
C13: =IFERROR(VLOOKUP(B13,INDIRECT(A13&"!$F$5:$G$13"),2,0),"") | D13: 本班XY | F13: 减账合计 | G13: =SUM(C$2:C$2000) | H13: 抖音数量 | I13: =COUNTIF(A2:A2000,Z10) | J13: 抖音金额 | K13: =SUMIF($A$2:$A$2000,$Z$10,$C$2:$C$2000) | Z13: =渠道05!F3
C14: =IFERROR(VLOOKUP(B14,INDIRECT(A14&"!$F$5:$G$13"),2,0),"")
C15: =IFERROR(VLOOKUP(B15,INDIRECT(A15&"!$F$5:$G$13"),2,0),"") | D15: 本班微信 | E15: =G3-E3 | F15: 本班现金 | G15: =G1-E1 | H15: 人工数量 | I15: =COUNTIF(A2:A2000,Z11) | J15: 人工金额 | K15: =SUMIF($A$2:$A$2000,$Z$11,$C$2:$C$2000)
C16: =IFERROR(VLOOKUP(B16,INDIRECT(A16&"!$F$5:$G$13"),2,0),"")
C17: =IFERROR(VLOOKUP(B17,INDIRECT(A17&"!$F$5:$G$13"),2,0),"") | D17: 本班支付宝 | E17: =G7-E7 | F17: 差额 | G17: =((G13+E15+G15+E17)-(E11+E13+G11)) | H17: 瓶装水换购 | I17: =COUNTIF(A2:A2000,$Z$12) | J17: 瓶装水金额 | K17: =SUMIF($A$2:$A$2000,$Z$12,$C$2:$C$2000)
C18: =IFERROR(VLOOKUP(B18,INDIRECT(A18&"!$F$5:$G$13"),2,0),"")
C19: =IFERROR(VLOOKUP(B19,INDIRECT(A19&"!$F$5:$G$13"),2,0),"") | H19: 槟榔换购 | I19: =COUNTIF(A2:A2000,Z13) | J19: 槟榔金额 | K19: =SUMIF($A$2:$A$2000,$Z$13,$C$2:$C$2000)
C20: =IFERROR(VLOOKUP(B20,INDIRECT(A20&"!$F$5:$G$13"),2,0),"")
C21: =IFERROR(VLOOKUP(B21,INDIRECT(A21&"!$F$5:$G$13"),2,0),"")
C22: =IFERROR(VLOOKUP(B22,INDIRECT(A22&"!$F$5:$G$13"),2,0),"")
C23: =IFERROR(VLOOKUP(B23,INDIRECT(A23&"!$F$5:$G$13"),2,0),"") | F23: 上交款 | G23: =E15+E17+G15
C24: =IFERROR(VLOOKUP(B24,INDIRECT(A24&"!$F$5:$G$13"),2,0),"")
C25: =IFERROR(VLOOKUP(B25,INDIRECT(A25&"!$F$5:$G$13"),2,0),"")
C26: =IFERROR(VLOOKUP(B26,INDIRECT(A26&"!$F$5:$G$13"),2,0),"")
C27: =IFERROR(VLOOKUP(B27,INDIRECT(A27&"!$F$5:$G$13"),2,0),"")
C28: =IFERROR(VLOOKUP(B28,INDIRECT(A28&"!$F$5:$G$13"),2,0),"")
C29: =IFERROR(VLOOKUP(B29,INDIRECT(A29&"!$F$5:$G$13"),2,0),"")
C30: =IFERROR(VLOOKUP(B30,INDIRECT(A30&"!$F$5:$G$13"),2,0),"")
C31: =IFERROR(VLOOKUP(B31,INDIRECT(A31&"!$F$5:$G$13"),2,0),"")
C32: =IFERROR(VLOOKUP(B32,INDIRECT(A32&"!$F$5:$G$13"),2,0),"")
C33: =IFERROR(VLOOKUP(B33,INDIRECT(A33&"!$F$5:$G$13"),2,0),"")
C34: =IFERROR(VLOOKUP(B34,INDIRECT(A34&"!$F$5:$G$13"),2,0),"")
C35: =IFERROR(VLOOKUP(B35,INDIRECT(A35&"!$F$5:$G$13"),2,0),"")
... C260: =IFERROR(VLOOKUP(B260,INDIRECT(A260&"!$F$5:$G$13"),2,0),"")

Sheet 10日白
A1: 减账原因 | B1: 类目 | C1: 金额 | D1: 上班现金 | E1: ='9日夜'!G1 | F1: 下班现金 | H1: =人工!H3 | I1: 姓名01 | K1: =人工!I3 | L1: 姓名02 | N1: =人工!J3 | O1: 姓名03
C2: =IFERROR(VLOOKUP(B2,INDIRECT(A2&"!$F$5:$G$13"),2,0),"")
C3: =IFERROR(VLOOKUP(B3,INDIRECT(A3&"!$F$5:$G$13"),2,0),"") | D3: 上班微信 | E3: ='9日夜'!G3 | F3: 下班微信
C4: =IFERROR(VLOOKUP(B4,INDIRECT(A4&"!$F$5:$G$13"),2,0),"")
C5: =IFERROR(VLOOKUP(B5,INDIRECT(A5&"!$F$5:$G$13"),2,0),"")
C6: =IFERROR(VLOOKUP(B6,INDIRECT(A6&"!$F$5:$G$13"),2,0),"")
C7: =IFERROR(VLOOKUP(B7,INDIRECT(A7&"!$F$5:$G$13"),2,0),"") | D7: 上班支付宝 | E7: ='9日夜'!G7 | F7: 下班支付宝
C8: =IFERROR(VLOOKUP(B8,INDIRECT(A8&"!$F$5:$G$13"),2,0),"")
C9: =IFERROR(VLOOKUP(B9,INDIRECT(A9&"!$F$5:$G$13"),2,0),"") | D9: 抄表区 | Z9: =渠道01!F3
C10: =IFERROR(VLOOKUP(B10,INDIRECT(A10&"!$F$5:$G$13"),2,0),"") | Z10: =渠道02!F3
C11: =IFERROR(VLOOKUP(B11,INDIRECT(A11&"!$F$5:$G$13"),2,0),"") | D11: 本班网费 | F11: 商品 | H11: 美团数量 | I11: =COUNTIF(A2:A2000,Z9) | J11: 美团金额 | K11: =SUMIF($A$2:$A$2000,$Z$9,$C$2:$C$2000) | Z11: =渠道03!F3
C12: =IFERROR(VLOOKUP(B12,INDIRECT(A12&"!$F$5:$G$13"),2,0),"") | Z12: =渠道04!F3
C13: =IFERROR(VLOOKUP(B13,INDIRECT(A13&"!$F$5:$G$13"),2,0),"") | D13: 本班XY | F13: 减账合计 | G13: =SUM(C$2:C$2000) | H13: 抖音数量 | I13: =COUNTIF(A2:A2000,Z10) | J13: 抖音金额 | K13: =SUMIF($A$2:$A$2000,$Z$10,$C$2:$C$2000) | Z13: =渠道05!F3
C14: =IFERROR(VLOOKUP(B14,INDIRECT(A14&"!$F$5:$G$13"),2,0),"")
C15: =IFERROR(VLOOKUP(B15,INDIRECT(A15&"!$F$5:$G$13"),2,0),"") | D15: 本班微信 | E15: =G3-E3 | F15: 本班现金 | G15: =G1-E1 | H15: 人工数量 | I15: =COUNTIF(A2:A2000,Z11) | J15: 人工金额 | K15: =SUMIF($A$2:$A$2000,$Z$11,$C$2:$C$2000)
C16: =IFERROR(VLOOKUP(B16,INDIRECT(A16&"!$F$5:$G$13"),2,0),"")
C17: =IFERROR(VLOOKUP(B17,INDIRECT(A17&"!$F$5:$G$13"),2,0),"") | D17: 本班支付宝 | E17: =G7-E7 | F17: 差额 | G17: =((G13+E15+G15+E17)-(E11+E13+G11)) | H17: 瓶装水换购 | I17: =COUNTIF(A2:A2000,$Z$12) | J17: 瓶装水金额 | K17: =SUMIF($A$2:$A$2000,$Z$12,$C$2:$C$2000)
C18: =IFERROR(VLOOKUP(B18,INDIRECT(A18&"!$F$5:$G$13"),2,0),"")
C19: =IFERROR(VLOOKUP(B19,INDIRECT(A19&"!$F$5:$G$13"),2,0),"") | H19: 槟榔换购 | I19: =COUNTIF(A2:A2000,Z13) | J19: 槟榔金额 | K19: =SUMIF($A$2:$A$2000,$Z$13,$C$2:$C$2000)
C20: =IFERROR(VLOOKUP(B20,INDIRECT(A20&"!$F$5:$G$13"),2,0),"")
C21: =IFERROR(VLOOKUP(B21,INDIRECT(A21&"!$F$5:$G$13"),2,0),"")
C22: =IFERROR(VLOOKUP(B22,INDIRECT(A22&"!$F$5:$G$13"),2,0),"")
C23: =IFERROR(VLOOKUP(B23,INDIRECT(A23&"!$F$5:$G$13"),2,0),"") | F23: 上交款 | G23: =E15+E17+G15
C24: =IFERROR(VLOOKUP(B24,INDIRECT(A24&"!$F$5:$G$13"),2,0),"")
C25: =IFERROR(VLOOKUP(B25,INDIRECT(A25&"!$F$5:$G$13"),2,0),"")
C26: =IFERROR(VLOOKUP(B26,INDIRECT(A26&"!$F$5:$G$13"),2,0),"")
C27: =IFERROR(VLOOKUP(B27,INDIRECT(A27&"!$F$5:$G$13"),2,0),"")
C28: =IFERROR(VLOOKUP(B28,INDIRECT(A28&"!$F$5:$G$13"),2,0),"")
C29: =IFERROR(VLOOKUP(B29,INDIRECT(A29&"!$F$5:$G$13"),2,0),"")
C30: =IFERROR(VLOOKUP(B30,INDIRECT(A30&"!$F$5:$G$13"),2,0),"")
C31: =IFERROR(VLOOKUP(B31,INDIRECT(A31&"!$F$5:$G$13"),2,0),"")
C32: =IFERROR(VLOOKUP(B32,INDIRECT(A32&"!$F$5:$G$13"),2,0),"")
C33: =IFERROR(VLOOKUP(B33,INDIRECT(A33&"!$F$5:$G$13"),2,0),"")
C34: =IFERROR(VLOOKUP(B34,INDIRECT(A34&"!$F$5:$G$13"),2,0),"")
C35: =IFERROR(VLOOKUP(B35,INDIRECT(A35&"!$F$5:$G$13"),2,0),"")
... C260: =IFERROR(VLOOKUP(B260,INDIRECT(A260&"!$F$5:$G$13"),2,0),"")

Sheet 10日夜
A1: 减账原因 | B1: 类目 | C1: 金额 | D1: 上班现金 | E1: ='10日白'!G1 | F1: 下班现金 | H1: =人工!H3 | I1: 姓名01 | K1: =人工!I3 | L1: 姓名02 | N1: =人工!J3 | O1: 姓名03
C2: =IFERROR(VLOOKUP(B2,INDIRECT(A2&"!$F$5:$G$13"),2,0),"")
C3: =IFERROR(VLOOKUP(B3,INDIRECT(A3&"!$F$5:$G$13"),2,0),"") | D3: 上班微信 | E3: ='10日白'!G3 | F3: 下班微信
C4: =IFERROR(VLOOKUP(B4,INDIRECT(A4&"!$F$5:$G$13"),2,0),"")
C5: =IFERROR(VLOOKUP(B5,INDIRECT(A5&"!$F$5:$G$13"),2,0),"")
C6: =IFERROR(VLOOKUP(B6,INDIRECT(A6&"!$F$5:$G$13"),2,0),"")
C7: =IFERROR(VLOOKUP(B7,INDIRECT(A7&"!$F$5:$G$13"),2,0),"") | D7: 上班支付宝 | E7: ='10日白'!G7 | F7: 下班支付宝
C8: =IFERROR(VLOOKUP(B8,INDIRECT(A8&"!$F$5:$G$13"),2,0),"")
C9: =IFERROR(VLOOKUP(B9,INDIRECT(A9&"!$F$5:$G$13"),2,0),"") | D9: 抄表区 | Z9: =渠道01!F3
C10: =IFERROR(VLOOKUP(B10,INDIRECT(A10&"!$F$5:$G$13"),2,0),"") | Z10: =渠道02!F3
C11: =IFERROR(VLOOKUP(B11,INDIRECT(A11&"!$F$5:$G$13"),2,0),"") | D11: 本班网费 | F11: 商品 | H11: 美团数量 | I11: =COUNTIF(A2:A2000,Z9) | J11: 美团金额 | K11: =SUMIF($A$2:$A$2000,$Z$9,$C$2:$C$2000) | Z11: =渠道03!F3
C12: =IFERROR(VLOOKUP(B12,INDIRECT(A12&"!$F$5:$G$13"),2,0),"") | Z12: =渠道04!F3
C13: =IFERROR(VLOOKUP(B13,INDIRECT(A13&"!$F$5:$G$13"),2,0),"") | D13: 本班XY | F13: 减账合计 | G13: =SUM(C$2:C$2000) | H13: 抖音数量 | I13: =COUNTIF(A2:A2000,Z10) | J13: 抖音金额 | K13: =SUMIF($A$2:$A$2000,$Z$10,$C$2:$C$2000) | Z13: =渠道05!F3
C14: =IFERROR(VLOOKUP(B14,INDIRECT(A14&"!$F$5:$G$13"),2,0),"")
C15: =IFERROR(VLOOKUP(B15,INDIRECT(A15&"!$F$5:$G$13"),2,0),"") | D15: 本班微信 | E15: =G3-E3 | F15: 本班现金 | G15: =G1-E1 | H15: 人工数量 | I15: =COUNTIF(A2:A2000,Z11) | J15: 人工金额 | K15: =SUMIF($A$2:$A$2000,$Z$11,$C$2:$C$2000)
C16: =IFERROR(VLOOKUP(B16,INDIRECT(A16&"!$F$5:$G$13"),2,0),"")
C17: =IFERROR(VLOOKUP(B17,INDIRECT(A17&"!$F$5:$G$13"),2,0),"") | D17: 本班支付宝 | E17: =G7-E7 | F17: 差额 | G17: =((G13+E15+G15+E17)-(E11+E13+G11)) | H17: 瓶装水换购 | I17: =COUNTIF(A2:A2000,$Z$12) | J17: 瓶装水金额 | K17: =SUMIF($A$2:$A$2000,$Z$12,$C$2:$C$2000)
C18: =IFERROR(VLOOKUP(B18,INDIRECT(A18&"!$F$5:$G$13"),2,0),"")
C19: =IFERROR(VLOOKUP(B19,INDIRECT(A19&"!$F$5:$G$13"),2,0),"") | H19: 槟榔换购 | I19: =COUNTIF(A2:A2000,Z13) | J19: 槟榔金额 | K19: =SUMIF($A$2:$A$2000,$Z$13,$C$2:$C$2000)
C20: =IFERROR(VLOOKUP(B20,INDIRECT(A20&"!$F$5:$G$13"),2,0),"")
C21: =IFERROR(VLOOKUP(B21,INDIRECT(A21&"!$F$5:$G$13"),2,0),"")
C22: =IFERROR(VLOOKUP(B22,INDIRECT(A22&"!$F$5:$G$13"),2,0),"")
C23: =IFERROR(VLOOKUP(B23,INDIRECT(A23&"!$F$5:$G$13"),2,0),"") | F23: 上交款 | G23: =E15+E17+G15
C24: =IFERROR(VLOOKUP(B24,INDIRECT(A24&"!$F$5:$G$13"),2,0),"")
C25: =IFERROR(VLOOKUP(B25,INDIRECT(A25&"!$F$5:$G$13"),2,0),"")
C26: =IFERROR(VLOOKUP(B26,INDIRECT(A26&"!$F$5:$G$13"),2,0),"")
C27: =IFERROR(VLOOKUP(B27,INDIRECT(A27&"!$F$5:$G$13"),2,0),"")
C28: =IFERROR(VLOOKUP(B28,INDIRECT(A28&"!$F$5:$G$13"),2,0),"")
C29: =IFERROR(VLOOKUP(B29,INDIRECT(A29&"!$F$5:$G$13"),2,0),"")
C30: =IFERROR(VLOOKUP(B30,INDIRECT(A30&"!$F$5:$G$13"),2,0),"")
C31: =IFERROR(VLOOKUP(B31,INDIRECT(A31&"!$F$5:$G$13"),2,0),"")
C32: =IFERROR(VLOOKUP(B32,INDIRECT(A32&"!$F$5:$G$13"),2,0),"")
C33: =IFERROR(VLOOKUP(B33,INDIRECT(A33&"!$F$5:$G$13"),2,0),"")
C34: =IFERROR(VLOOKUP(B34,INDIRECT(A34&"!$F$5:$G$13"),2,0),"")
C35: =IFERROR(VLOOKUP(B35,INDIRECT(A35&"!$F$5:$G$13"),2,0),"")
... C260: =IFERROR(VLOOKUP(B260,INDIRECT(A260&"!$F$5:$G$13"),2,0),"")

Sheet 11日白
A1: 减账原因 | B1: 类目 | C1: 金额 | D1: 上班现金 | E1: ='10日夜'!G1 | F1: 下班现金 | H1: =人工!H3 | I1: 姓名01 | K1: =人工!I3 | L1: 姓名02 | N1: =人工!J3 | O1: 姓名03
C2: =IFERROR(VLOOKUP(B2,INDIRECT(A2&"!$F$5:$G$13"),2,0),"")
C3: =IFERROR(VLOOKUP(B3,INDIRECT(A3&"!$F$5:$G$13"),2,0),"") | D3: 上班微信 | E3: ='10日夜'!G3 | F3: 下班微信
C4: =IFERROR(VLOOKUP(B4,INDIRECT(A4&"!$F$5:$G$13"),2,0),"")
C5: =IFERROR(VLOOKUP(B5,INDIRECT(A5&"!$F$5:$G$13"),2,0),"")
C6: =IFERROR(VLOOKUP(B6,INDIRECT(A6&"!$F$5:$G$13"),2,0),"")
C7: =IFERROR(VLOOKUP(B7,INDIRECT(A7&"!$F$5:$G$13"),2,0),"") | D7: 上班支付宝 | E7: ='10日夜'!G7 | F7: 下班支付宝
C8: =IFERROR(VLOOKUP(B8,INDIRECT(A8&"!$F$5:$G$13"),2,0),"")
C9: =IFERROR(VLOOKUP(B9,INDIRECT(A9&"!$F$5:$G$13"),2,0),"") | D9: 抄表区 | Z9: =渠道01!F3
C10: =IFERROR(VLOOKUP(B10,INDIRECT(A10&"!$F$5:$G$13"),2,0),"") | Z10: =渠道02!F3
C11: =IFERROR(VLOOKUP(B11,INDIRECT(A11&"!$F$5:$G$13"),2,0),"") | D11: 本班网费 | F11: 商品 | H11: 美团数量 | I11: =COUNTIF(A2:A2000,Z9) | J11: 美团金额 | K11: =SUMIF($A$2:$A$2000,$Z$9,$C$2:$C$2000) | Z11: =渠道03!F3
C12: =IFERROR(VLOOKUP(B12,INDIRECT(A12&"!$F$5:$G$13"),2,0),"") | Z12: =渠道04!F3
C13: =IFERROR(VLOOKUP(B13,INDIRECT(A13&"!$F$5:$G$13"),2,0),"") | D13: 本班XY | F13: 减账合计 | G13: =SUM(C$2:C$2000) | H13: 抖音数量 | I13: =COUNTIF(A2:A2000,Z10) | J13: 抖音金额 | K13: =SUMIF($A$2:$A$2000,$Z$10,$C$2:$C$2000) | Z13: =渠道05!F3
C14: =IFERROR(VLOOKUP(B14,INDIRECT(A14&"!$F$5:$G$13"),2,0),"")
C15: =IFERROR(VLOOKUP(B15,INDIRECT(A15&"!$F$5:$G$13"),2,0),"") | D15: 本班微信 | E15: =G3-E3 | F15: 本班现金 | G15: =G1-E1 | H15: 人工数量 | I15: =COUNTIF(A2:A2000,Z11) | J15: 人工金额 | K15: =SUMIF($A$2:$A$2000,$Z$11,$C$2:$C$2000)
C16: =IFERROR(VLOOKUP(B16,INDIRECT(A16&"!$F$5:$G$13"),2,0),"")
C17: =IFERROR(VLOOKUP(B17,INDIRECT(A17&"!$F$5:$G$13"),2,0),"") | D17: 本班支付宝 | E17: =G7-E7 | F17: 差额 | G17: =((G13+E15+G15+E17)-(E11+E13+G11)) | H17: 瓶装水换购 | I17: =COUNTIF(A2:A2000,$Z$12) | J17: 瓶装水金额 | K17: =SUMIF($A$2:$A$2000,$Z$12,$C$2:$C$2000)
C18: =IFERROR(VLOOKUP(B18,INDIRECT(A18&"!$F$5:$G$13"),2,0),"")
C19: =IFERROR(VLOOKUP(B19,INDIRECT(A19&"!$F$5:$G$13"),2,0),"") | H19: 槟榔换购 | I19: =COUNTIF(A2:A2000,Z13) | J19: 槟榔金额 | K19: =SUMIF($A$2:$A$2000,$Z$13,$C$2:$C$2000)
C20: =IFERROR(VLOOKUP(B20,INDIRECT(A20&"!$F$5:$G$13"),2,0),"")
C21: =IFERROR(VLOOKUP(B21,INDIRECT(A21&"!$F$5:$G$13"),2,0),"")
C22: =IFERROR(VLOOKUP(B22,INDIRECT(A22&"!$F$5:$G$13"),2,0),"")
C23: =IFERROR(VLOOKUP(B23,INDIRECT(A23&"!$F$5:$G$13"),2,0),"") | F23: 上交款 | G23: =E15+E17+G15
C24: =IFERROR(VLOOKUP(B24,INDIRECT(A24&"!$F$5:$G$13"),2,0),"")
C25: =IFERROR(VLOOKUP(B25,INDIRECT(A25&"!$F$5:$G$13"),2,0),"")
C26: =IFERROR(VLOOKUP(B26,INDIRECT(A26&"!$F$5:$G$13"),2,0),"")
C27: =IFERROR(VLOOKUP(B27,INDIRECT(A27&"!$F$5:$G$13"),2,0),"")
C28: =IFERROR(VLOOKUP(B28,INDIRECT(A28&"!$F$5:$G$13"),2,0),"")
C29: =IFERROR(VLOOKUP(B29,INDIRECT(A29&"!$F$5:$G$13"),2,0),"")
C30: =IFERROR(VLOOKUP(B30,INDIRECT(A30&"!$F$5:$G$13"),2,0),"")
C31: =IFERROR(VLOOKUP(B31,INDIRECT(A31&"!$F$5:$G$13"),2,0),"")
C32: =IFERROR(VLOOKUP(B32,INDIRECT(A32&"!$F$5:$G$13"),2,0),"")
C33: =IFERROR(VLOOKUP(B33,INDIRECT(A33&"!$F$5:$G$13"),2,0),"")
C34: =IFERROR(VLOOKUP(B34,INDIRECT(A34&"!$F$5:$G$13"),2,0),"")
C35: =IFERROR(VLOOKUP(B35,INDIRECT(A35&"!$F$5:$G$13"),2,0),"")
... C260: =IFERROR(VLOOKUP(B260,INDIRECT(A260&"!$F$5:$G$13"),2,0),"")

Sheet 11日夜
A1: 减账原因 | B1: 类目 | C1: 金额 | D1: 上班现金 | E1: ='11日白'!G1 | F1: 下班现金 | H1: =人工!H3 | I1: 姓名01 | K1: =人工!I3 | L1: 姓名02 | N1: =人工!J3 | O1: 姓名03
C2: =IFERROR(VLOOKUP(B2,INDIRECT(A2&"!$F$5:$G$13"),2,0),"")
C3: =IFERROR(VLOOKUP(B3,INDIRECT(A3&"!$F$5:$G$13"),2,0),"") | D3: 上班微信 | E3: ='11日白'!G3 | F3: 下班微信
C4: =IFERROR(VLOOKUP(B4,INDIRECT(A4&"!$F$5:$G$13"),2,0),"")
C5: =IFERROR(VLOOKUP(B5,INDIRECT(A5&"!$F$5:$G$13"),2,0),"")
C6: =IFERROR(VLOOKUP(B6,INDIRECT(A6&"!$F$5:$G$13"),2,0),"")
C7: =IFERROR(VLOOKUP(B7,INDIRECT(A7&"!$F$5:$G$13"),2,0),"") | D7: 上班支付宝 | E7: ='11日白'!G7 | F7: 下班支付宝
C8: =IFERROR(VLOOKUP(B8,INDIRECT(A8&"!$F$5:$G$13"),2,0),"")
C9: =IFERROR(VLOOKUP(B9,INDIRECT(A9&"!$F$5:$G$13"),2,0),"") | D9: 抄表区 | Z9: =渠道01!F3
C10: =IFERROR(VLOOKUP(B10,INDIRECT(A10&"!$F$5:$G$13"),2,0),"") | Z10: =渠道02!F3
C11: =IFERROR(VLOOKUP(B11,INDIRECT(A11&"!$F$5:$G$13"),2,0),"") | D11: 本班网费 | F11: 商品 | H11: 美团数量 | I11: =COUNTIF(A2:A2000,Z9) | J11: 美团金额 | K11: =SUMIF($A$2:$A$2000,$Z$9,$C$2:$C$2000) | Z11: =渠道03!F3
C12: =IFERROR(VLOOKUP(B12,INDIRECT(A12&"!$F$5:$G$13"),2,0),"") | Z12: =渠道04!F3
C13: =IFERROR(VLOOKUP(B13,INDIRECT(A13&"!$F$5:$G$13"),2,0),"") | D13: 本班XY | F13: 减账合计 | G13: =SUM(C$2:C$2000) | H13: 抖音数量 | I13: =COUNTIF(A2:A2000,Z10) | J13: 抖音金额 | K13: =SUMIF($A$2:$A$2000,$Z$10,$C$2:$C$2000) | Z13: =渠道05!F3
C14: =IFERROR(VLOOKUP(B14,INDIRECT(A14&"!$F$5:$G$13"),2,0),"")
C15: =IFERROR(VLOOKUP(B15,INDIRECT(A15&"!$F$5:$G$13"),2,0),"") | D15: 本班微信 | E15: =G3-E3 | F15: 本班现金 | G15: =G1-E1 | H15: 人工数量 | I15: =COUNTIF(A2:A2000,Z11) | J15: 人工金额 | K15: =SUMIF($A$2:$A$2000,$Z$11,$C$2:$C$2000)
C16: =IFERROR(VLOOKUP(B16,INDIRECT(A16&"!$F$5:$G$13"),2,0),"")
C17: =IFERROR(VLOOKUP(B17,INDIRECT(A17&"!$F$5:$G$13"),2,0),"") | D17: 本班支付宝 | E17: =G7-E7 | F17: 差额 | G17: =((G13+E15+G15+E17)-(E11+E13+G11)) | H17: 瓶装水换购 | I17: =COUNTIF(A2:A2000,$Z$12) | J17: 瓶装水金额 | K17: =SUMIF($A$2:$A$2000,$Z$12,$C$2:$C$2000)
C18: =IFERROR(VLOOKUP(B18,INDIRECT(A18&"!$F$5:$G$13"),2,0),"")
C19: =IFERROR(VLOOKUP(B19,INDIRECT(A19&"!$F$5:$G$13"),2,0),"") | H19: 槟榔换购 | I19: =COUNTIF(A2:A2000,Z13) | J19: 槟榔金额 | K19: =SUMIF($A$2:$A$2000,$Z$13,$C$2:$C$2000)
C20: =IFERROR(VLOOKUP(B20,INDIRECT(A20&"!$F$5:$G$13"),2,0),"")
C21: =IFERROR(VLOOKUP(B21,INDIRECT(A21&"!$F$5:$G$13"),2,0),"")
C22: =IFERROR(VLOOKUP(B22,INDIRECT(A22&"!$F$5:$G$13"),2,0),"")
C23: =IFERROR(VLOOKUP(B23,INDIRECT(A23&"!$F$5:$G$13"),2,0),"") | F23: 上交款 | G23: =E15+E17+G15
C24: =IFERROR(VLOOKUP(B24,INDIRECT(A24&"!$F$5:$G$13"),2,0),"")
C25: =IFERROR(VLOOKUP(B25,INDIRECT(A25&"!$F$5:$G$13"),2,0),"")
C26: =IFERROR(VLOOKUP(B26,INDIRECT(A26&"!$F$5:$G$13"),2,0),"")
C27: =IFERROR(VLOOKUP(B27,INDIRECT(A27&"!$F$5:$G$13"),2,0),"")
C28: =IFERROR(VLOOKUP(B28,INDIRECT(A28&"!$F$5:$G$13"),2,0),"")
C29: =IFERROR(VLOOKUP(B29,INDIRECT(A29&"!$F$5:$G$13"),2,0),"")
C30: =IFERROR(VLOOKUP(B30,INDIRECT(A30&"!$F$5:$G$13"),2,0),"")
C31: =IFERROR(VLOOKUP(B31,INDIRECT(A31&"!$F$5:$G$13"),2,0),"")
C32: =IFERROR(VLOOKUP(B32,INDIRECT(A32&"!$F$5:$G$13"),2,0),"")
C33: =IFERROR(VLOOKUP(B33,INDIRECT(A33&"!$F$5:$G$13"),2,0),"")
C34: =IFERROR(VLOOKUP(B34,INDIRECT(A34&"!$F$5:$G$13"),2,0),"")
C35: =IFERROR(VLOOKUP(B35,INDIRECT(A35&"!$F$5:$G$13"),2,0),"")
... C260: =IFERROR(VLOOKUP(B260,INDIRECT(A260&"!$F$5:$G$13"),2,0),"")

Sheet 12日白
A1: 减账原因 | B1: 类目 | C1: 金额 | D1: 上班现金 | E1: ='11日夜'!G1 | F1: 下班现金 | H1: =人工!H3 | I1: 姓名01 | K1: =人工!I3 | L1: 姓名02 | N1: =人工!J3 | O1: 姓名03
C2: =IFERROR(VLOOKUP(B2,INDIRECT(A2&"!$F$5:$G$13"),2,0),"")
C3: =IFERROR(VLOOKUP(B3,INDIRECT(A3&"!$F$5:$G$13"),2,0),"") | D3: 上班微信 | E3: ='11日夜'!G3 | F3: 下班微信
C4: =IFERROR(VLOOKUP(B4,INDIRECT(A4&"!$F$5:$G$13"),2,0),"")
C5: =IFERROR(VLOOKUP(B5,INDIRECT(A5&"!$F$5:$G$13"),2,0),"")
C6: =IFERROR(VLOOKUP(B6,INDIRECT(A6&"!$F$5:$G$13"),2,0),"")
C7: =IFERROR(VLOOKUP(B7,INDIRECT(A7&"!$F$5:$G$13"),2,0),"") | D7: 上班支付宝 | E7: ='11日夜'!G7 | F7: 下班支付宝
C8: =IFERROR(VLOOKUP(B8,INDIRECT(A8&"!$F$5:$G$13"),2,0),"")
C9: =IFERROR(VLOOKUP(B9,INDIRECT(A9&"!$F$5:$G$13"),2,0),"") | D9: 抄表区 | Z9: =渠道01!F3
C10: =IFERROR(VLOOKUP(B10,INDIRECT(A10&"!$F$5:$G$13"),2,0),"") | Z10: =渠道02!F3
C11: =IFERROR(VLOOKUP(B11,INDIRECT(A11&"!$F$5:$G$13"),2,0),"") | D11: 本班网费 | F11: 商品 | H11: 美团数量 | I11: =COUNTIF(A2:A2000,Z9) | J11: 美团金额 | K11: =SUMIF($A$2:$A$2000,$Z$9,$C$2:$C$2000) | Z11: =渠道03!F3
C12: =IFERROR(VLOOKUP(B12,INDIRECT(A12&"!$F$5:$G$13"),2,0),"") | Z12: =渠道04!F3
C13: =IFERROR(VLOOKUP(B13,INDIRECT(A13&"!$F$5:$G$13"),2,0),"") | D13: 本班XY | F13: 减账合计 | G13: =SUM(C$2:C$2000) | H13: 抖音数量 | I13: =COUNTIF(A2:A2000,Z10) | J13: 抖音金额 | K13: =SUMIF($A$2:$A$2000,$Z$10,$C$2:$C$2000) | Z13: =渠道05!F3
C14: =IFERROR(VLOOKUP(B14,INDIRECT(A14&"!$F$5:$G$13"),2,0),"")
C15: =IFERROR(VLOOKUP(B15,INDIRECT(A15&"!$F$5:$G$13"),2,0),"") | D15: 本班微信 | E15: =G3-E3 | F15: 本班现金 | G15: =G1-E1 | H15: 人工数量 | I15: =COUNTIF(A2:A2000,Z11) | J15: 人工金额 | K15: =SUMIF($A$2:$A$2000,$Z$11,$C$2:$C$2000)
C16: =IFERROR(VLOOKUP(B16,INDIRECT(A16&"!$F$5:$G$13"),2,0),"")
C17: =IFERROR(VLOOKUP(B17,INDIRECT(A17&"!$F$5:$G$13"),2,0),"") | D17: 本班支付宝 | E17: =G7-E7 | F17: 差额 | G17: =((G13+E15+G15+E17)-(E11+E13+G11)) | H17: 瓶装水换购 | I17: =COUNTIF(A2:A2000,$Z$12) | J17: 瓶装水金额 | K17: =SUMIF($A$2:$A$2000,$Z$12,$C$2:$C$2000)
C18: =IFERROR(VLOOKUP(B18,INDIRECT(A18&"!$F$5:$G$13"),2,0),"")
C19: =IFERROR(VLOOKUP(B19,INDIRECT(A19&"!$F$5:$G$13"),2,0),"") | H19: 槟榔换购 | I19: =COUNTIF(A2:A2000,Z13) | J19: 槟榔金额 | K19: =SUMIF($A$2:$A$2000,$Z$13,$C$2:$C$2000)
C20: =IFERROR(VLOOKUP(B20,INDIRECT(A20&"!$F$5:$G$13"),2,0),"")
C21: =IFERROR(VLOOKUP(B21,INDIRECT(A21&"!$F$5:$G$13"),2,0),"")
C22: =IFERROR(VLOOKUP(B22,INDIRECT(A22&"!$F$5:$G$13"),2,0),"")
C23: =IFERROR(VLOOKUP(B23,INDIRECT(A23&"!$F$5:$G$13"),2,0),"") | F23: 上交款 | G23: =E15+E17+G15
C24: =IFERROR(VLOOKUP(B24,INDIRECT(A24&"!$F$5:$G$13"),2,0),"")
C25: =IFERROR(VLOOKUP(B25,INDIRECT(A25&"!$F$5:$G$13"),2,0),"")
C26: =IFERROR(VLOOKUP(B26,INDIRECT(A26&"!$F$5:$G$13"),2,0),"")
C27: =IFERROR(VLOOKUP(B27,INDIRECT(A27&"!$F$5:$G$13"),2,0),"")
C28: =IFERROR(VLOOKUP(B28,INDIRECT(A28&"!$F$5:$G$13"),2,0),"")
C29: =IFERROR(VLOOKUP(B29,INDIRECT(A29&"!$F$5:$G$13"),2,0),"")
C30: =IFERROR(VLOOKUP(B30,INDIRECT(A30&"!$F$5:$G$13"),2,0),"")
C31: =IFERROR(VLOOKUP(B31,INDIRECT(A31&"!$F$5:$G$13"),2,0),"")
C32: =IFERROR(VLOOKUP(B32,INDIRECT(A32&"!$F$5:$G$13"),2,0),"")
C33: =IFERROR(VLOOKUP(B33,INDIRECT(A33&"!$F$5:$G$13"),2,0),"")
C34: =IFERROR(VLOOKUP(B34,INDIRECT(A34&"!$F$5:$G$13"),2,0),"")
C35: =IFERROR(VLOOKUP(B35,INDIRECT(A35&"!$F$5:$G$13"),2,0),"")
... C260: =IFERROR(VLOOKUP(B260,INDIRECT(A260&"!$F$5:$G$13"),2,0),"")

Sheet 12日夜
A1: 减账原因 | B1: 类目 | C1: 金额 | D1: 上班现金 | E1: ='12日白'!G1 | F1: 下班现金 | H1: =人工!H3 | I1: 姓名01 | K1: =人工!I3 | L1: 姓名02 | N1: =人工!J3 | O1: 姓名03
C2: =IFERROR(VLOOKUP(B2,INDIRECT(A2&"!$F$5:$G$13"),2,0),"")
C3: =IFERROR(VLOOKUP(B3,INDIRECT(A3&"!$F$5:$G$13"),2,0),"") | D3: 上班微信 | E3: ='12日白'!G3 | F3: 下班微信
C4: =IFERROR(VLOOKUP(B4,INDIRECT(A4&"!$F$5:$G$13"),2,0),"")
C5: =IFERROR(VLOOKUP(B5,INDIRECT(A5&"!$F$5:$G$13"),2,0),"")
C6: =IFERROR(VLOOKUP(B6,INDIRECT(A6&"!$F$5:$G$13"),2,0),"")
C7: =IFERROR(VLOOKUP(B7,INDIRECT(A7&"!$F$5:$G$13"),2,0),"") | D7: 上班支付宝 | E7: ='12日白'!G7 | F7: 下班支付宝
C8: =IFERROR(VLOOKUP(B8,INDIRECT(A8&"!$F$5:$G$13"),2,0),"")
C9: =IFERROR(VLOOKUP(B9,INDIRECT(A9&"!$F$5:$G$13"),2,0),"") | D9: 抄表区 | Z9: =渠道01!F3
C10: =IFERROR(VLOOKUP(B10,INDIRECT(A10&"!$F$5:$G$13"),2,0),"") | Z10: =渠道02!F3
C11: =IFERROR(VLOOKUP(B11,INDIRECT(A11&"!$F$5:$G$13"),2,0),"") | D11: 本班网费 | F11: 商品 | H11: 美团数量 | I11: =COUNTIF(A2:A2000,Z9) | J11: 美团金额 | K11: =SUMIF($A$2:$A$2000,$Z$9,$C$2:$C$2000) | Z11: =渠道03!F3
C12: =IFERROR(VLOOKUP(B12,INDIRECT(A12&"!$F$5:$G$13"),2,0),"") | Z12: =渠道04!F3
C13: =IFERROR(VLOOKUP(B13,INDIRECT(A13&"!$F$5:$G$13"),2,0),"") | D13: 本班XY | F13: 减账合计 | G13: =SUM(C$2:C$2000) | H13: 抖音数量 | I13: =COUNTIF(A2:A2000,Z10) | J13: 抖音金额 | K13: =SUMIF($A$2:$A$2000,$Z$10,$C$2:$C$2000) | Z13: =渠道05!F3
C14: =IFERROR(VLOOKUP(B14,INDIRECT(A14&"!$F$5:$G$13"),2,0),"")
C15: =IFERROR(VLOOKUP(B15,INDIRECT(A15&"!$F$5:$G$13"),2,0),"") | D15: 本班微信 | E15: =G3-E3 | F15: 本班现金 | G15: =G1-E1 | H15: 人工数量 | I15: =COUNTIF(A2:A2000,Z11) | J15: 人工金额 | K15: =SUMIF($A$2:$A$2000,$Z$11,$C$2:$C$2000)
C16: =IFERROR(VLOOKUP(B16,INDIRECT(A16&"!$F$5:$G$13"),2,0),"")
C17: =IFERROR(VLOOKUP(B17,INDIRECT(A17&"!$F$5:$G$13"),2,0),"") | D17: 本班支付宝 | E17: =G7-E7 | F17: 差额 | G17: =((G13+E15+G15+E17)-(E11+E13+G11)) | H17: 瓶装水换购 | I17: =COUNTIF(A2:A2000,$Z$12) | J17: 瓶装水金额 | K17: =SUMIF($A$2:$A$2000,$Z$12,$C$2:$C$2000)
C18: =IFERROR(VLOOKUP(B18,INDIRECT(A18&"!$F$5:$G$13"),2,0),"")
C19: =IFERROR(VLOOKUP(B19,INDIRECT(A19&"!$F$5:$G$13"),2,0),"") | H19: 槟榔换购 | I19: =COUNTIF(A2:A2000,Z13) | J19: 槟榔金额 | K19: =SUMIF($A$2:$A$2000,$Z$13,$C$2:$C$2000)
C20: =IFERROR(VLOOKUP(B20,INDIRECT(A20&"!$F$5:$G$13"),2,0),"")
C21: =IFERROR(VLOOKUP(B21,INDIRECT(A21&"!$F$5:$G$13"),2,0),"")
C22: =IFERROR(VLOOKUP(B22,INDIRECT(A22&"!$F$5:$G$13"),2,0),"")
C23: =IFERROR(VLOOKUP(B23,INDIRECT(A23&"!$F$5:$G$13"),2,0),"") | F23: 上交款 | G23: =E15+E17+G15
C24: =IFERROR(VLOOKUP(B24,INDIRECT(A24&"!$F$5:$G$13"),2,0),"")
C25: =IFERROR(VLOOKUP(B25,INDIRECT(A25&"!$F$5:$G$13"),2,0),"")
C26: =IFERROR(VLOOKUP(B26,INDIRECT(A26&"!$F$5:$G$13"),2,0),"")
C27: =IFERROR(VLOOKUP(B27,INDIRECT(A27&"!$F$5:$G$13"),2,0),"")
C28: =IFERROR(VLOOKUP(B28,INDIRECT(A28&"!$F$5:$G$13"),2,0),"")
C29: =IFERROR(VLOOKUP(B29,INDIRECT(A29&"!$F$5:$G$13"),2,0),"")
C30: =IFERROR(VLOOKUP(B30,INDIRECT(A30&"!$F$5:$G$13"),2,0),"")
C31: =IFERROR(VLOOKUP(B31,INDIRECT(A31&"!$F$5:$G$13"),2,0),"")
C32: =IFERROR(VLOOKUP(B32,INDIRECT(A32&"!$F$5:$G$13"),2,0),"")
C33: =IFERROR(VLOOKUP(B33,INDIRECT(A33&"!$F$5:$G$13"),2,0),"")
C34: =IFERROR(VLOOKUP(B34,INDIRECT(A34&"!$F$5:$G$13"),2,0),"")
C35: =IFERROR(VLOOKUP(B35,INDIRECT(A35&"!$F$5:$G$13"),2,0),"")
... C260: =IFERROR(VLOOKUP(B260,INDIRECT(A260&"!$F$5:$G$13"),2,0),"")

Sheet 13日白
A1: 减账原因 | B1: 类目 | C1: 金额 | D1: 上班现金 | E1: ='12日夜'!G1 | F1: 下班现金 | H1: =人工!H3 | I1: 姓名01 | K1: =人工!I3 | L1: 姓名02 | N1: =人工!J3 | O1: 姓名03
C2: =IFERROR(VLOOKUP(B2,INDIRECT(A2&"!$F$5:$G$13"),2,0),"")
C3: =IFERROR(VLOOKUP(B3,INDIRECT(A3&"!$F$5:$G$13"),2,0),"") | D3: 上班微信 | E3: ='12日夜'!G3 | F3: 下班微信
C4: =IFERROR(VLOOKUP(B4,INDIRECT(A4&"!$F$5:$G$13"),2,0),"")
C5: =IFERROR(VLOOKUP(B5,INDIRECT(A5&"!$F$5:$G$13"),2,0),"")
C6: =IFERROR(VLOOKUP(B6,INDIRECT(A6&"!$F$5:$G$13"),2,0),"")
C7: =IFERROR(VLOOKUP(B7,INDIRECT(A7&"!$F$5:$G$13"),2,0),"") | D7: 上班支付宝 | E7: ='12日夜'!G7 | F7: 下班支付宝
C8: =IFERROR(VLOOKUP(B8,INDIRECT(A8&"!$F$5:$G$13"),2,0),"")
C9: =IFERROR(VLOOKUP(B9,INDIRECT(A9&"!$F$5:$G$13"),2,0),"") | D9: 抄表区 | Z9: =渠道01!F3
C10: =IFERROR(VLOOKUP(B10,INDIRECT(A10&"!$F$5:$G$13"),2,0),"") | Z10: =渠道02!F3
C11: =IFERROR(VLOOKUP(B11,INDIRECT(A11&"!$F$5:$G$13"),2,0),"") | D11: 本班网费 | F11: 商品 | H11: 美团数量 | I11: =COUNTIF(A2:A2000,Z9) | J11: 美团金额 | K11: =SUMIF($A$2:$A$2000,$Z$9,$C$2:$C$2000) | Z11: =渠道03!F3
C12: =IFERROR(VLOOKUP(B12,INDIRECT(A12&"!$F$5:$G$13"),2,0),"") | Z12: =渠道04!F3
C13: =IFERROR(VLOOKUP(B13,INDIRECT(A13&"!$F$5:$G$13"),2,0),"") | D13: 本班XY | F13: 减账合计 | G13: =SUM(C$2:C$2000) | H13: 抖音数量 | I13: =COUNTIF(A2:A2000,Z10) | J13: 抖音金额 | K13: =SUMIF($A$2:$A$2000,$Z$10,$C$2:$C$2000) | Z13: =渠道05!F3
C14: =IFERROR(VLOOKUP(B14,INDIRECT(A14&"!$F$5:$G$13"),2,0),"")
C15: =IFERROR(VLOOKUP(B15,INDIRECT(A15&"!$F$5:$G$13"),2,0),"") | D15: 本班微信 | E15: =G3-E3 | F15: 本班现金 | G15: =G1-E1 | H15: 人工数量 | I15: =COUNTIF(A2:A2000,Z11) | J15: 人工金额 | K15: =SUMIF($A$2:$A$2000,$Z$11,$C$2:$C$2000)
C16: =IFERROR(VLOOKUP(B16,INDIRECT(A16&"!$F$5:$G$13"),2,0),"")
C17: =IFERROR(VLOOKUP(B17,INDIRECT(A17&"!$F$5:$G$13"),2,0),"") | D17: 本班支付宝 | E17: =G7-E7 | F17: 差额 | G17: =((G13+E15+G15+E17)-(E11+E13+G11)) | H17: 瓶装水换购 | I17: =COUNTIF(A2:A2000,$Z$12) | J17: 瓶装水金额 | K17: =SUMIF($A$2:$A$2000,$Z$12,$C$2:$C$2000)
C18: =IFERROR(VLOOKUP(B18,INDIRECT(A18&"!$F$5:$G$13"),2,0),"")
C19: =IFERROR(VLOOKUP(B19,INDIRECT(A19&"!$F$5:$G$13"),2,0),"") | H19: 槟榔换购 | I19: =COUNTIF(A2:A2000,Z13) | J19: 槟榔金额 | K19: =SUMIF($A$2:$A$2000,$Z$13,$C$2:$C$2000)
C20: =IFERROR(VLOOKUP(B20,INDIRECT(A20&"!$F$5:$G$13"),2,0),"")
C21: =IFERROR(VLOOKUP(B21,INDIRECT(A21&"!$F$5:$G$13"),2,0),"")
C22: =IFERROR(VLOOKUP(B22,INDIRECT(A22&"!$F$5:$G$13"),2,0),"")
C23: =IFERROR(VLOOKUP(B23,INDIRECT(A23&"!$F$5:$G$13"),2,0),"") | F23: 上交款 | G23: =E15+E17+G15
C24: =IFERROR(VLOOKUP(B24,INDIRECT(A24&"!$F$5:$G$13"),2,0),"")
C25: =IFERROR(VLOOKUP(B25,INDIRECT(A25&"!$F$5:$G$13"),2,0),"")
C26: =IFERROR(VLOOKUP(B26,INDIRECT(A26&"!$F$5:$G$13"),2,0),"")
C27: =IFERROR(VLOOKUP(B27,INDIRECT(A27&"!$F$5:$G$13"),2,0),"")
C28: =IFERROR(VLOOKUP(B28,INDIRECT(A28&"!$F$5:$G$13"),2,0),"")
C29: =IFERROR(VLOOKUP(B29,INDIRECT(A29&"!$F$5:$G$13"),2,0),"")
C30: =IFERROR(VLOOKUP(B30,INDIRECT(A30&"!$F$5:$G$13"),2,0),"")
C31: =IFERROR(VLOOKUP(B31,INDIRECT(A31&"!$F$5:$G$13"),2,0),"")
C32: =IFERROR(VLOOKUP(B32,INDIRECT(A32&"!$F$5:$G$13"),2,0),"")
C33: =IFERROR(VLOOKUP(B33,INDIRECT(A33&"!$F$5:$G$13"),2,0),"")
C34: =IFERROR(VLOOKUP(B34,INDIRECT(A34&"!$F$5:$G$13"),2,0),"")
C35: =IFERROR(VLOOKUP(B35,INDIRECT(A35&"!$F$5:$G$13"),2,0),"")
... C260: =IFERROR(VLOOKUP(B260,INDIRECT(A260&"!$F$5:$G$13"),2,0),"")

Sheet 13日夜
A1: 减账原因 | B1: 类目 | C1: 金额 | D1: 上班现金 | E1: ='13日白'!G1 | F1: 下班现金 | H1: =人工!H3 | I1: 姓名01 | K1: =人工!I3 | L1: 姓名02 | N1: =人工!J3 | O1: 姓名03
C2: =IFERROR(VLOOKUP(B2,INDIRECT(A2&"!$F$5:$G$13"),2,0),"")
C3: =IFERROR(VLOOKUP(B3,INDIRECT(A3&"!$F$5:$G$13"),2,0),"") | D3: 上班微信 | E3: ='13日白'!G3 | F3: 下班微信
C4: =IFERROR(VLOOKUP(B4,INDIRECT(A4&"!$F$5:$G$13"),2,0),"")
C5: =IFERROR(VLOOKUP(B5,INDIRECT(A5&"!$F$5:$G$13"),2,0),"")
C6: =IFERROR(VLOOKUP(B6,INDIRECT(A6&"!$F$5:$G$13"),2,0),"")
C7: =IFERROR(VLOOKUP(B7,INDIRECT(A7&"!$F$5:$G$13"),2,0),"") | D7: 上班支付宝 | E7: ='13日白'!G7 | F7: 下班支付宝
C8: =IFERROR(VLOOKUP(B8,INDIRECT(A8&"!$F$5:$G$13"),2,0),"")
C9: =IFERROR(VLOOKUP(B9,INDIRECT(A9&"!$F$5:$G$13"),2,0),"") | D9: 抄表区 | Z9: =渠道01!F3
C10: =IFERROR(VLOOKUP(B10,INDIRECT(A10&"!$F$5:$G$13"),2,0),"") | Z10: =渠道02!F3
C11: =IFERROR(VLOOKUP(B11,INDIRECT(A11&"!$F$5:$G$13"),2,0),"") | D11: 本班网费 | F11: 商品 | H11: 美团数量 | I11: =COUNTIF(A2:A2000,Z9) | J11: 美团金额 | K11: =SUMIF($A$2:$A$2000,$Z$9,$C$2:$C$2000) | Z11: =渠道03!F3
C12: =IFERROR(VLOOKUP(B12,INDIRECT(A12&"!$F$5:$G$13"),2,0),"") | Z12: =渠道04!F3
C13: =IFERROR(VLOOKUP(B13,INDIRECT(A13&"!$F$5:$G$13"),2,0),"") | D13: 本班XY | F13: 减账合计 | G13: =SUM(C$2:C$2000) | H13: 抖音数量 | I13: =COUNTIF(A2:A2000,Z10) | J13: 抖音金额 | K13: =SUMIF($A$2:$A$2000,$Z$10,$C$2:$C$2000) | Z13: =渠道05!F3
C14: =IFERROR(VLOOKUP(B14,INDIRECT(A14&"!$F$5:$G$13"),2,0),"")
C15: =IFERROR(VLOOKUP(B15,INDIRECT(A15&"!$F$5:$G$13"),2,0),"") | D15: 本班微信 | E15: =G3-E3 | F15: 本班现金 | G15: =G1-E1 | H15: 人工数量 | I15: =COUNTIF(A2:A2000,Z11) | J15: 人工金额 | K15: =SUMIF($A$2:$A$2000,$Z$11,$C$2:$C$2000)
C16: =IFERROR(VLOOKUP(B16,INDIRECT(A16&"!$F$5:$G$13"),2,0),"")
C17: =IFERROR(VLOOKUP(B17,INDIRECT(A17&"!$F$5:$G$13"),2,0),"") | D17: 本班支付宝 | E17: =G7-E7 | F17: 差额 | G17: =((G13+E15+G15+E17)-(E11+E13+G11)) | H17: 瓶装水换购 | I17: =COUNTIF(A2:A2000,$Z$12) | J17: 瓶装水金额 | K17: =SUMIF($A$2:$A$2000,$Z$12,$C$2:$C$2000)
C18: =IFERROR(VLOOKUP(B18,INDIRECT(A18&"!$F$5:$G$13"),2,0),"")
C19: =IFERROR(VLOOKUP(B19,INDIRECT(A19&"!$F$5:$G$13"),2,0),"") | H19: 槟榔换购 | I19: =COUNTIF(A2:A2000,Z13) | J19: 槟榔金额 | K19: =SUMIF($A$2:$A$2000,$Z$13,$C$2:$C$2000)
C20: =IFERROR(VLOOKUP(B20,INDIRECT(A20&"!$F$5:$G$13"),2,0),"")
C21: =IFERROR(VLOOKUP(B21,INDIRECT(A21&"!$F$5:$G$13"),2,0),"")
C22: =IFERROR(VLOOKUP(B22,INDIRECT(A22&"!$F$5:$G$13"),2,0),"")
C23: =IFERROR(VLOOKUP(B23,INDIRECT(A23&"!$F$5:$G$13"),2,0),"") | F23: 上交款 | G23: =E15+E17+G15
C24: =IFERROR(VLOOKUP(B24,INDIRECT(A24&"!$F$5:$G$13"),2,0),"")
C25: =IFERROR(VLOOKUP(B25,INDIRECT(A25&"!$F$5:$G$13"),2,0),"")
C26: =IFERROR(VLOOKUP(B26,INDIRECT(A26&"!$F$5:$G$13"),2,0),"")
C27: =IFERROR(VLOOKUP(B27,INDIRECT(A27&"!$F$5:$G$13"),2,0),"")
C28: =IFERROR(VLOOKUP(B28,INDIRECT(A28&"!$F$5:$G$13"),2,0),"")
C29: =IFERROR(VLOOKUP(B29,INDIRECT(A29&"!$F$5:$G$13"),2,0),"")
C30: =IFERROR(VLOOKUP(B30,INDIRECT(A30&"!$F$5:$G$13"),2,0),"")
C31: =IFERROR(VLOOKUP(B31,INDIRECT(A31&"!$F$5:$G$13"),2,0),"")
C32: =IFERROR(VLOOKUP(B32,INDIRECT(A32&"!$F$5:$G$13"),2,0),"")
C33: =IFERROR(VLOOKUP(B33,INDIRECT(A33&"!$F$5:$G$13"),2,0),"")
C34: =IFERROR(VLOOKUP(B34,INDIRECT(A34&"!$F$5:$G$13"),2,0),"")
C35: =IFERROR(VLOOKUP(B35,INDIRECT(A35&"!$F$5:$G$13"),2,0),"")
... C260: =IFERROR(VLOOKUP(B260,INDIRECT(A260&"!$F$5:$G$13"),2,0),"")

Sheet 14日白
A1: 减账原因 | B1: 类目 | C1: 金额 | D1: 上班现金 | E1: ='13日夜'!G1 | F1: 下班现金 | H1: =人工!H3 | I1: 姓名01 | K1: =人工!I3 | L1: 姓名02 | N1: =人工!J3 | O1: 姓名03
C2: =IFERROR(VLOOKUP(B2,INDIRECT(A2&"!$F$5:$G$13"),2,0),"")
C3: =IFERROR(VLOOKUP(B3,INDIRECT(A3&"!$F$5:$G$13"),2,0),"") | D3: 上班微信 | E3: ='13日夜'!G3 | F3: 下班微信
C4: =IFERROR(VLOOKUP(B4,INDIRECT(A4&"!$F$5:$G$13"),2,0),"")
C5: =IFERROR(VLOOKUP(B5,INDIRECT(A5&"!$F$5:$G$13"),2,0),"")
C6: =IFERROR(VLOOKUP(B6,INDIRECT(A6&"!$F$5:$G$13"),2,0),"")
C7: =IFERROR(VLOOKUP(B7,INDIRECT(A7&"!$F$5:$G$13"),2,0),"") | D7: 上班支付宝 | E7: ='13日夜'!G7 | F7: 下班支付宝
C8: =IFERROR(VLOOKUP(B8,INDIRECT(A8&"!$F$5:$G$13"),2,0),"")
C9: =IFERROR(VLOOKUP(B9,INDIRECT(A9&"!$F$5:$G$13"),2,0),"") | D9: 抄表区 | Z9: =渠道01!F3
C10: =IFERROR(VLOOKUP(B10,INDIRECT(A10&"!$F$5:$G$13"),2,0),"") | Z10: =渠道02!F3
C11: =IFERROR(VLOOKUP(B11,INDIRECT(A11&"!$F$5:$G$13"),2,0),"") | D11: 本班网费 | F11: 商品 | H11: 美团数量 | I11: =COUNTIF(A2:A2000,Z9) | J11: 美团金额 | K11: =SUMIF($A$2:$A$2000,$Z$9,$C$2:$C$2000) | Z11: =渠道03!F3
C12: =IFERROR(VLOOKUP(B12,INDIRECT(A12&"!$F$5:$G$13"),2,0),"") | Z12: =渠道04!F3
C13: =IFERROR(VLOOKUP(B13,INDIRECT(A13&"!$F$5:$G$13"),2,0),"") | D13: 本班XY | F13: 减账合计 | G13: =SUM(C$2:C$2000) | H13: 抖音数量 | I13: =COUNTIF(A2:A2000,Z10) | J13: 抖音金额 | K13: =SUMIF($A$2:$A$2000,$Z$10,$C$2:$C$2000) | Z13: =渠道05!F3
C14: =IFERROR(VLOOKUP(B14,INDIRECT(A14&"!$F$5:$G$13"),2,0),"")
C15: =IFERROR(VLOOKUP(B15,INDIRECT(A15&"!$F$5:$G$13"),2,0),"") | D15: 本班微信 | E15: =G3-E3 | F15: 本班现金 | G15: =G1-E1 | H15: 人工数量 | I15: =COUNTIF(A2:A2000,Z11) | J15: 人工金额 | K15: =SUMIF($A$2:$A$2000,$Z$11,$C$2:$C$2000)
C16: =IFERROR(VLOOKUP(B16,INDIRECT(A16&"!$F$5:$G$13"),2,0),"")
C17: =IFERROR(VLOOKUP(B17,INDIRECT(A17&"!$F$5:$G$13"),2,0),"") | D17: 本班支付宝 | E17: =G7-E7 | F17: 差额 | G17: =((G13+E15+G15+E17)-(E11+E13+G11)) | H17: 瓶装水换购 | I17: =COUNTIF(A2:A2000,$Z$12) | J17: 瓶装水金额 | K17: =SUMIF($A$2:$A$2000,$Z$12,$C$2:$C$2000)
C18: =IFERROR(VLOOKUP(B18,INDIRECT(A18&"!$F$5:$G$13"),2,0),"")
C19: =IFERROR(VLOOKUP(B19,INDIRECT(A19&"!$F$5:$G$13"),2,0),"") | H19: 槟榔换购 | I19: =COUNTIF(A2:A2000,Z13) | J19: 槟榔金额 | K19: =SUMIF($A$2:$A$2000,$Z$13,$C$2:$C$2000)
C20: =IFERROR(VLOOKUP(B20,INDIRECT(A20&"!$F$5:$G$13"),2,0),"")
C21: =IFERROR(VLOOKUP(B21,INDIRECT(A21&"!$F$5:$G$13"),2,0),"")
C22: =IFERROR(VLOOKUP(B22,INDIRECT(A22&"!$F$5:$G$13"),2,0),"")
C23: =IFERROR(VLOOKUP(B23,INDIRECT(A23&"!$F$5:$G$13"),2,0),"") | F23: 上交款 | G23: =E15+E17+G15
C24: =IFERROR(VLOOKUP(B24,INDIRECT(A24&"!$F$5:$G$13"),2,0),"")
C25: =IFERROR(VLOOKUP(B25,INDIRECT(A25&"!$F$5:$G$13"),2,0),"")
C26: =IFERROR(VLOOKUP(B26,INDIRECT(A26&"!$F$5:$G$13"),2,0),"")
C27: =IFERROR(VLOOKUP(B27,INDIRECT(A27&"!$F$5:$G$13"),2,0),"")
C28: =IFERROR(VLOOKUP(B28,INDIRECT(A28&"!$F$5:$G$13"),2,0),"")
C29: =IFERROR(VLOOKUP(B29,INDIRECT(A29&"!$F$5:$G$13"),2,0),"")
C30: =IFERROR(VLOOKUP(B30,INDIRECT(A30&"!$F$5:$G$13"),2,0),"")
C31: =IFERROR(VLOOKUP(B31,INDIRECT(A31&"!$F$5:$G$13"),2,0),"")
C32: =IFERROR(VLOOKUP(B32,INDIRECT(A32&"!$F$5:$G$13"),2,0),"")
C33: =IFERROR(VLOOKUP(B33,INDIRECT(A33&"!$F$5:$G$13"),2,0),"")
C34: =IFERROR(VLOOKUP(B34,INDIRECT(A34&"!$F$5:$G$13"),2,0),"")
C35: =IFERROR(VLOOKUP(B35,INDIRECT(A35&"!$F$5:$G$13"),2,0),"")
... C260: =IFERROR(VLOOKUP(B260,INDIRECT(A260&"!$F$5:$G$13"),2,0),"")

Sheet 14日夜
A1: 减账原因 | B1: 类目 | C1: 金额 | D1: 上班现金 | E1: ='14日白'!G1 | F1: 下班现金 | H1: =人工!H3 | I1: 姓名01 | K1: =人工!I3 | L1: 姓名02 | N1: =人工!J3 | O1: 姓名03
C2: =IFERROR(VLOOKUP(B2,INDIRECT(A2&"!$F$5:$G$13"),2,0),"")
C3: =IFERROR(VLOOKUP(B3,INDIRECT(A3&"!$F$5:$G$13"),2,0),"") | D3: 上班微信 | E3: ='14日白'!G3 | F3: 下班微信
C4: =IFERROR(VLOOKUP(B4,INDIRECT(A4&"!$F$5:$G$13"),2,0),"")
C5: =IFERROR(VLOOKUP(B5,INDIRECT(A5&"!$F$5:$G$13"),2,0),"")
C6: =IFERROR(VLOOKUP(B6,INDIRECT(A6&"!$F$5:$G$13"),2,0),"")
C7: =IFERROR(VLOOKUP(B7,INDIRECT(A7&"!$F$5:$G$13"),2,0),"") | D7: 上班支付宝 | E7: ='14日白'!G7 | F7: 下班支付宝
C8: =IFERROR(VLOOKUP(B8,INDIRECT(A8&"!$F$5:$G$13"),2,0),"")
C9: =IFERROR(VLOOKUP(B9,INDIRECT(A9&"!$F$5:$G$13"),2,0),"") | D9: 抄表区 | Z9: =渠道01!F3
C10: =IFERROR(VLOOKUP(B10,INDIRECT(A10&"!$F$5:$G$13"),2,0),"") | Z10: =渠道02!F3
C11: =IFERROR(VLOOKUP(B11,INDIRECT(A11&"!$F$5:$G$13"),2,0),"") | D11: 本班网费 | F11: 商品 | H11: 美团数量 | I11: =COUNTIF(A2:A2000,Z9) | J11: 美团金额 | K11: =SUMIF($A$2:$A$2000,$Z$9,$C$2:$C$2000) | Z11: =渠道03!F3
C12: =IFERROR(VLOOKUP(B12,INDIRECT(A12&"!$F$5:$G$13"),2,0),"") | Z12: =渠道04!F3
C13: =IFERROR(VLOOKUP(B13,INDIRECT(A13&"!$F$5:$G$13"),2,0),"") | D13: 本班XY | F13: 减账合计 | G13: =SUM(C$2:C$2000) | H13: 抖音数量 | I13: =COUNTIF(A2:A2000,Z10) | J13: 抖音金额 | K13: =SUMIF($A$2:$A$2000,$Z$10,$C$2:$C$2000) | Z13: =渠道05!F3
C14: =IFERROR(VLOOKUP(B14,INDIRECT(A14&"!$F$5:$G$13"),2,0),"")
C15: =IFERROR(VLOOKUP(B15,INDIRECT(A15&"!$F$5:$G$13"),2,0),"") | D15: 本班微信 | E15: =G3-E3 | F15: 本班现金 | G15: =G1-E1 | H15: 人工数量 | I15: =COUNTIF(A2:A2000,Z11) | J15: 人工金额 | K15: =SUMIF($A$2:$A$2000,$Z$11,$C$2:$C$2000)
C16: =IFERROR(VLOOKUP(B16,INDIRECT(A16&"!$F$5:$G$13"),2,0),"")
C17: =IFERROR(VLOOKUP(B17,INDIRECT(A17&"!$F$5:$G$13"),2,0),"") | D17: 本班支付宝 | E17: =G7-E7 | F17: 差额 | G17: =((G13+E15+G15+E17)-(E11+E13+G11)) | H17: 瓶装水换购 | I17: =COUNTIF(A2:A2000,$Z$12) | J17: 瓶装水金额 | K17: =SUMIF($A$2:$A$2000,$Z$12,$C$2:$C$2000)
C18: =IFERROR(VLOOKUP(B18,INDIRECT(A18&"!$F$5:$G$13"),2,0),"")
C19: =IFERROR(VLOOKUP(B19,INDIRECT(A19&"!$F$5:$G$13"),2,0),"") | H19: 槟榔换购 | I19: =COUNTIF(A2:A2000,Z13) | J19: 槟榔金额 | K19: =SUMIF($A$2:$A$2000,$Z$13,$C$2:$C$2000)
C20: =IFERROR(VLOOKUP(B20,INDIRECT(A20&"!$F$5:$G$13"),2,0),"")
C21: =IFERROR(VLOOKUP(B21,INDIRECT(A21&"!$F$5:$G$13"),2,0),"")
C22: =IFERROR(VLOOKUP(B22,INDIRECT(A22&"!$F$5:$G$13"),2,0),"")
C23: =IFERROR(VLOOKUP(B23,INDIRECT(A23&"!$F$5:$G$13"),2,0),"") | F23: 上交款 | G23: =E15+E17+G15
C24: =IFERROR(VLOOKUP(B24,INDIRECT(A24&"!$F$5:$G$13"),2,0),"")
C25: =IFERROR(VLOOKUP(B25,INDIRECT(A25&"!$F$5:$G$13"),2,0),"")
C26: =IFERROR(VLOOKUP(B26,INDIRECT(A26&"!$F$5:$G$13"),2,0),"")
C27: =IFERROR(VLOOKUP(B27,INDIRECT(A27&"!$F$5:$G$13"),2,0),"")
C28: =IFERROR(VLOOKUP(B28,INDIRECT(A28&"!$F$5:$G$13"),2,0),"")
C29: =IFERROR(VLOOKUP(B29,INDIRECT(A29&"!$F$5:$G$13"),2,0),"")
C30: =IFERROR(VLOOKUP(B30,INDIRECT(A30&"!$F$5:$G$13"),2,0),"")
C31: =IFERROR(VLOOKUP(B31,INDIRECT(A31&"!$F$5:$G$13"),2,0),"")
C32: =IFERROR(VLOOKUP(B32,INDIRECT(A32&"!$F$5:$G$13"),2,0),"")
C33: =IFERROR(VLOOKUP(B33,INDIRECT(A33&"!$F$5:$G$13"),2,0),"")
C34: =IFERROR(VLOOKUP(B34,INDIRECT(A34&"!$F$5:$G$13"),2,0),"")
C35: =IFERROR(VLOOKUP(B35,INDIRECT(A35&"!$F$5:$G$13"),2,0),"")
... C260: =IFERROR(VLOOKUP(B260,INDIRECT(A260&"!$F$5:$G$13"),2,0),"")

Sheet 15日白
A1: 减账原因 | B1: 类目 | C1: 金额 | D1: 上班现金 | E1: ='14日夜'!G1 | F1: 下班现金 | H1: =人工!H3 | I1: 姓名01 | K1: =人工!I3 | L1: 姓名02 | N1: =人工!J3 | O1: 姓名03
C2: =IFERROR(VLOOKUP(B2,INDIRECT(A2&"!$F$5:$G$13"),2,0),"")
C3: =IFERROR(VLOOKUP(B3,INDIRECT(A3&"!$F$5:$G$13"),2,0),"") | D3: 上班微信 | E3: ='14日夜'!G3 | F3: 下班微信
C4: =IFERROR(VLOOKUP(B4,INDIRECT(A4&"!$F$5:$G$13"),2,0),"")
C5: =IFERROR(VLOOKUP(B5,INDIRECT(A5&"!$F$5:$G$13"),2,0),"")
C6: =IFERROR(VLOOKUP(B6,INDIRECT(A6&"!$F$5:$G$13"),2,0),"")
C7: =IFERROR(VLOOKUP(B7,INDIRECT(A7&"!$F$5:$G$13"),2,0),"") | D7: 上班支付宝 | E7: ='14日夜'!G7 | F7: 下班支付宝
C8: =IFERROR(VLOOKUP(B8,INDIRECT(A8&"!$F$5:$G$13"),2,0),"")
C9: =IFERROR(VLOOKUP(B9,INDIRECT(A9&"!$F$5:$G$13"),2,0),"") | D9: 抄表区 | Z9: =渠道01!F3
C10: =IFERROR(VLOOKUP(B10,INDIRECT(A10&"!$F$5:$G$13"),2,0),"") | Z10: =渠道02!F3
C11: =IFERROR(VLOOKUP(B11,INDIRECT(A11&"!$F$5:$G$13"),2,0),"") | D11: 本班网费 | F11: 商品 | H11: 美团数量 | I11: =COUNTIF(A2:A2000,Z9) | J11: 美团金额 | K11: =SUMIF($A$2:$A$2000,$Z$9,$C$2:$C$2000) | Z11: =渠道03!F3
C12: =IFERROR(VLOOKUP(B12,INDIRECT(A12&"!$F$5:$G$13"),2,0),"") | Z12: =渠道04!F3
C13: =IFERROR(VLOOKUP(B13,INDIRECT(A13&"!$F$5:$G$13"),2,0),"") | D13: 本班XY | F13: 减账合计 | G13: =SUM(C$2:C$2000) | H13: 抖音数量 | I13: =COUNTIF(A2:A2000,Z10) | J13: 抖音金额 | K13: =SUMIF($A$2:$A$2000,$Z$10,$C$2:$C$2000) | Z13: =渠道05!F3
C14: =IFERROR(VLOOKUP(B14,INDIRECT(A14&"!$F$5:$G$13"),2,0),"")
C15: =IFERROR(VLOOKUP(B15,INDIRECT(A15&"!$F$5:$G$13"),2,0),"") | D15: 本班微信 | E15: =G3-E3 | F15: 本班现金 | G15: =G1-E1 | H15: 人工数量 | I15: =COUNTIF(A2:A2000,Z11) | J15: 人工金额 | K15: =SUMIF($A$2:$A$2000,$Z$11,$C$2:$C$2000)
C16: =IFERROR(VLOOKUP(B16,INDIRECT(A16&"!$F$5:$G$13"),2,0),"")
C17: =IFERROR(VLOOKUP(B17,INDIRECT(A17&"!$F$5:$G$13"),2,0),"") | D17: 本班支付宝 | E17: =G7-E7 | F17: 差额 | G17: =((G13+E15+G15+E17)-(E11+E13+G11)) | H17: 瓶装水换购 | I17: =COUNTIF(A2:A2000,$Z$12) | J17: 瓶装水金额 | K17: =SUMIF($A$2:$A$2000,$Z$12,$C$2:$C$2000)
C18: =IFERROR(VLOOKUP(B18,INDIRECT(A18&"!$F$5:$G$13"),2,0),"")
C19: =IFERROR(VLOOKUP(B19,INDIRECT(A19&"!$F$5:$G$13"),2,0),"") | H19: 槟榔换购 | I19: =COUNTIF(A2:A2000,Z13) | J19: 槟榔金额 | K19: =SUMIF($A$2:$A$2000,$Z$13,$C$2:$C$2000)
C20: =IFERROR(VLOOKUP(B20,INDIRECT(A20&"!$F$5:$G$13"),2,0),"")
C21: =IFERROR(VLOOKUP(B21,INDIRECT(A21&"!$F$5:$G$13"),2,0),"")
C22: =IFERROR(VLOOKUP(B22,INDIRECT(A22&"!$F$5:$G$13"),2,0),"")
C23: =IFERROR(VLOOKUP(B23,INDIRECT(A23&"!$F$5:$G$13"),2,0),"") | F23: 上交款 | G23: =E15+E17+G15
C24: =IFERROR(VLOOKUP(B24,INDIRECT(A24&"!$F$5:$G$13"),2,0),"")
C25: =IFERROR(VLOOKUP(B25,INDIRECT(A25&"!$F$5:$G$13"),2,0),"")
C26: =IFERROR(VLOOKUP(B26,INDIRECT(A26&"!$F$5:$G$13"),2,0),"")
C27: =IFERROR(VLOOKUP(B27,INDIRECT(A27&"!$F$5:$G$13"),2,0),"")
C28: =IFERROR(VLOOKUP(B28,INDIRECT(A28&"!$F$5:$G$13"),2,0),"")
C29: =IFERROR(VLOOKUP(B29,INDIRECT(A29&"!$F$5:$G$13"),2,0),"")
C30: =IFERROR(VLOOKUP(B30,INDIRECT(A30&"!$F$5:$G$13"),2,0),"")
C31: =IFERROR(VLOOKUP(B31,INDIRECT(A31&"!$F$5:$G$13"),2,0),"")
C32: =IFERROR(VLOOKUP(B32,INDIRECT(A32&"!$F$5:$G$13"),2,0),"")
C33: =IFERROR(VLOOKUP(B33,INDIRECT(A33&"!$F$5:$G$13"),2,0),"")
C34: =IFERROR(VLOOKUP(B34,INDIRECT(A34&"!$F$5:$G$13"),2,0),"")
C35: =IFERROR(VLOOKUP(B35,INDIRECT(A35&"!$F$5:$G$13"),2,0),"")
... C260: =IFERROR(VLOOKUP(B260,INDIRECT(A260&"!$F$5:$G$13"),2,0),"")

Sheet 15日夜
A1: 减账原因 | B1: 类目 | C1: 金额 | D1: 上班现金 | E1: ='15日白'!G1 | F1: 下班现金 | H1: =人工!H3 | I1: 姓名01 | K1: =人工!I3 | L1: 姓名02 | N1: =人工!J3 | O1: 姓名03
C2: =IFERROR(VLOOKUP(B2,INDIRECT(A2&"!$F$5:$G$13"),2,0),"")
C3: =IFERROR(VLOOKUP(B3,INDIRECT(A3&"!$F$5:$G$13"),2,0),"") | D3: 上班微信 | E3: ='15日白'!G3 | F3: 下班微信
C4: =IFERROR(VLOOKUP(B4,INDIRECT(A4&"!$F$5:$G$13"),2,0),"")
C5: =IFERROR(VLOOKUP(B5,INDIRECT(A5&"!$F$5:$G$13"),2,0),"")
C6: =IFERROR(VLOOKUP(B6,INDIRECT(A6&"!$F$5:$G$13"),2,0),"")
C7: =IFERROR(VLOOKUP(B7,INDIRECT(A7&"!$F$5:$G$13"),2,0),"") | D7: 上班支付宝 | E7: ='15日白'!G7 | F7: 下班支付宝
C8: =IFERROR(VLOOKUP(B8,INDIRECT(A8&"!$F$5:$G$13"),2,0),"")
C9: =IFERROR(VLOOKUP(B9,INDIRECT(A9&"!$F$5:$G$13"),2,0),"") | D9: 抄表区 | Z9: =渠道01!F3
C10: =IFERROR(VLOOKUP(B10,INDIRECT(A10&"!$F$5:$G$13"),2,0),"") | Z10: =渠道02!F3
C11: =IFERROR(VLOOKUP(B11,INDIRECT(A11&"!$F$5:$G$13"),2,0),"") | D11: 本班网费 | F11: 商品 | H11: 美团数量 | I11: =COUNTIF(A2:A2000,Z9) | J11: 美团金额 | K11: =SUMIF($A$2:$A$2000,$Z$9,$C$2:$C$2000) | Z11: =渠道03!F3
C12: =IFERROR(VLOOKUP(B12,INDIRECT(A12&"!$F$5:$G$13"),2,0),"") | Z12: =渠道04!F3
C13: =IFERROR(VLOOKUP(B13,INDIRECT(A13&"!$F$5:$G$13"),2,0),"") | D13: 本班XY | F13: 减账合计 | G13: =SUM(C$2:C$2000) | H13: 抖音数量 | I13: =COUNTIF(A2:A2000,Z10) | J13: 抖音金额 | K13: =SUMIF($A$2:$A$2000,$Z$10,$C$2:$C$2000) | Z13: =渠道05!F3
C14: =IFERROR(VLOOKUP(B14,INDIRECT(A14&"!$F$5:$G$13"),2,0),"")
C15: =IFERROR(VLOOKUP(B15,INDIRECT(A15&"!$F$5:$G$13"),2,0),"") | D15: 本班微信 | E15: =G3-E3 | F15: 本班现金 | G15: =G1-E1 | H15: 人工数量 | I15: =COUNTIF(A2:A2000,Z11) | J15: 人工金额 | K15: =SUMIF($A$2:$A$2000,$Z$11,$C$2:$C$2000)
C16: =IFERROR(VLOOKUP(B16,INDIRECT(A16&"!$F$5:$G$13"),2,0),"")
C17: =IFERROR(VLOOKUP(B17,INDIRECT(A17&"!$F$5:$G$13"),2,0),"") | D17: 本班支付宝 | E17: =G7-E7 | F17: 差额 | G17: =((G13+E15+G15+E17)-(E11+E13+G11)) | H17: 瓶装水换购 | I17: =COUNTIF(A2:A2000,$Z$12) | J17: 瓶装水金额 | K17: =SUMIF($A$2:$A$2000,$Z$12,$C$2:$C$2000)
C18: =IFERROR(VLOOKUP(B18,INDIRECT(A18&"!$F$5:$G$13"),2,0),"")
C19: =IFERROR(VLOOKUP(B19,INDIRECT(A19&"!$F$5:$G$13"),2,0),"") | H19: 槟榔换购 | I19: =COUNTIF(A2:A2000,Z13) | J19: 槟榔金额 | K19: =SUMIF($A$2:$A$2000,$Z$13,$C$2:$C$2000)
C20: =IFERROR(VLOOKUP(B20,INDIRECT(A20&"!$F$5:$G$13"),2,0),"")
C21: =IFERROR(VLOOKUP(B21,INDIRECT(A21&"!$F$5:$G$13"),2,0),"")
C22: =IFERROR(VLOOKUP(B22,INDIRECT(A22&"!$F$5:$G$13"),2,0),"")
C23: =IFERROR(VLOOKUP(B23,INDIRECT(A23&"!$F$5:$G$13"),2,0),"") | F23: 上交款 | G23: =E15+E17+G15
C24: =IFERROR(VLOOKUP(B24,INDIRECT(A24&"!$F$5:$G$13"),2,0),"")
C25: =IFERROR(VLOOKUP(B25,INDIRECT(A25&"!$F$5:$G$13"),2,0),"")
C26: =IFERROR(VLOOKUP(B26,INDIRECT(A26&"!$F$5:$G$13"),2,0),"")
C27: =IFERROR(VLOOKUP(B27,INDIRECT(A27&"!$F$5:$G$13"),2,0),"")
C28: =IFERROR(VLOOKUP(B28,INDIRECT(A28&"!$F$5:$G$13"),2,0),"")
C29: =IFERROR(VLOOKUP(B29,INDIRECT(A29&"!$F$5:$G$13"),2,0),"")
C30: =IFERROR(VLOOKUP(B30,INDIRECT(A30&"!$F$5:$G$13"),2,0),"")
C31: =IFERROR(VLOOKUP(B31,INDIRECT(A31&"!$F$5:$G$13"),2,0),"")
C32: =IFERROR(VLOOKUP(B32,INDIRECT(A32&"!$F$5:$G$13"),2,0),"")
C33: =IFERROR(VLOOKUP(B33,INDIRECT(A33&"!$F$5:$G$13"),2,0),"")
C34: =IFERROR(VLOOKUP(B34,INDIRECT(A34&"!$F$5:$G$13"),2,0),"")
C35: =IFERROR(VLOOKUP(B35,INDIRECT(A35&"!$F$5:$G$13"),2,0),"")
... C260: =IFERROR(VLOOKUP(B260,INDIRECT(A260&"!$F$5:$G$13"),2,0),"")

Sheet 16日白
A1: 减账原因 | B1: 类目 | C1: 金额 | D1: 上班现金 | E1: ='15日夜'!G1 | F1: 下班现金 | H1: =人工!H3 | I1: 姓名01 | K1: =人工!I3 | L1: 姓名02 | N1: =人工!J3 | O1: 姓名03
C2: =IFERROR(VLOOKUP(B2,INDIRECT(A2&"!$F$5:$G$13"),2,0),"")
C3: =IFERROR(VLOOKUP(B3,INDIRECT(A3&"!$F$5:$G$13"),2,0),"") | D3: 上班微信 | E3: ='15日夜'!G3 | F3: 下班微信
C4: =IFERROR(VLOOKUP(B4,INDIRECT(A4&"!$F$5:$G$13"),2,0),"")
C5: =IFERROR(VLOOKUP(B5,INDIRECT(A5&"!$F$5:$G$13"),2,0),"")
C6: =IFERROR(VLOOKUP(B6,INDIRECT(A6&"!$F$5:$G$13"),2,0),"")
C7: =IFERROR(VLOOKUP(B7,INDIRECT(A7&"!$F$5:$G$13"),2,0),"") | D7: 上班支付宝 | E7: ='15日夜'!G7 | F7: 下班支付宝
C8: =IFERROR(VLOOKUP(B8,INDIRECT(A8&"!$F$5:$G$13"),2,0),"")
C9: =IFERROR(VLOOKUP(B9,INDIRECT(A9&"!$F$5:$G$13"),2,0),"") | D9: 抄表区 | Z9: =渠道01!F3
C10: =IFERROR(VLOOKUP(B10,INDIRECT(A10&"!$F$5:$G$13"),2,0),"") | Z10: =渠道02!F3
C11: =IFERROR(VLOOKUP(B11,INDIRECT(A11&"!$F$5:$G$13"),2,0),"") | D11: 本班网费 | F11: 商品 | H11: 美团数量 | I11: =COUNTIF(A2:A2000,Z9) | J11: 美团金额 | K11: =SUMIF($A$2:$A$2000,$Z$9,$C$2:$C$2000) | Z11: =渠道03!F3
C12: =IFERROR(VLOOKUP(B12,INDIRECT(A12&"!$F$5:$G$13"),2,0),"") | Z12: =渠道04!F3
C13: =IFERROR(VLOOKUP(B13,INDIRECT(A13&"!$F$5:$G$13"),2,0),"") | D13: 本班XY | F13: 减账合计 | G13: =SUM(C$2:C$2000) | H13: 抖音数量 | I13: =COUNTIF(A2:A2000,Z10) | J13: 抖音金额 | K13: =SUMIF($A$2:$A$2000,$Z$10,$C$2:$C$2000) | Z13: =渠道05!F3
C14: =IFERROR(VLOOKUP(B14,INDIRECT(A14&"!$F$5:$G$13"),2,0),"")
C15: =IFERROR(VLOOKUP(B15,INDIRECT(A15&"!$F$5:$G$13"),2,0),"") | D15: 本班微信 | E15: =G3-E3 | F15: 本班现金 | G15: =G1-E1 | H15: 人工数量 | I15: =COUNTIF(A2:A2000,Z11) | J15: 人工金额 | K15: =SUMIF($A$2:$A$2000,$Z$11,$C$2:$C$2000)
C16: =IFERROR(VLOOKUP(B16,INDIRECT(A16&"!$F$5:$G$13"),2,0),"")
C17: =IFERROR(VLOOKUP(B17,INDIRECT(A17&"!$F$5:$G$13"),2,0),"") | D17: 本班支付宝 | E17: =G7-E7 | F17: 差额 | G17: =((G13+E15+G15+E17)-(E11+E13+G11)) | H17: 瓶装水换购 | I17: =COUNTIF(A2:A2000,$Z$12) | J17: 瓶装水金额 | K17: =SUMIF($A$2:$A$2000,$Z$12,$C$2:$C$2000)
C18: =IFERROR(VLOOKUP(B18,INDIRECT(A18&"!$F$5:$G$13"),2,0),"")
C19: =IFERROR(VLOOKUP(B19,INDIRECT(A19&"!$F$5:$G$13"),2,0),"") | H19: 槟榔换购 | I19: =COUNTIF(A2:A2000,Z13) | J19: 槟榔金额 | K19: =SUMIF($A$2:$A$2000,$Z$13,$C$2:$C$2000)
C20: =IFERROR(VLOOKUP(B20,INDIRECT(A20&"!$F$5:$G$13"),2,0),"")
C21: =IFERROR(VLOOKUP(B21,INDIRECT(A21&"!$F$5:$G$13"),2,0),"")
C22: =IFERROR(VLOOKUP(B22,INDIRECT(A22&"!$F$5:$G$13"),2,0),"")
C23: =IFERROR(VLOOKUP(B23,INDIRECT(A23&"!$F$5:$G$13"),2,0),"") | F23: 上交款 | G23: =E15+E17+G15
C24: =IFERROR(VLOOKUP(B24,INDIRECT(A24&"!$F$5:$G$13"),2,0),"")
C25: =IFERROR(VLOOKUP(B25,INDIRECT(A25&"!$F$5:$G$13"),2,0),"")
C26: =IFERROR(VLOOKUP(B26,INDIRECT(A26&"!$F$5:$G$13"),2,0),"")
C27: =IFERROR(VLOOKUP(B27,INDIRECT(A27&"!$F$5:$G$13"),2,0),"")
C28: =IFERROR(VLOOKUP(B28,INDIRECT(A28&"!$F$5:$G$13"),2,0),"")
C29: =IFERROR(VLOOKUP(B29,INDIRECT(A29&"!$F$5:$G$13"),2,0),"")
C30: =IFERROR(VLOOKUP(B30,INDIRECT(A30&"!$F$5:$G$13"),2,0),"")
C31: =IFERROR(VLOOKUP(B31,INDIRECT(A31&"!$F$5:$G$13"),2,0),"")
C32: =IFERROR(VLOOKUP(B32,INDIRECT(A32&"!$F$5:$G$13"),2,0),"")
C33: =IFERROR(VLOOKUP(B33,INDIRECT(A33&"!$F$5:$G$13"),2,0),"")
C34: =IFERROR(VLOOKUP(B34,INDIRECT(A34&"!$F$5:$G$13"),2,0),"")
C35: =IFERROR(VLOOKUP(B35,INDIRECT(A35&"!$F$5:$G$13"),2,0),"")
... C260: =IFERROR(VLOOKUP(B260,INDIRECT(A260&"!$F$5:$G$13"),2,0),"")

Sheet 16日夜
A1: 减账原因 | B1: 类目 | C1: 金额 | D1: 上班现金 | E1: ='16日白'!G1 | F1: 下班现金 | H1: =人工!H3 | I1: 姓名01 | K1: =人工!I3 | L1: 姓名02 | N1: =人工!J3 | O1: 姓名03
C2: =IFERROR(VLOOKUP(B2,INDIRECT(A2&"!$F$5:$G$13"),2,0),"")
C3: =IFERROR(VLOOKUP(B3,INDIRECT(A3&"!$F$5:$G$13"),2,0),"") | D3: 上班微信 | E3: ='16日白'!G3 | F3: 下班微信
C4: =IFERROR(VLOOKUP(B4,INDIRECT(A4&"!$F$5:$G$13"),2,0),"")
C5: =IFERROR(VLOOKUP(B5,INDIRECT(A5&"!$F$5:$G$13"),2,0),"")
C6: =IFERROR(VLOOKUP(B6,INDIRECT(A6&"!$F$5:$G$13"),2,0),"")
C7: =IFERROR(VLOOKUP(B7,INDIRECT(A7&"!$F$5:$G$13"),2,0),"") | D7: 上班支付宝 | E7: ='16日白'!G7 | F7: 下班支付宝
C8: =IFERROR(VLOOKUP(B8,INDIRECT(A8&"!$F$5:$G$13"),2,0),"")
C9: =IFERROR(VLOOKUP(B9,INDIRECT(A9&"!$F$5:$G$13"),2,0),"") | D9: 抄表区 | Z9: =渠道01!F3
C10: =IFERROR(VLOOKUP(B10,INDIRECT(A10&"!$F$5:$G$13"),2,0),"") | Z10: =渠道02!F3
C11: =IFERROR(VLOOKUP(B11,INDIRECT(A11&"!$F$5:$G$13"),2,0),"") | D11: 本班网费 | F11: 商品 | H11: 美团数量 | I11: =COUNTIF(A2:A2000,Z9) | J11: 美团金额 | K11: =SUMIF($A$2:$A$2000,$Z$9,$C$2:$C$2000) | Z11: =渠道03!F3
C12: =IFERROR(VLOOKUP(B12,INDIRECT(A12&"!$F$5:$G$13"),2,0),"") | Z12: =渠道04!F3
C13: =IFERROR(VLOOKUP(B13,INDIRECT(A13&"!$F$5:$G$13"),2,0),"") | D13: 本班XY | F13: 减账合计 | G13: =SUM(C$2:C$2000) | H13: 抖音数量 | I13: =COUNTIF(A2:A2000,Z10) | J13: 抖音金额 | K13: =SUMIF($A$2:$A$2000,$Z$10,$C$2:$C$2000) | Z13: =渠道05!F3
C14: =IFERROR(VLOOKUP(B14,INDIRECT(A14&"!$F$5:$G$13"),2,0),"")
C15: =IFERROR(VLOOKUP(B15,INDIRECT(A15&"!$F$5:$G$13"),2,0),"") | D15: 本班微信 | E15: =G3-E3 | F15: 本班现金 | G15: =G1-E1 | H15: 人工数量 | I15: =COUNTIF(A2:A2000,Z11) | J15: 人工金额 | K15: =SUMIF($A$2:$A$2000,$Z$11,$C$2:$C$2000)
C16: =IFERROR(VLOOKUP(B16,INDIRECT(A16&"!$F$5:$G$13"),2,0),"")
C17: =IFERROR(VLOOKUP(B17,INDIRECT(A17&"!$F$5:$G$13"),2,0),"") | D17: 本班支付宝 | E17: =G7-E7 | F17: 差额 | G17: =((G13+E15+G15+E17)-(E11+E13+G11)) | H17: 瓶装水换购 | I17: =COUNTIF(A2:A2000,$Z$12) | J17: 瓶装水金额 | K17: =SUMIF($A$2:$A$2000,$Z$12,$C$2:$C$2000)
C18: =IFERROR(VLOOKUP(B18,INDIRECT(A18&"!$F$5:$G$13"),2,0),"")
C19: =IFERROR(VLOOKUP(B19,INDIRECT(A19&"!$F$5:$G$13"),2,0),"") | H19: 槟榔换购 | I19: =COUNTIF(A2:A2000,Z13) | J19: 槟榔金额 | K19: =SUMIF($A$2:$A$2000,$Z$13,$C$2:$C$2000)
C20: =IFERROR(VLOOKUP(B20,INDIRECT(A20&"!$F$5:$G$13"),2,0),"")
C21: =IFERROR(VLOOKUP(B21,INDIRECT(A21&"!$F$5:$G$13"),2,0),"")
C22: =IFERROR(VLOOKUP(B22,INDIRECT(A22&"!$F$5:$G$13"),2,0),"")
C23: =IFERROR(VLOOKUP(B23,INDIRECT(A23&"!$F$5:$G$13"),2,0),"") | F23: 上交款 | G23: =E15+E17+G15
C24: =IFERROR(VLOOKUP(B24,INDIRECT(A24&"!$F$5:$G$13"),2,0),"")
C25: =IFERROR(VLOOKUP(B25,INDIRECT(A25&"!$F$5:$G$13"),2,0),"")
C26: =IFERROR(VLOOKUP(B26,INDIRECT(A26&"!$F$5:$G$13"),2,0),"")
C27: =IFERROR(VLOOKUP(B27,INDIRECT(A27&"!$F$5:$G$13"),2,0),"")
C28: =IFERROR(VLOOKUP(B28,INDIRECT(A28&"!$F$5:$G$13"),2,0),"")
C29: =IFERROR(VLOOKUP(B29,INDIRECT(A29&"!$F$5:$G$13"),2,0),"")
C30: =IFERROR(VLOOKUP(B30,INDIRECT(A30&"!$F$5:$G$13"),2,0),"")
C31: =IFERROR(VLOOKUP(B31,INDIRECT(A31&"!$F$5:$G$13"),2,0),"")
C32: =IFERROR(VLOOKUP(B32,INDIRECT(A32&"!$F$5:$G$13"),2,0),"")
C33: =IFERROR(VLOOKUP(B33,INDIRECT(A33&"!$F$5:$G$13"),2,0),"")
C34: =IFERROR(VLOOKUP(B34,INDIRECT(A34&"!$F$5:$G$13"),2,0),"")
C35: =IFERROR(VLOOKUP(B35,INDIRECT(A35&"!$F$5:$G$13"),2,0),"")
... C260: =IFERROR(VLOOKUP(B260,INDIRECT(A260&"!$F$5:$G$13"),2,0),"")

Sheet 17日白
A1: 减账原因 | B1: 类目 | C1: 金额 | D1: 上班现金 | E1: ='16日夜'!G1 | F1: 下班现金 | H1: =人工!H3 | I1: 姓名01 | K1: =人工!I3 | L1: 姓名02 | N1: =人工!J3 | O1: 姓名03
C2: =IFERROR(VLOOKUP(B2,INDIRECT(A2&"!$F$5:$G$13"),2,0),"")
C3: =IFERROR(VLOOKUP(B3,INDIRECT(A3&"!$F$5:$G$13"),2,0),"") | D3: 上班微信 | E3: ='16日夜'!G3 | F3: 下班微信
C4: =IFERROR(VLOOKUP(B4,INDIRECT(A4&"!$F$5:$G$13"),2,0),"")
C5: =IFERROR(VLOOKUP(B5,INDIRECT(A5&"!$F$5:$G$13"),2,0),"")
C6: =IFERROR(VLOOKUP(B6,INDIRECT(A6&"!$F$5:$G$13"),2,0),"")
C7: =IFERROR(VLOOKUP(B7,INDIRECT(A7&"!$F$5:$G$13"),2,0),"") | D7: 上班支付宝 | E7: ='16日夜'!G7 | F7: 下班支付宝
C8: =IFERROR(VLOOKUP(B8,INDIRECT(A8&"!$F$5:$G$13"),2,0),"")
C9: =IFERROR(VLOOKUP(B9,INDIRECT(A9&"!$F$5:$G$13"),2,0),"") | D9: 抄表区 | Z9: =渠道01!F3
C10: =IFERROR(VLOOKUP(B10,INDIRECT(A10&"!$F$5:$G$13"),2,0),"") | Z10: =渠道02!F3
C11: =IFERROR(VLOOKUP(B11,INDIRECT(A11&"!$F$5:$G$13"),2,0),"") | D11: 本班网费 | F11: 商品 | H11: 美团数量 | I11: =COUNTIF(A2:A2000,Z9) | J11: 美团金额 | K11: =SUMIF($A$2:$A$2000,$Z$9,$C$2:$C$2000) | Z11: =渠道03!F3
C12: =IFERROR(VLOOKUP(B12,INDIRECT(A12&"!$F$5:$G$13"),2,0),"") | Z12: =渠道04!F3
C13: =IFERROR(VLOOKUP(B13,INDIRECT(A13&"!$F$5:$G$13"),2,0),"") | D13: 本班XY | F13: 减账合计 | G13: =SUM(C$2:C$2000) | H13: 抖音数量 | I13: =COUNTIF(A2:A2000,Z10) | J13: 抖音金额 | K13: =SUMIF($A$2:$A$2000,$Z$10,$C$2:$C$2000) | Z13: =渠道05!F3
C14: =IFERROR(VLOOKUP(B14,INDIRECT(A14&"!$F$5:$G$13"),2,0),"")
C15: =IFERROR(VLOOKUP(B15,INDIRECT(A15&"!$F$5:$G$13"),2,0),"") | D15: 本班微信 | E15: =G3-E3 | F15: 本班现金 | G15: =G1-E1 | H15: 人工数量 | I15: =COUNTIF(A2:A2000,Z11) | J15: 人工金额 | K15: =SUMIF($A$2:$A$2000,$Z$11,$C$2:$C$2000)
C16: =IFERROR(VLOOKUP(B16,INDIRECT(A16&"!$F$5:$G$13"),2,0),"")
C17: =IFERROR(VLOOKUP(B17,INDIRECT(A17&"!$F$5:$G$13"),2,0),"") | D17: 本班支付宝 | E17: =G7-E7 | F17: 差额 | G17: =((G13+E15+G15+E17)-(E11+E13+G11)) | H17: 瓶装水换购 | I17: =COUNTIF(A2:A2000,$Z$12) | J17: 瓶装水金额 | K17: =SUMIF($A$2:$A$2000,$Z$12,$C$2:$C$2000)
C18: =IFERROR(VLOOKUP(B18,INDIRECT(A18&"!$F$5:$G$13"),2,0),"")
C19: =IFERROR(VLOOKUP(B19,INDIRECT(A19&"!$F$5:$G$13"),2,0),"") | H19: 槟榔换购 | I19: =COUNTIF(A2:A2000,Z13) | J19: 槟榔金额 | K19: =SUMIF($A$2:$A$2000,$Z$13,$C$2:$C$2000)
C20: =IFERROR(VLOOKUP(B20,INDIRECT(A20&"!$F$5:$G$13"),2,0),"")
C21: =IFERROR(VLOOKUP(B21,INDIRECT(A21&"!$F$5:$G$13"),2,0),"")
C22: =IFERROR(VLOOKUP(B22,INDIRECT(A22&"!$F$5:$G$13"),2,0),"")
C23: =IFERROR(VLOOKUP(B23,INDIRECT(A23&"!$F$5:$G$13"),2,0),"") | F23: 上交款 | G23: =E15+E17+G15
C24: =IFERROR(VLOOKUP(B24,INDIRECT(A24&"!$F$5:$G$13"),2,0),"")
C25: =IFERROR(VLOOKUP(B25,INDIRECT(A25&"!$F$5:$G$13"),2,0),"")
C26: =IFERROR(VLOOKUP(B26,INDIRECT(A26&"!$F$5:$G$13"),2,0),"")
C27: =IFERROR(VLOOKUP(B27,INDIRECT(A27&"!$F$5:$G$13"),2,0),"")
C28: =IFERROR(VLOOKUP(B28,INDIRECT(A28&"!$F$5:$G$13"),2,0),"")
C29: =IFERROR(VLOOKUP(B29,INDIRECT(A29&"!$F$5:$G$13"),2,0),"")
C30: =IFERROR(VLOOKUP(B30,INDIRECT(A30&"!$F$5:$G$13"),2,0),"")
C31: =IFERROR(VLOOKUP(B31,INDIRECT(A31&"!$F$5:$G$13"),2,0),"")
C32: =IFERROR(VLOOKUP(B32,INDIRECT(A32&"!$F$5:$G$13"),2,0),"")
C33: =IFERROR(VLOOKUP(B33,INDIRECT(A33&"!$F$5:$G$13"),2,0),"")
C34: =IFERROR(VLOOKUP(B34,INDIRECT(A34&"!$F$5:$G$13"),2,0),"")
C35: =IFERROR(VLOOKUP(B35,INDIRECT(A35&"!$F$5:$G$13"),2,0),"")
... C260: =IFERROR(VLOOKUP(B260,INDIRECT(A260&"!$F$5:$G$13"),2,0),"")

Sheet 17日夜
A1: 减账原因 | B1: 类目 | C1: 金额 | D1: 上班现金 | E1: ='17日白'!G1 | F1: 下班现金 | H1: =人工!H3 | I1: 姓名01 | K1: =人工!I3 | L1: 姓名02 | N1: =人工!J3 | O1: 姓名03
C2: =IFERROR(VLOOKUP(B2,INDIRECT(A2&"!$F$5:$G$13"),2,0),"")
C3: =IFERROR(VLOOKUP(B3,INDIRECT(A3&"!$F$5:$G$13"),2,0),"") | D3: 上班微信 | E3: ='17日白'!G3 | F3: 下班微信
C4: =IFERROR(VLOOKUP(B4,INDIRECT(A4&"!$F$5:$G$13"),2,0),"")
C5: =IFERROR(VLOOKUP(B5,INDIRECT(A5&"!$F$5:$G$13"),2,0),"")
C6: =IFERROR(VLOOKUP(B6,INDIRECT(A6&"!$F$5:$G$13"),2,0),"")
C7: =IFERROR(VLOOKUP(B7,INDIRECT(A7&"!$F$5:$G$13"),2,0),"") | D7: 上班支付宝 | E7: ='17日白'!G7 | F7: 下班支付宝
C8: =IFERROR(VLOOKUP(B8,INDIRECT(A8&"!$F$5:$G$13"),2,0),"")
C9: =IFERROR(VLOOKUP(B9,INDIRECT(A9&"!$F$5:$G$13"),2,0),"") | D9: 抄表区 | Z9: =渠道01!F3
C10: =IFERROR(VLOOKUP(B10,INDIRECT(A10&"!$F$5:$G$13"),2,0),"") | Z10: =渠道02!F3
C11: =IFERROR(VLOOKUP(B11,INDIRECT(A11&"!$F$5:$G$13"),2,0),"") | D11: 本班网费 | F11: 商品 | H11: 美团数量 | I11: =COUNTIF(A2:A2000,Z9) | J11: 美团金额 | K11: =SUMIF($A$2:$A$2000,$Z$9,$C$2:$C$2000) | Z11: =渠道03!F3
C12: =IFERROR(VLOOKUP(B12,INDIRECT(A12&"!$F$5:$G$13"),2,0),"") | Z12: =渠道04!F3
C13: =IFERROR(VLOOKUP(B13,INDIRECT(A13&"!$F$5:$G$13"),2,0),"") | D13: 本班XY | F13: 减账合计 | G13: =SUM(C$2:C$2000) | H13: 抖音数量 | I13: =COUNTIF(A2:A2000,Z10) | J13: 抖音金额 | K13: =SUMIF($A$2:$A$2000,$Z$10,$C$2:$C$2000) | Z13: =渠道05!F3
C14: =IFERROR(VLOOKUP(B14,INDIRECT(A14&"!$F$5:$G$13"),2,0),"")
C15: =IFERROR(VLOOKUP(B15,INDIRECT(A15&"!$F$5:$G$13"),2,0),"") | D15: 本班微信 | E15: =G3-E3 | F15: 本班现金 | G15: =G1-E1 | H15: 人工数量 | I15: =COUNTIF(A2:A2000,Z11) | J15: 人工金额 | K15: =SUMIF($A$2:$A$2000,$Z$11,$C$2:$C$2000)
C16: =IFERROR(VLOOKUP(B16,INDIRECT(A16&"!$F$5:$G$13"),2,0),"")
C17: =IFERROR(VLOOKUP(B17,INDIRECT(A17&"!$F$5:$G$13"),2,0),"") | D17: 本班支付宝 | E17: =G7-E7 | F17: 差额 | G17: =((G13+E15+G15+E17)-(E11+E13+G11)) | H17: 瓶装水换购 | I17: =COUNTIF(A2:A2000,$Z$12) | J17: 瓶装水金额 | K17: =SUMIF($A$2:$A$2000,$Z$12,$C$2:$C$2000)
C18: =IFERROR(VLOOKUP(B18,INDIRECT(A18&"!$F$5:$G$13"),2,0),"")
C19: =IFERROR(VLOOKUP(B19,INDIRECT(A19&"!$F$5:$G$13"),2,0),"") | H19: 槟榔换购 | I19: =COUNTIF(A2:A2000,Z13) | J19: 槟榔金额 | K19: =SUMIF($A$2:$A$2000,$Z$13,$C$2:$C$2000)
C20: =IFERROR(VLOOKUP(B20,INDIRECT(A20&"!$F$5:$G$13"),2,0),"")
C21: =IFERROR(VLOOKUP(B21,INDIRECT(A21&"!$F$5:$G$13"),2,0),"")
C22: =IFERROR(VLOOKUP(B22,INDIRECT(A22&"!$F$5:$G$13"),2,0),"")
C23: =IFERROR(VLOOKUP(B23,INDIRECT(A23&"!$F$5:$G$13"),2,0),"") | F23: 上交款 | G23: =E15+E17+G15
C24: =IFERROR(VLOOKUP(B24,INDIRECT(A24&"!$F$5:$G$13"),2,0),"")
C25: =IFERROR(VLOOKUP(B25,INDIRECT(A25&"!$F$5:$G$13"),2,0),"")
C26: =IFERROR(VLOOKUP(B26,INDIRECT(A26&"!$F$5:$G$13"),2,0),"")
C27: =IFERROR(VLOOKUP(B27,INDIRECT(A27&"!$F$5:$G$13"),2,0),"")
C28: =IFERROR(VLOOKUP(B28,INDIRECT(A28&"!$F$5:$G$13"),2,0),"")
C29: =IFERROR(VLOOKUP(B29,INDIRECT(A29&"!$F$5:$G$13"),2,0),"")
C30: =IFERROR(VLOOKUP(B30,INDIRECT(A30&"!$F$5:$G$13"),2,0),"")
C31: =IFERROR(VLOOKUP(B31,INDIRECT(A31&"!$F$5:$G$13"),2,0),"")
C32: =IFERROR(VLOOKUP(B32,INDIRECT(A32&"!$F$5:$G$13"),2,0),"")
C33: =IFERROR(VLOOKUP(B33,INDIRECT(A33&"!$F$5:$G$13"),2,0),"")
C34: =IFERROR(VLOOKUP(B34,INDIRECT(A34&"!$F$5:$G$13"),2,0),"")
C35: =IFERROR(VLOOKUP(B35,INDIRECT(A35&"!$F$5:$G$13"),2,0),"")
... C260: =IFERROR(VLOOKUP(B260,INDIRECT(A260&"!$F$5:$G$13"),2,0),"")

Sheet 18日白
A1: 减账原因 | B1: 类目 | C1: 金额 | D1: 上班现金 | E1: ='17日夜'!G1 | F1: 下班现金 | H1: =人工!H3 | I1: 姓名01 | K1: =人工!I3 | L1: 姓名02 | N1: =人工!J3 | O1: 姓名03
C2: =IFERROR(VLOOKUP(B2,INDIRECT(A2&"!$F$5:$G$13"),2,0),"")
C3: =IFERROR(VLOOKUP(B3,INDIRECT(A3&"!$F$5:$G$13"),2,0),"") | D3: 上班微信 | E3: ='17日夜'!G3 | F3: 下班微信
C4: =IFERROR(VLOOKUP(B4,INDIRECT(A4&"!$F$5:$G$13"),2,0),"")
C5: =IFERROR(VLOOKUP(B5,INDIRECT(A5&"!$F$5:$G$13"),2,0),"")
C6: =IFERROR(VLOOKUP(B6,INDIRECT(A6&"!$F$5:$G$13"),2,0),"")
C7: =IFERROR(VLOOKUP(B7,INDIRECT(A7&"!$F$5:$G$13"),2,0),"") | D7: 上班支付宝 | E7: ='17日夜'!G7 | F7: 下班支付宝
C8: =IFERROR(VLOOKUP(B8,INDIRECT(A8&"!$F$5:$G$13"),2,0),"")
C9: =IFERROR(VLOOKUP(B9,INDIRECT(A9&"!$F$5:$G$13"),2,0),"") | D9: 抄表区 | Z9: =渠道01!F3
C10: =IFERROR(VLOOKUP(B10,INDIRECT(A10&"!$F$5:$G$13"),2,0),"") | Z10: =渠道02!F3
C11: =IFERROR(VLOOKUP(B11,INDIRECT(A11&"!$F$5:$G$13"),2,0),"") | D11: 本班网费 | F11: 商品 | H11: 美团数量 | I11: =COUNTIF(A2:A2000,Z9) | J11: 美团金额 | K11: =SUMIF($A$2:$A$2000,$Z$9,$C$2:$C$2000) | Z11: =渠道03!F3
C12: =IFERROR(VLOOKUP(B12,INDIRECT(A12&"!$F$5:$G$13"),2,0),"") | Z12: =渠道04!F3
C13: =IFERROR(VLOOKUP(B13,INDIRECT(A13&"!$F$5:$G$13"),2,0),"") | D13: 本班XY | F13: 减账合计 | G13: =SUM(C$2:C$2000) | H13: 抖音数量 | I13: =COUNTIF(A2:A2000,Z10) | J13: 抖音金额 | K13: =SUMIF($A$2:$A$2000,$Z$10,$C$2:$C$2000) | Z13: =渠道05!F3
C14: =IFERROR(VLOOKUP(B14,INDIRECT(A14&"!$F$5:$G$13"),2,0),"")
C15: =IFERROR(VLOOKUP(B15,INDIRECT(A15&"!$F$5:$G$13"),2,0),"") | D15: 本班微信 | E15: =G3-E3 | F15: 本班现金 | G15: =G1-E1 | H15: 人工数量 | I15: =COUNTIF(A2:A2000,Z11) | J15: 人工金额 | K15: =SUMIF($A$2:$A$2000,$Z$11,$C$2:$C$2000)
C16: =IFERROR(VLOOKUP(B16,INDIRECT(A16&"!$F$5:$G$13"),2,0),"")
C17: =IFERROR(VLOOKUP(B17,INDIRECT(A17&"!$F$5:$G$13"),2,0),"") | D17: 本班支付宝 | E17: =G7-E7 | F17: 差额 | G17: =((G13+E15+G15+E17)-(E11+E13+G11)) | H17: 瓶装水换购 | I17: =COUNTIF(A2:A2000,$Z$12) | J17: 瓶装水金额 | K17: =SUMIF($A$2:$A$2000,$Z$12,$C$2:$C$2000)
C18: =IFERROR(VLOOKUP(B18,INDIRECT(A18&"!$F$5:$G$13"),2,0),"")
C19: =IFERROR(VLOOKUP(B19,INDIRECT(A19&"!$F$5:$G$13"),2,0),"") | H19: 槟榔换购 | I19: =COUNTIF(A2:A2000,Z13) | J19: 槟榔金额 | K19: =SUMIF($A$2:$A$2000,$Z$13,$C$2:$C$2000)
C20: =IFERROR(VLOOKUP(B20,INDIRECT(A20&"!$F$5:$G$13"),2,0),"")
C21: =IFERROR(VLOOKUP(B21,INDIRECT(A21&"!$F$5:$G$13"),2,0),"")
C22: =IFERROR(VLOOKUP(B22,INDIRECT(A22&"!$F$5:$G$13"),2,0),"")
C23: =IFERROR(VLOOKUP(B23,INDIRECT(A23&"!$F$5:$G$13"),2,0),"") | F23: 上交款 | G23: =E15+E17+G15
C24: =IFERROR(VLOOKUP(B24,INDIRECT(A24&"!$F$5:$G$13"),2,0),"")
C25: =IFERROR(VLOOKUP(B25,INDIRECT(A25&"!$F$5:$G$13"),2,0),"")
C26: =IFERROR(VLOOKUP(B26,INDIRECT(A26&"!$F$5:$G$13"),2,0),"")
C27: =IFERROR(VLOOKUP(B27,INDIRECT(A27&"!$F$5:$G$13"),2,0),"")
C28: =IFERROR(VLOOKUP(B28,INDIRECT(A28&"!$F$5:$G$13"),2,0),"")
C29: =IFERROR(VLOOKUP(B29,INDIRECT(A29&"!$F$5:$G$13"),2,0),"")
C30: =IFERROR(VLOOKUP(B30,INDIRECT(A30&"!$F$5:$G$13"),2,0),"")
C31: =IFERROR(VLOOKUP(B31,INDIRECT(A31&"!$F$5:$G$13"),2,0),"")
C32: =IFERROR(VLOOKUP(B32,INDIRECT(A32&"!$F$5:$G$13"),2,0),"")
C33: =IFERROR(VLOOKUP(B33,INDIRECT(A33&"!$F$5:$G$13"),2,0),"")
C34: =IFERROR(VLOOKUP(B34,INDIRECT(A34&"!$F$5:$G$13"),2,0),"")
C35: =IFERROR(VLOOKUP(B35,INDIRECT(A35&"!$F$5:$G$13"),2,0),"")
... C260: =IFERROR(VLOOKUP(B260,INDIRECT(A260&"!$F$5:$G$13"),2,0),"")

Sheet 18日夜
A1: 减账原因 | B1: 类目 | C1: 金额 | D1: 上班现金 | E1: ='18日白'!G1 | F1: 下班现金 | H1: =人工!H3 | I1: 姓名01 | K1: =人工!I3 | L1: 姓名02 | N1: =人工!J3 | O1: 姓名03
C2: =IFERROR(VLOOKUP(B2,INDIRECT(A2&"!$F$5:$G$13"),2,0),"")
C3: =IFERROR(VLOOKUP(B3,INDIRECT(A3&"!$F$5:$G$13"),2,0),"") | D3: 上班微信 | E3: ='18日白'!G3 | F3: 下班微信
C4: =IFERROR(VLOOKUP(B4,INDIRECT(A4&"!$F$5:$G$13"),2,0),"")
C5: =IFERROR(VLOOKUP(B5,INDIRECT(A5&"!$F$5:$G$13"),2,0),"")
C6: =IFERROR(VLOOKUP(B6,INDIRECT(A6&"!$F$5:$G$13"),2,0),"")
C7: =IFERROR(VLOOKUP(B7,INDIRECT(A7&"!$F$5:$G$13"),2,0),"") | D7: 上班支付宝 | E7: ='18日白'!G7 | F7: 下班支付宝
C8: =IFERROR(VLOOKUP(B8,INDIRECT(A8&"!$F$5:$G$13"),2,0),"")
C9: =IFERROR(VLOOKUP(B9,INDIRECT(A9&"!$F$5:$G$13"),2,0),"") | D9: 抄表区 | Z9: =渠道01!F3
C10: =IFERROR(VLOOKUP(B10,INDIRECT(A10&"!$F$5:$G$13"),2,0),"") | Z10: =渠道02!F3
C11: =IFERROR(VLOOKUP(B11,INDIRECT(A11&"!$F$5:$G$13"),2,0),"") | D11: 本班网费 | F11: 商品 | H11: 美团数量 | I11: =COUNTIF(A2:A2000,Z9) | J11: 美团金额 | K11: =SUMIF($A$2:$A$2000,$Z$9,$C$2:$C$2000) | Z11: =渠道03!F3
C12: =IFERROR(VLOOKUP(B12,INDIRECT(A12&"!$F$5:$G$13"),2,0),"") | Z12: =渠道04!F3
C13: =IFERROR(VLOOKUP(B13,INDIRECT(A13&"!$F$5:$G$13"),2,0),"") | D13: 本班XY | F13: 减账合计 | G13: =SUM(C$2:C$2000) | H13: 抖音数量 | I13: =COUNTIF(A2:A2000,Z10) | J13: 抖音金额 | K13: =SUMIF($A$2:$A$2000,$Z$10,$C$2:$C$2000) | Z13: =渠道05!F3
C14: =IFERROR(VLOOKUP(B14,INDIRECT(A14&"!$F$5:$G$13"),2,0),"")
C15: =IFERROR(VLOOKUP(B15,INDIRECT(A15&"!$F$5:$G$13"),2,0),"") | D15: 本班微信 | E15: =G3-E3 | F15: 本班现金 | G15: =G1-E1 | H15: 人工数量 | I15: =COUNTIF(A2:A2000,Z11) | J15: 人工金额 | K15: =SUMIF($A$2:$A$2000,$Z$11,$C$2:$C$2000)
C16: =IFERROR(VLOOKUP(B16,INDIRECT(A16&"!$F$5:$G$13"),2,0),"")
C17: =IFERROR(VLOOKUP(B17,INDIRECT(A17&"!$F$5:$G$13"),2,0),"") | D17: 本班支付宝 | E17: =G7-E7 | F17: 差额 | G17: =((G13+E15+G15+E17)-(E11+E13+G11)) | H17: 瓶装水换购 | I17: =COUNTIF(A2:A2000,$Z$12) | J17: 瓶装水金额 | K17: =SUMIF($A$2:$A$2000,$Z$12,$C$2:$C$2000)
C18: =IFERROR(VLOOKUP(B18,INDIRECT(A18&"!$F$5:$G$13"),2,0),"")
C19: =IFERROR(VLOOKUP(B19,INDIRECT(A19&"!$F$5:$G$13"),2,0),"") | H19: 槟榔换购 | I19: =COUNTIF(A2:A2000,Z13) | J19: 槟榔金额 | K19: =SUMIF($A$2:$A$2000,$Z$13,$C$2:$C$2000)
C20: =IFERROR(VLOOKUP(B20,INDIRECT(A20&"!$F$5:$G$13"),2,0),"")
C21: =IFERROR(VLOOKUP(B21,INDIRECT(A21&"!$F$5:$G$13"),2,0),"")
C22: =IFERROR(VLOOKUP(B22,INDIRECT(A22&"!$F$5:$G$13"),2,0),"")
C23: =IFERROR(VLOOKUP(B23,INDIRECT(A23&"!$F$5:$G$13"),2,0),"") | F23: 上交款 | G23: =E15+E17+G15
C24: =IFERROR(VLOOKUP(B24,INDIRECT(A24&"!$F$5:$G$13"),2,0),"")
C25: =IFERROR(VLOOKUP(B25,INDIRECT(A25&"!$F$5:$G$13"),2,0),"")
C26: =IFERROR(VLOOKUP(B26,INDIRECT(A26&"!$F$5:$G$13"),2,0),"")
C27: =IFERROR(VLOOKUP(B27,INDIRECT(A27&"!$F$5:$G$13"),2,0),"")
C28: =IFERROR(VLOOKUP(B28,INDIRECT(A28&"!$F$5:$G$13"),2,0),"")
C29: =IFERROR(VLOOKUP(B29,INDIRECT(A29&"!$F$5:$G$13"),2,0),"")
C30: =IFERROR(VLOOKUP(B30,INDIRECT(A30&"!$F$5:$G$13"),2,0),"")
C31: =IFERROR(VLOOKUP(B31,INDIRECT(A31&"!$F$5:$G$13"),2,0),"")
C32: =IFERROR(VLOOKUP(B32,INDIRECT(A32&"!$F$5:$G$13"),2,0),"")
C33: =IFERROR(VLOOKUP(B33,INDIRECT(A33&"!$F$5:$G$13"),2,0),"")
C34: =IFERROR(VLOOKUP(B34,INDIRECT(A34&"!$F$5:$G$13"),2,0),"")
C35: =IFERROR(VLOOKUP(B35,INDIRECT(A35&"!$F$5:$G$13"),2,0),"")
... C260: =IFERROR(VLOOKUP(B260,INDIRECT(A260&"!$F$5:$G$13"),2,0),"")

Sheet 19日白
A1: 减账原因 | B1: 类目 | C1: 金额 | D1: 上班现金 | E1: ='18日夜'!G1 | F1: 下班现金 | H1: =人工!H3 | I1: 姓名01 | K1: =人工!I3 | L1: 姓名02 | N1: =人工!J3 | O1: 姓名03
C2: =IFERROR(VLOOKUP(B2,INDIRECT(A2&"!$F$5:$G$13"),2,0),"")
C3: =IFERROR(VLOOKUP(B3,INDIRECT(A3&"!$F$5:$G$13"),2,0),"") | D3: 上班微信 | E3: ='18日夜'!G3 | F3: 下班微信
C4: =IFERROR(VLOOKUP(B4,INDIRECT(A4&"!$F$5:$G$13"),2,0),"")
C5: =IFERROR(VLOOKUP(B5,INDIRECT(A5&"!$F$5:$G$13"),2,0),"")
C6: =IFERROR(VLOOKUP(B6,INDIRECT(A6&"!$F$5:$G$13"),2,0),"")
C7: =IFERROR(VLOOKUP(B7,INDIRECT(A7&"!$F$5:$G$13"),2,0),"") | D7: 上班支付宝 | E7: ='18日夜'!G7 | F7: 下班支付宝
C8: =IFERROR(VLOOKUP(B8,INDIRECT(A8&"!$F$5:$G$13"),2,0),"")
C9: =IFERROR(VLOOKUP(B9,INDIRECT(A9&"!$F$5:$G$13"),2,0),"") | D9: 抄表区 | Z9: =渠道01!F3
C10: =IFERROR(VLOOKUP(B10,INDIRECT(A10&"!$F$5:$G$13"),2,0),"") | Z10: =渠道02!F3
C11: =IFERROR(VLOOKUP(B11,INDIRECT(A11&"!$F$5:$G$13"),2,0),"") | D11: 本班网费 | F11: 商品 | H11: 美团数量 | I11: =COUNTIF(A2:A2000,Z9) | J11: 美团金额 | K11: =SUMIF($A$2:$A$2000,$Z$9,$C$2:$C$2000) | Z11: =渠道03!F3
C12: =IFERROR(VLOOKUP(B12,INDIRECT(A12&"!$F$5:$G$13"),2,0),"") | Z12: =渠道04!F3
C13: =IFERROR(VLOOKUP(B13,INDIRECT(A13&"!$F$5:$G$13"),2,0),"") | D13: 本班XY | F13: 减账合计 | G13: =SUM(C$2:C$2000) | H13: 抖音数量 | I13: =COUNTIF(A2:A2000,Z10) | J13: 抖音金额 | K13: =SUMIF($A$2:$A$2000,$Z$10,$C$2:$C$2000) | Z13: =渠道05!F3
C14: =IFERROR(VLOOKUP(B14,INDIRECT(A14&"!$F$5:$G$13"),2,0),"")
C15: =IFERROR(VLOOKUP(B15,INDIRECT(A15&"!$F$5:$G$13"),2,0),"") | D15: 本班微信 | E15: =G3-E3 | F15: 本班现金 | G15: =G1-E1 | H15: 人工数量 | I15: =COUNTIF(A2:A2000,Z11) | J15: 人工金额 | K15: =SUMIF($A$2:$A$2000,$Z$11,$C$2:$C$2000)
C16: =IFERROR(VLOOKUP(B16,INDIRECT(A16&"!$F$5:$G$13"),2,0),"")
C17: =IFERROR(VLOOKUP(B17,INDIRECT(A17&"!$F$5:$G$13"),2,0),"") | D17: 本班支付宝 | E17: =G7-E7 | F17: 差额 | G17: =((G13+E15+G15+E17)-(E11+E13+G11)) | H17: 瓶装水换购 | I17: =COUNTIF(A2:A2000,$Z$12) | J17: 瓶装水金额 | K17: =SUMIF($A$2:$A$2000,$Z$12,$C$2:$C$2000)
C18: =IFERROR(VLOOKUP(B18,INDIRECT(A18&"!$F$5:$G$13"),2,0),"")
C19: =IFERROR(VLOOKUP(B19,INDIRECT(A19&"!$F$5:$G$13"),2,0),"") | H19: 槟榔换购 | I19: =COUNTIF(A2:A2000,Z13) | J19: 槟榔金额 | K19: =SUMIF($A$2:$A$2000,$Z$13,$C$2:$C$2000)
C20: =IFERROR(VLOOKUP(B20,INDIRECT(A20&"!$F$5:$G$13"),2,0),"")
C21: =IFERROR(VLOOKUP(B21,INDIRECT(A21&"!$F$5:$G$13"),2,0),"")
C22: =IFERROR(VLOOKUP(B22,INDIRECT(A22&"!$F$5:$G$13"),2,0),"")
C23: =IFERROR(VLOOKUP(B23,INDIRECT(A23&"!$F$5:$G$13"),2,0),"") | F23: 上交款 | G23: =E15+E17+G15
C24: =IFERROR(VLOOKUP(B24,INDIRECT(A24&"!$F$5:$G$13"),2,0),"")
C25: =IFERROR(VLOOKUP(B25,INDIRECT(A25&"!$F$5:$G$13"),2,0),"")
C26: =IFERROR(VLOOKUP(B26,INDIRECT(A26&"!$F$5:$G$13"),2,0),"")
C27: =IFERROR(VLOOKUP(B27,INDIRECT(A27&"!$F$5:$G$13"),2,0),"")
C28: =IFERROR(VLOOKUP(B28,INDIRECT(A28&"!$F$5:$G$13"),2,0),"")
C29: =IFERROR(VLOOKUP(B29,INDIRECT(A29&"!$F$5:$G$13"),2,0),"")
C30: =IFERROR(VLOOKUP(B30,INDIRECT(A30&"!$F$5:$G$13"),2,0),"")
C31: =IFERROR(VLOOKUP(B31,INDIRECT(A31&"!$F$5:$G$13"),2,0),"")
C32: =IFERROR(VLOOKUP(B32,INDIRECT(A32&"!$F$5:$G$13"),2,0),"")
C33: =IFERROR(VLOOKUP(B33,INDIRECT(A33&"!$F$5:$G$13"),2,0),"")
C34: =IFERROR(VLOOKUP(B34,INDIRECT(A34&"!$F$5:$G$13"),2,0),"")
C35: =IFERROR(VLOOKUP(B35,INDIRECT(A35&"!$F$5:$G$13"),2,0),"")
... C260: =IFERROR(VLOOKUP(B260,INDIRECT(A260&"!$F$5:$G$13"),2,0),"")

Sheet 19日夜
A1: 减账原因 | B1: 类目 | C1: 金额 | D1: 上班现金 | E1: ='19日白'!G1 | F1: 下班现金 | H1: =人工!H3 | I1: 姓名01 | K1: =人工!I3 | L1: 姓名02 | N1: =人工!J3 | O1: 姓名03
C2: =IFERROR(VLOOKUP(B2,INDIRECT(A2&"!$F$5:$G$13"),2,0),"")
C3: =IFERROR(VLOOKUP(B3,INDIRECT(A3&"!$F$5:$G$13"),2,0),"") | D3: 上班微信 | E3: ='19日白'!G3 | F3: 下班微信
C4: =IFERROR(VLOOKUP(B4,INDIRECT(A4&"!$F$5:$G$13"),2,0),"")
C5: =IFERROR(VLOOKUP(B5,INDIRECT(A5&"!$F$5:$G$13"),2,0),"")
C6: =IFERROR(VLOOKUP(B6,INDIRECT(A6&"!$F$5:$G$13"),2,0),"")
C7: =IFERROR(VLOOKUP(B7,INDIRECT(A7&"!$F$5:$G$13"),2,0),"") | D7: 上班支付宝 | E7: ='19日白'!G7 | F7: 下班支付宝
C8: =IFERROR(VLOOKUP(B8,INDIRECT(A8&"!$F$5:$G$13"),2,0),"")
C9: =IFERROR(VLOOKUP(B9,INDIRECT(A9&"!$F$5:$G$13"),2,0),"") | D9: 抄表区 | Z9: =渠道01!F3
C10: =IFERROR(VLOOKUP(B10,INDIRECT(A10&"!$F$5:$G$13"),2,0),"") | Z10: =渠道02!F3
C11: =IFERROR(VLOOKUP(B11,INDIRECT(A11&"!$F$5:$G$13"),2,0),"") | D11: 本班网费 | F11: 商品 | H11: 美团数量 | I11: =COUNTIF(A2:A2000,Z9) | J11: 美团金额 | K11: =SUMIF($A$2:$A$2000,$Z$9,$C$2:$C$2000) | Z11: =渠道03!F3
C12: =IFERROR(VLOOKUP(B12,INDIRECT(A12&"!$F$5:$G$13"),2,0),"") | Z12: =渠道04!F3
C13: =IFERROR(VLOOKUP(B13,INDIRECT(A13&"!$F$5:$G$13"),2,0),"") | D13: 本班XY | F13: 减账合计 | G13: =SUM(C$2:C$2000) | H13: 抖音数量 | I13: =COUNTIF(A2:A2000,Z10) | J13: 抖音金额 | K13: =SUMIF($A$2:$A$2000,$Z$10,$C$2:$C$2000) | Z13: =渠道05!F3
C14: =IFERROR(VLOOKUP(B14,INDIRECT(A14&"!$F$5:$G$13"),2,0),"")
C15: =IFERROR(VLOOKUP(B15,INDIRECT(A15&"!$F$5:$G$13"),2,0),"") | D15: 本班微信 | E15: =G3-E3 | F15: 本班现金 | G15: =G1-E1 | H15: 人工数量 | I15: =COUNTIF(A2:A2000,Z11) | J15: 人工金额 | K15: =SUMIF($A$2:$A$2000,$Z$11,$C$2:$C$2000)
C16: =IFERROR(VLOOKUP(B16,INDIRECT(A16&"!$F$5:$G$13"),2,0),"")
C17: =IFERROR(VLOOKUP(B17,INDIRECT(A17&"!$F$5:$G$13"),2,0),"") | D17: 本班支付宝 | E17: =G7-E7 | F17: 差额 | G17: =((G13+E15+G15+E17)-(E11+E13+G11)) | H17: 瓶装水换购 | I17: =COUNTIF(A2:A2000,$Z$12) | J17: 瓶装水金额 | K17: =SUMIF($A$2:$A$2000,$Z$12,$C$2:$C$2000)
C18: =IFERROR(VLOOKUP(B18,INDIRECT(A18&"!$F$5:$G$13"),2,0),"")
C19: =IFERROR(VLOOKUP(B19,INDIRECT(A19&"!$F$5:$G$13"),2,0),"") | H19: 槟榔换购 | I19: =COUNTIF(A2:A2000,Z13) | J19: 槟榔金额 | K19: =SUMIF($A$2:$A$2000,$Z$13,$C$2:$C$2000)
C20: =IFERROR(VLOOKUP(B20,INDIRECT(A20&"!$F$5:$G$13"),2,0),"")
C21: =IFERROR(VLOOKUP(B21,INDIRECT(A21&"!$F$5:$G$13"),2,0),"")
C22: =IFERROR(VLOOKUP(B22,INDIRECT(A22&"!$F$5:$G$13"),2,0),"")
C23: =IFERROR(VLOOKUP(B23,INDIRECT(A23&"!$F$5:$G$13"),2,0),"") | F23: 上交款 | G23: =E15+E17+G15
C24: =IFERROR(VLOOKUP(B24,INDIRECT(A24&"!$F$5:$G$13"),2,0),"")
C25: =IFERROR(VLOOKUP(B25,INDIRECT(A25&"!$F$5:$G$13"),2,0),"")
C26: =IFERROR(VLOOKUP(B26,INDIRECT(A26&"!$F$5:$G$13"),2,0),"")
C27: =IFERROR(VLOOKUP(B27,INDIRECT(A27&"!$F$5:$G$13"),2,0),"")
C28: =IFERROR(VLOOKUP(B28,INDIRECT(A28&"!$F$5:$G$13"),2,0),"")
C29: =IFERROR(VLOOKUP(B29,INDIRECT(A29&"!$F$5:$G$13"),2,0),"")
C30: =IFERROR(VLOOKUP(B30,INDIRECT(A30&"!$F$5:$G$13"),2,0),"")
C31: =IFERROR(VLOOKUP(B31,INDIRECT(A31&"!$F$5:$G$13"),2,0),"")
C32: =IFERROR(VLOOKUP(B32,INDIRECT(A32&"!$F$5:$G$13"),2,0),"")
C33: =IFERROR(VLOOKUP(B33,INDIRECT(A33&"!$F$5:$G$13"),2,0),"")
C34: =IFERROR(VLOOKUP(B34,INDIRECT(A34&"!$F$5:$G$13"),2,0),"")
C35: =IFERROR(VLOOKUP(B35,INDIRECT(A35&"!$F$5:$G$13"),2,0),"")
... C260: =IFERROR(VLOOKUP(B260,INDIRECT(A260&"!$F$5:$G$13"),2,0),"")

Sheet 20日白
A1: 减账原因 | B1: 类目 | C1: 金额 | D1: 上班现金 | E1: ='19日夜'!G1 | F1: 下班现金 | H1: =人工!H3 | I1: 姓名01 | K1: =人工!I3 | L1: 姓名02 | N1: =人工!J3 | O1: 姓名03
C2: =IFERROR(VLOOKUP(B2,INDIRECT(A2&"!$F$5:$G$13"),2,0),"")
C3: =IFERROR(VLOOKUP(B3,INDIRECT(A3&"!$F$5:$G$13"),2,0),"") | D3: 上班微信 | E3: ='19日夜'!G3 | F3: 下班微信
C4: =IFERROR(VLOOKUP(B4,INDIRECT(A4&"!$F$5:$G$13"),2,0),"")
C5: =IFERROR(VLOOKUP(B5,INDIRECT(A5&"!$F$5:$G$13"),2,0),"")
C6: =IFERROR(VLOOKUP(B6,INDIRECT(A6&"!$F$5:$G$13"),2,0),"")
C7: =IFERROR(VLOOKUP(B7,INDIRECT(A7&"!$F$5:$G$13"),2,0),"") | D7: 上班支付宝 | E7: ='19日夜'!G7 | F7: 下班支付宝
C8: =IFERROR(VLOOKUP(B8,INDIRECT(A8&"!$F$5:$G$13"),2,0),"")
C9: =IFERROR(VLOOKUP(B9,INDIRECT(A9&"!$F$5:$G$13"),2,0),"") | D9: 抄表区 | Z9: =渠道01!F3
C10: =IFERROR(VLOOKUP(B10,INDIRECT(A10&"!$F$5:$G$13"),2,0),"") | Z10: =渠道02!F3
C11: =IFERROR(VLOOKUP(B11,INDIRECT(A11&"!$F$5:$G$13"),2,0),"") | D11: 本班网费 | F11: 商品 | H11: 美团数量 | I11: =COUNTIF(A2:A2000,Z9) | J11: 美团金额 | K11: =SUMIF($A$2:$A$2000,$Z$9,$C$2:$C$2000) | Z11: =渠道03!F3
C12: =IFERROR(VLOOKUP(B12,INDIRECT(A12&"!$F$5:$G$13"),2,0),"") | Z12: =渠道04!F3
C13: =IFERROR(VLOOKUP(B13,INDIRECT(A13&"!$F$5:$G$13"),2,0),"") | D13: 本班XY | F13: 减账合计 | G13: =SUM(C$2:C$2000) | H13: 抖音数量 | I13: =COUNTIF(A2:A2000,Z10) | J13: 抖音金额 | K13: =SUMIF($A$2:$A$2000,$Z$10,$C$2:$C$2000) | Z13: =渠道05!F3
C14: =IFERROR(VLOOKUP(B14,INDIRECT(A14&"!$F$5:$G$13"),2,0),"")
C15: =IFERROR(VLOOKUP(B15,INDIRECT(A15&"!$F$5:$G$13"),2,0),"") | D15: 本班微信 | E15: =G3-E3 | F15: 本班现金 | G15: =G1-E1 | H15: 人工数量 | I15: =COUNTIF(A2:A2000,Z11) | J15: 人工金额 | K15: =SUMIF($A$2:$A$2000,$Z$11,$C$2:$C$2000)
C16: =IFERROR(VLOOKUP(B16,INDIRECT(A16&"!$F$5:$G$13"),2,0),"")
C17: =IFERROR(VLOOKUP(B17,INDIRECT(A17&"!$F$5:$G$13"),2,0),"") | D17: 本班支付宝 | E17: =G7-E7 | F17: 差额 | G17: =((G13+E15+G15+E17)-(E11+E13+G11)) | H17: 瓶装水换购 | I17: =COUNTIF(A2:A2000,$Z$12) | J17: 瓶装水金额 | K17: =SUMIF($A$2:$A$2000,$Z$12,$C$2:$C$2000)
C18: =IFERROR(VLOOKUP(B18,INDIRECT(A18&"!$F$5:$G$13"),2,0),"")
C19: =IFERROR(VLOOKUP(B19,INDIRECT(A19&"!$F$5:$G$13"),2,0),"") | H19: 槟榔换购 | I19: =COUNTIF(A2:A2000,Z13) | J19: 槟榔金额 | K19: =SUMIF($A$2:$A$2000,$Z$13,$C$2:$C$2000)
C20: =IFERROR(VLOOKUP(B20,INDIRECT(A20&"!$F$5:$G$13"),2,0),"")
C21: =IFERROR(VLOOKUP(B21,INDIRECT(A21&"!$F$5:$G$13"),2,0),"")
C22: =IFERROR(VLOOKUP(B22,INDIRECT(A22&"!$F$5:$G$13"),2,0),"")
C23: =IFERROR(VLOOKUP(B23,INDIRECT(A23&"!$F$5:$G$13"),2,0),"") | F23: 上交款 | G23: =E15+E17+G15
C24: =IFERROR(VLOOKUP(B24,INDIRECT(A24&"!$F$5:$G$13"),2,0),"")
C25: =IFERROR(VLOOKUP(B25,INDIRECT(A25&"!$F$5:$G$13"),2,0),"")
C26: =IFERROR(VLOOKUP(B26,INDIRECT(A26&"!$F$5:$G$13"),2,0),"")
C27: =IFERROR(VLOOKUP(B27,INDIRECT(A27&"!$F$5:$G$13"),2,0),"")
C28: =IFERROR(VLOOKUP(B28,INDIRECT(A28&"!$F$5:$G$13"),2,0),"")
C29: =IFERROR(VLOOKUP(B29,INDIRECT(A29&"!$F$5:$G$13"),2,0),"")
C30: =IFERROR(VLOOKUP(B30,INDIRECT(A30&"!$F$5:$G$13"),2,0),"")
C31: =IFERROR(VLOOKUP(B31,INDIRECT(A31&"!$F$5:$G$13"),2,0),"")
C32: =IFERROR(VLOOKUP(B32,INDIRECT(A32&"!$F$5:$G$13"),2,0),"")
C33: =IFERROR(VLOOKUP(B33,INDIRECT(A33&"!$F$5:$G$13"),2,0),"")
C34: =IFERROR(VLOOKUP(B34,INDIRECT(A34&"!$F$5:$G$13"),2,0),"")
C35: =IFERROR(VLOOKUP(B35,INDIRECT(A35&"!$F$5:$G$13"),2,0),"")
... C260: =IFERROR(VLOOKUP(B260,INDIRECT(A260&"!$F$5:$G$13"),2,0),"")

Sheet 20日夜
A1: 减账原因 | B1: 类目 | C1: 金额 | D1: 上班现金 | E1: ='20日白'!G1 | F1: 下班现金 | H1: =人工!H3 | I1: 姓名01 | K1: =人工!I3 | L1: 姓名02 | N1: =人工!J3 | O1: 姓名03
C2: =IFERROR(VLOOKUP(B2,INDIRECT(A2&"!$F$5:$G$13"),2,0),"")
C3: =IFERROR(VLOOKUP(B3,INDIRECT(A3&"!$F$5:$G$13"),2,0),"") | D3: 上班微信 | E3: ='20日白'!G3 | F3: 下班微信
C4: =IFERROR(VLOOKUP(B4,INDIRECT(A4&"!$F$5:$G$13"),2,0),"")
C5: =IFERROR(VLOOKUP(B5,INDIRECT(A5&"!$F$5:$G$13"),2,0),"")
C6: =IFERROR(VLOOKUP(B6,INDIRECT(A6&"!$F$5:$G$13"),2,0),"")
C7: =IFERROR(VLOOKUP(B7,INDIRECT(A7&"!$F$5:$G$13"),2,0),"") | D7: 上班支付宝 | E7: ='20日白'!G7 | F7: 下班支付宝
C8: =IFERROR(VLOOKUP(B8,INDIRECT(A8&"!$F$5:$G$13"),2,0),"")
C9: =IFERROR(VLOOKUP(B9,INDIRECT(A9&"!$F$5:$G$13"),2,0),"") | D9: 抄表区 | Z9: =渠道01!F3
C10: =IFERROR(VLOOKUP(B10,INDIRECT(A10&"!$F$5:$G$13"),2,0),"") | Z10: =渠道02!F3
C11: =IFERROR(VLOOKUP(B11,INDIRECT(A11&"!$F$5:$G$13"),2,0),"") | D11: 本班网费 | F11: 商品 | H11: 美团数量 | I11: =COUNTIF(A2:A2000,Z9) | J11: 美团金额 | K11: =SUMIF($A$2:$A$2000,$Z$9,$C$2:$C$2000) | Z11: =渠道03!F3
C12: =IFERROR(VLOOKUP(B12,INDIRECT(A12&"!$F$5:$G$13"),2,0),"") | Z12: =渠道04!F3
C13: =IFERROR(VLOOKUP(B13,INDIRECT(A13&"!$F$5:$G$13"),2,0),"") | D13: 本班XY | F13: 减账合计 | G13: =SUM(C$2:C$2000) | H13: 抖音数量 | I13: =COUNTIF(A2:A2000,Z10) | J13: 抖音金额 | K13: =SUMIF($A$2:$A$2000,$Z$10,$C$2:$C$2000) | Z13: =渠道05!F3
C14: =IFERROR(VLOOKUP(B14,INDIRECT(A14&"!$F$5:$G$13"),2,0),"")
C15: =IFERROR(VLOOKUP(B15,INDIRECT(A15&"!$F$5:$G$13"),2,0),"") | D15: 本班微信 | E15: =G3-E3 | F15: 本班现金 | G15: =G1-E1 | H15: 人工数量 | I15: =COUNTIF(A2:A2000,Z11) | J15: 人工金额 | K15: =SUMIF($A$2:$A$2000,$Z$11,$C$2:$C$2000)
C16: =IFERROR(VLOOKUP(B16,INDIRECT(A16&"!$F$5:$G$13"),2,0),"")
C17: =IFERROR(VLOOKUP(B17,INDIRECT(A17&"!$F$5:$G$13"),2,0),"") | D17: 本班支付宝 | E17: =G7-E7 | F17: 差额 | G17: =((G13+E15+G15+E17)-(E11+E13+G11)) | H17: 瓶装水换购 | I17: =COUNTIF(A2:A2000,$Z$12) | J17: 瓶装水金额 | K17: =SUMIF($A$2:$A$2000,$Z$12,$C$2:$C$2000)
C18: =IFERROR(VLOOKUP(B18,INDIRECT(A18&"!$F$5:$G$13"),2,0),"")
C19: =IFERROR(VLOOKUP(B19,INDIRECT(A19&"!$F$5:$G$13"),2,0),"") | H19: 槟榔换购 | I19: =COUNTIF(A2:A2000,Z13) | J19: 槟榔金额 | K19: =SUMIF($A$2:$A$2000,$Z$13,$C$2:$C$2000)
C20: =IFERROR(VLOOKUP(B20,INDIRECT(A20&"!$F$5:$G$13"),2,0),"")
C21: =IFERROR(VLOOKUP(B21,INDIRECT(A21&"!$F$5:$G$13"),2,0),"")
C22: =IFERROR(VLOOKUP(B22,INDIRECT(A22&"!$F$5:$G$13"),2,0),"")
C23: =IFERROR(VLOOKUP(B23,INDIRECT(A23&"!$F$5:$G$13"),2,0),"") | F23: 上交款 | G23: =E15+E17+G15
C24: =IFERROR(VLOOKUP(B24,INDIRECT(A24&"!$F$5:$G$13"),2,0),"")
C25: =IFERROR(VLOOKUP(B25,INDIRECT(A25&"!$F$5:$G$13"),2,0),"")
C26: =IFERROR(VLOOKUP(B26,INDIRECT(A26&"!$F$5:$G$13"),2,0),"")
C27: =IFERROR(VLOOKUP(B27,INDIRECT(A27&"!$F$5:$G$13"),2,0),"")
C28: =IFERROR(VLOOKUP(B28,INDIRECT(A28&"!$F$5:$G$13"),2,0),"")
C29: =IFERROR(VLOOKUP(B29,INDIRECT(A29&"!$F$5:$G$13"),2,0),"")
C30: =IFERROR(VLOOKUP(B30,INDIRECT(A30&"!$F$5:$G$13"),2,0),"")
C31: =IFERROR(VLOOKUP(B31,INDIRECT(A31&"!$F$5:$G$13"),2,0),"")
C32: =IFERROR(VLOOKUP(B32,INDIRECT(A32&"!$F$5:$G$13"),2,0),"")
C33: =IFERROR(VLOOKUP(B33,INDIRECT(A33&"!$F$5:$G$13"),2,0),"")
C34: =IFERROR(VLOOKUP(B34,INDIRECT(A34&"!$F$5:$G$13"),2,0),"")
C35: =IFERROR(VLOOKUP(B35,INDIRECT(A35&"!$F$5:$G$13"),2,0),"")
... C260: =IFERROR(VLOOKUP(B260,INDIRECT(A260&"!$F$5:$G$13"),2,0),"")

Sheet 21日白
A1: 减账原因 | B1: 类目 | C1: 金额 | D1: 上班现金 | E1: ='20日夜'!G1 | F1: 下班现金 | H1: =人工!H3 | I1: 姓名01 | K1: =人工!I3 | L1: 姓名02 | N1: =人工!J3 | O1: 姓名03
C2: =IFERROR(VLOOKUP(B2,INDIRECT(A2&"!$F$5:$G$13"),2,0),"")
C3: =IFERROR(VLOOKUP(B3,INDIRECT(A3&"!$F$5:$G$13"),2,0),"") | D3: 上班微信 | E3: ='20日夜'!G3 | F3: 下班微信
C4: =IFERROR(VLOOKUP(B4,INDIRECT(A4&"!$F$5:$G$13"),2,0),"")
C5: =IFERROR(VLOOKUP(B5,INDIRECT(A5&"!$F$5:$G$13"),2,0),"")
C6: =IFERROR(VLOOKUP(B6,INDIRECT(A6&"!$F$5:$G$13"),2,0),"")
C7: =IFERROR(VLOOKUP(B7,INDIRECT(A7&"!$F$5:$G$13"),2,0),"") | D7: 上班支付宝 | E7: ='20日夜'!G7 | F7: 下班支付宝
C8: =IFERROR(VLOOKUP(B8,INDIRECT(A8&"!$F$5:$G$13"),2,0),"")
C9: =IFERROR(VLOOKUP(B9,INDIRECT(A9&"!$F$5:$G$13"),2,0),"") | D9: 抄表区 | Z9: =渠道01!F3
C10: =IFERROR(VLOOKUP(B10,INDIRECT(A10&"!$F$5:$G$13"),2,0),"") | Z10: =渠道02!F3
C11: =IFERROR(VLOOKUP(B11,INDIRECT(A11&"!$F$5:$G$13"),2,0),"") | D11: 本班网费 | F11: 商品 | H11: 美团数量 | I11: =COUNTIF(A2:A2000,Z9) | J11: 美团金额 | K11: =SUMIF($A$2:$A$2000,$Z$9,$C$2:$C$2000) | Z11: =渠道03!F3
C12: =IFERROR(VLOOKUP(B12,INDIRECT(A12&"!$F$5:$G$13"),2,0),"") | Z12: =渠道04!F3
C13: =IFERROR(VLOOKUP(B13,INDIRECT(A13&"!$F$5:$G$13"),2,0),"") | D13: 本班XY | F13: 减账合计 | G13: =SUM(C$2:C$2000) | H13: 抖音数量 | I13: =COUNTIF(A2:A2000,Z10) | J13: 抖音金额 | K13: =SUMIF($A$2:$A$2000,$Z$10,$C$2:$C$2000) | Z13: =渠道05!F3
C14: =IFERROR(VLOOKUP(B14,INDIRECT(A14&"!$F$5:$G$13"),2,0),"")
C15: =IFERROR(VLOOKUP(B15,INDIRECT(A15&"!$F$5:$G$13"),2,0),"") | D15: 本班微信 | E15: =G3-E3 | F15: 本班现金 | G15: =G1-E1 | H15: 人工数量 | I15: =COUNTIF(A2:A2000,Z11) | J15: 人工金额 | K15: =SUMIF($A$2:$A$2000,$Z$11,$C$2:$C$2000)
C16: =IFERROR(VLOOKUP(B16,INDIRECT(A16&"!$F$5:$G$13"),2,0),"")
C17: =IFERROR(VLOOKUP(B17,INDIRECT(A17&"!$F$5:$G$13"),2,0),"") | D17: 本班支付宝 | E17: =G7-E7 | F17: 差额 | G17: =((G13+E15+G15+E17)-(E11+E13+G11)) | H17: 瓶装水换购 | I17: =COUNTIF(A2:A2000,$Z$12) | J17: 瓶装水金额 | K17: =SUMIF($A$2:$A$2000,$Z$12,$C$2:$C$2000)
C18: =IFERROR(VLOOKUP(B18,INDIRECT(A18&"!$F$5:$G$13"),2,0),"")
C19: =IFERROR(VLOOKUP(B19,INDIRECT(A19&"!$F$5:$G$13"),2,0),"") | H19: 槟榔换购 | I19: =COUNTIF(A2:A2000,Z13) | J19: 槟榔金额 | K19: =SUMIF($A$2:$A$2000,$Z$13,$C$2:$C$2000)
C20: =IFERROR(VLOOKUP(B20,INDIRECT(A20&"!$F$5:$G$13"),2,0),"")
C21: =IFERROR(VLOOKUP(B21,INDIRECT(A21&"!$F$5:$G$13"),2,0),"")
C22: =IFERROR(VLOOKUP(B22,INDIRECT(A22&"!$F$5:$G$13"),2,0),"")
C23: =IFERROR(VLOOKUP(B23,INDIRECT(A23&"!$F$5:$G$13"),2,0),"") | F23: 上交款 | G23: =E15+E17+G15
C24: =IFERROR(VLOOKUP(B24,INDIRECT(A24&"!$F$5:$G$13"),2,0),"")
C25: =IFERROR(VLOOKUP(B25,INDIRECT(A25&"!$F$5:$G$13"),2,0),"")
C26: =IFERROR(VLOOKUP(B26,INDIRECT(A26&"!$F$5:$G$13"),2,0),"")
C27: =IFERROR(VLOOKUP(B27,INDIRECT(A27&"!$F$5:$G$13"),2,0),"")
C28: =IFERROR(VLOOKUP(B28,INDIRECT(A28&"!$F$5:$G$13"),2,0),"")
C29: =IFERROR(VLOOKUP(B29,INDIRECT(A29&"!$F$5:$G$13"),2,0),"")
C30: =IFERROR(VLOOKUP(B30,INDIRECT(A30&"!$F$5:$G$13"),2,0),"")
C31: =IFERROR(VLOOKUP(B31,INDIRECT(A31&"!$F$5:$G$13"),2,0),"")
C32: =IFERROR(VLOOKUP(B32,INDIRECT(A32&"!$F$5:$G$13"),2,0),"")
C33: =IFERROR(VLOOKUP(B33,INDIRECT(A33&"!$F$5:$G$13"),2,0),"")
C34: =IFERROR(VLOOKUP(B34,INDIRECT(A34&"!$F$5:$G$13"),2,0),"")
C35: =IFERROR(VLOOKUP(B35,INDIRECT(A35&"!$F$5:$G$13"),2,0),"")
... C260: =IFERROR(VLOOKUP(B260,INDIRECT(A260&"!$F$5:$G$13"),2,0),"")

Sheet 21日夜
A1: 减账原因 | B1: 类目 | C1: 金额 | D1: 上班现金 | E1: ='21日白'!G1 | F1: 下班现金 | H1: =人工!H3 | I1: 姓名01 | K1: =人工!I3 | L1: 姓名02 | N1: =人工!J3 | O1: 姓名03
C2: =IFERROR(VLOOKUP(B2,INDIRECT(A2&"!$F$5:$G$13"),2,0),"")
C3: =IFERROR(VLOOKUP(B3,INDIRECT(A3&"!$F$5:$G$13"),2,0),"") | D3: 上班微信 | E3: ='21日白'!G3 | F3: 下班微信
C4: =IFERROR(VLOOKUP(B4,INDIRECT(A4&"!$F$5:$G$13"),2,0),"")
C5: =IFERROR(VLOOKUP(B5,INDIRECT(A5&"!$F$5:$G$13"),2,0),"")
C6: =IFERROR(VLOOKUP(B6,INDIRECT(A6&"!$F$5:$G$13"),2,0),"")
C7: =IFERROR(VLOOKUP(B7,INDIRECT(A7&"!$F$5:$G$13"),2,0),"") | D7: 上班支付宝 | E7: ='21日白'!G7 | F7: 下班支付宝
C8: =IFERROR(VLOOKUP(B8,INDIRECT(A8&"!$F$5:$G$13"),2,0),"")
C9: =IFERROR(VLOOKUP(B9,INDIRECT(A9&"!$F$5:$G$13"),2,0),"") | D9: 抄表区 | Z9: =渠道01!F3
C10: =IFERROR(VLOOKUP(B10,INDIRECT(A10&"!$F$5:$G$13"),2,0),"") | Z10: =渠道02!F3
C11: =IFERROR(VLOOKUP(B11,INDIRECT(A11&"!$F$5:$G$13"),2,0),"") | D11: 本班网费 | F11: 商品 | H11: 美团数量 | I11: =COUNTIF(A2:A2000,Z9) | J11: 美团金额 | K11: =SUMIF($A$2:$A$2000,$Z$9,$C$2:$C$2000) | Z11: =渠道03!F3
C12: =IFERROR(VLOOKUP(B12,INDIRECT(A12&"!$F$5:$G$13"),2,0),"") | Z12: =渠道04!F3
C13: =IFERROR(VLOOKUP(B13,INDIRECT(A13&"!$F$5:$G$13"),2,0),"") | D13: 本班XY | F13: 减账合计 | G13: =SUM(C$2:C$2000) | H13: 抖音数量 | I13: =COUNTIF(A2:A2000,Z10) | J13: 抖音金额 | K13: =SUMIF($A$2:$A$2000,$Z$10,$C$2:$C$2000) | Z13: =渠道05!F3
C14: =IFERROR(VLOOKUP(B14,INDIRECT(A14&"!$F$5:$G$13"),2,0),"")
C15: =IFERROR(VLOOKUP(B15,INDIRECT(A15&"!$F$5:$G$13"),2,0),"") | D15: 本班微信 | E15: =G3-E3 | F15: 本班现金 | G15: =G1-E1 | H15: 人工数量 | I15: =COUNTIF(A2:A2000,Z11) | J15: 人工金额 | K15: =SUMIF($A$2:$A$2000,$Z$11,$C$2:$C$2000)
C16: =IFERROR(VLOOKUP(B16,INDIRECT(A16&"!$F$5:$G$13"),2,0),"")
C17: =IFERROR(VLOOKUP(B17,INDIRECT(A17&"!$F$5:$G$13"),2,0),"") | D17: 本班支付宝 | E17: =G7-E7 | F17: 差额 | G17: =((G13+E15+G15+E17)-(E11+E13+G11)) | H17: 瓶装水换购 | I17: =COUNTIF(A2:A2000,$Z$12) | J17: 瓶装水金额 | K17: =SUMIF($A$2:$A$2000,$Z$12,$C$2:$C$2000)
C18: =IFERROR(VLOOKUP(B18,INDIRECT(A18&"!$F$5:$G$13"),2,0),"")
C19: =IFERROR(VLOOKUP(B19,INDIRECT(A19&"!$F$5:$G$13"),2,0),"") | H19: 槟榔换购 | I19: =COUNTIF(A2:A2000,Z13) | J19: 槟榔金额 | K19: =SUMIF($A$2:$A$2000,$Z$13,$C$2:$C$2000)
C20: =IFERROR(VLOOKUP(B20,INDIRECT(A20&"!$F$5:$G$13"),2,0),"")
C21: =IFERROR(VLOOKUP(B21,INDIRECT(A21&"!$F$5:$G$13"),2,0),"")
C22: =IFERROR(VLOOKUP(B22,INDIRECT(A22&"!$F$5:$G$13"),2,0),"")
C23: =IFERROR(VLOOKUP(B23,INDIRECT(A23&"!$F$5:$G$13"),2,0),"") | F23: 上交款 | G23: =E15+E17+G15
C24: =IFERROR(VLOOKUP(B24,INDIRECT(A24&"!$F$5:$G$13"),2,0),"")
C25: =IFERROR(VLOOKUP(B25,INDIRECT(A25&"!$F$5:$G$13"),2,0),"")
C26: =IFERROR(VLOOKUP(B26,INDIRECT(A26&"!$F$5:$G$13"),2,0),"")
C27: =IFERROR(VLOOKUP(B27,INDIRECT(A27&"!$F$5:$G$13"),2,0),"")
C28: =IFERROR(VLOOKUP(B28,INDIRECT(A28&"!$F$5:$G$13"),2,0),"")
C29: =IFERROR(VLOOKUP(B29,INDIRECT(A29&"!$F$5:$G$13"),2,0),"")
C30: =IFERROR(VLOOKUP(B30,INDIRECT(A30&"!$F$5:$G$13"),2,0),"")
C31: =IFERROR(VLOOKUP(B31,INDIRECT(A31&"!$F$5:$G$13"),2,0),"")
C32: =IFERROR(VLOOKUP(B32,INDIRECT(A32&"!$F$5:$G$13"),2,0),"")
C33: =IFERROR(VLOOKUP(B33,INDIRECT(A33&"!$F$5:$G$13"),2,0),"")
C34: =IFERROR(VLOOKUP(B34,INDIRECT(A34&"!$F$5:$G$13"),2,0),"")
C35: =IFERROR(VLOOKUP(B35,INDIRECT(A35&"!$F$5:$G$13"),2,0),"")
... C260: =IFERROR(VLOOKUP(B260,INDIRECT(A260&"!$F$5:$G$13"),2,0),"")

Sheet 22日白
A1: 减账原因 | B1: 类目 | C1: 金额 | D1: 上班现金 | E1: ='21日夜'!G1 | F1: 下班现金 | H1: =人工!H3 | I1: 姓名01 | K1: =人工!I3 | L1: 姓名02 | N1: =人工!J3 | O1: 姓名03
C2: =IFERROR(VLOOKUP(B2,INDIRECT(A2&"!$F$5:$G$13"),2,0),"")
C3: =IFERROR(VLOOKUP(B3,INDIRECT(A3&"!$F$5:$G$13"),2,0),"") | D3: 上班微信 | E3: ='21日夜'!G3 | F3: 下班微信
C4: =IFERROR(VLOOKUP(B4,INDIRECT(A4&"!$F$5:$G$13"),2,0),"")
C5: =IFERROR(VLOOKUP(B5,INDIRECT(A5&"!$F$5:$G$13"),2,0),"")
C6: =IFERROR(VLOOKUP(B6,INDIRECT(A6&"!$F$5:$G$13"),2,0),"")
C7: =IFERROR(VLOOKUP(B7,INDIRECT(A7&"!$F$5:$G$13"),2,0),"") | D7: 上班支付宝 | E7: ='21日夜'!G7 | F7: 下班支付宝
C8: =IFERROR(VLOOKUP(B8,INDIRECT(A8&"!$F$5:$G$13"),2,0),"")
C9: =IFERROR(VLOOKUP(B9,INDIRECT(A9&"!$F$5:$G$13"),2,0),"") | D9: 抄表区 | Z9: =渠道01!F3
C10: =IFERROR(VLOOKUP(B10,INDIRECT(A10&"!$F$5:$G$13"),2,0),"") | Z10: =渠道02!F3
C11: =IFERROR(VLOOKUP(B11,INDIRECT(A11&"!$F$5:$G$13"),2,0),"") | D11: 本班网费 | F11: 商品 | H11: 美团数量 | I11: =COUNTIF(A2:A2000,Z9) | J11: 美团金额 | K11: =SUMIF($A$2:$A$2000,$Z$9,$C$2:$C$2000) | Z11: =渠道03!F3
C12: =IFERROR(VLOOKUP(B12,INDIRECT(A12&"!$F$5:$G$13"),2,0),"") | Z12: =渠道04!F3
C13: =IFERROR(VLOOKUP(B13,INDIRECT(A13&"!$F$5:$G$13"),2,0),"") | D13: 本班XY | F13: 减账合计 | G13: =SUM(C$2:C$2000) | H13: 抖音数量 | I13: =COUNTIF(A2:A2000,Z10) | J13: 抖音金额 | K13: =SUMIF($A$2:$A$2000,$Z$10,$C$2:$C$2000) | Z13: =渠道05!F3
C14: =IFERROR(VLOOKUP(B14,INDIRECT(A14&"!$F$5:$G$13"),2,0),"")
C15: =IFERROR(VLOOKUP(B15,INDIRECT(A15&"!$F$5:$G$13"),2,0),"") | D15: 本班微信 | E15: =G3-E3 | F15: 本班现金 | G15: =G1-E1 | H15: 人工数量 | I15: =COUNTIF(A2:A2000,Z11) | J15: 人工金额 | K15: =SUMIF($A$2:$A$2000,$Z$11,$C$2:$C$2000)
C16: =IFERROR(VLOOKUP(B16,INDIRECT(A16&"!$F$5:$G$13"),2,0),"")
C17: =IFERROR(VLOOKUP(B17,INDIRECT(A17&"!$F$5:$G$13"),2,0),"") | D17: 本班支付宝 | E17: =G7-E7 | F17: 差额 | G17: =((G13+E15+G15+E17)-(E11+E13+G11)) | H17: 瓶装水换购 | I17: =COUNTIF(A2:A2000,$Z$12) | J17: 瓶装水金额 | K17: =SUMIF($A$2:$A$2000,$Z$12,$C$2:$C$2000)
C18: =IFERROR(VLOOKUP(B18,INDIRECT(A18&"!$F$5:$G$13"),2,0),"")
C19: =IFERROR(VLOOKUP(B19,INDIRECT(A19&"!$F$5:$G$13"),2,0),"") | H19: 槟榔换购 | I19: =COUNTIF(A2:A2000,Z13) | J19: 槟榔金额 | K19: =SUMIF($A$2:$A$2000,$Z$13,$C$2:$C$2000)
C20: =IFERROR(VLOOKUP(B20,INDIRECT(A20&"!$F$5:$G$13"),2,0),"")
C21: =IFERROR(VLOOKUP(B21,INDIRECT(A21&"!$F$5:$G$13"),2,0),"")
C22: =IFERROR(VLOOKUP(B22,INDIRECT(A22&"!$F$5:$G$13"),2,0),"")
C23: =IFERROR(VLOOKUP(B23,INDIRECT(A23&"!$F$5:$G$13"),2,0),"") | F23: 上交款 | G23: =E15+E17+G15
C24: =IFERROR(VLOOKUP(B24,INDIRECT(A24&"!$F$5:$G$13"),2,0),"")
C25: =IFERROR(VLOOKUP(B25,INDIRECT(A25&"!$F$5:$G$13"),2,0),"")
C26: =IFERROR(VLOOKUP(B26,INDIRECT(A26&"!$F$5:$G$13"),2,0),"")
C27: =IFERROR(VLOOKUP(B27,INDIRECT(A27&"!$F$5:$G$13"),2,0),"")
C28: =IFERROR(VLOOKUP(B28,INDIRECT(A28&"!$F$5:$G$13"),2,0),"")
C29: =IFERROR(VLOOKUP(B29,INDIRECT(A29&"!$F$5:$G$13"),2,0),"")
C30: =IFERROR(VLOOKUP(B30,INDIRECT(A30&"!$F$5:$G$13"),2,0),"")
C31: =IFERROR(VLOOKUP(B31,INDIRECT(A31&"!$F$5:$G$13"),2,0),"")
C32: =IFERROR(VLOOKUP(B32,INDIRECT(A32&"!$F$5:$G$13"),2,0),"")
C33: =IFERROR(VLOOKUP(B33,INDIRECT(A33&"!$F$5:$G$13"),2,0),"")
C34: =IFERROR(VLOOKUP(B34,INDIRECT(A34&"!$F$5:$G$13"),2,0),"")
C35: =IFERROR(VLOOKUP(B35,INDIRECT(A35&"!$F$5:$G$13"),2,0),"")
... C260: =IFERROR(VLOOKUP(B260,INDIRECT(A260&"!$F$5:$G$13"),2,0),"")

Sheet 22日夜
A1: 减账原因 | B1: 类目 | C1: 金额 | D1: 上班现金 | E1: ='22日白'!G1 | F1: 下班现金 | H1: =人工!H3 | I1: 姓名01 | K1: =人工!I3 | L1: 姓名02 | N1: =人工!J3 | O1: 姓名03
C2: =IFERROR(VLOOKUP(B2,INDIRECT(A2&"!$F$5:$G$13"),2,0),"")
C3: =IFERROR(VLOOKUP(B3,INDIRECT(A3&"!$F$5:$G$13"),2,0),"") | D3: 上班微信 | E3: ='22日白'!G3 | F3: 下班微信
C4: =IFERROR(VLOOKUP(B4,INDIRECT(A4&"!$F$5:$G$13"),2,0),"")
C5: =IFERROR(VLOOKUP(B5,INDIRECT(A5&"!$F$5:$G$13"),2,0),"")
C6: =IFERROR(VLOOKUP(B6,INDIRECT(A6&"!$F$5:$G$13"),2,0),"")
C7: =IFERROR(VLOOKUP(B7,INDIRECT(A7&"!$F$5:$G$13"),2,0),"") | D7: 上班支付宝 | E7: ='22日白'!G7 | F7: 下班支付宝
C8: =IFERROR(VLOOKUP(B8,INDIRECT(A8&"!$F$5:$G$13"),2,0),"")
C9: =IFERROR(VLOOKUP(B9,INDIRECT(A9&"!$F$5:$G$13"),2,0),"") | D9: 抄表区 | Z9: =渠道01!F3
C10: =IFERROR(VLOOKUP(B10,INDIRECT(A10&"!$F$5:$G$13"),2,0),"") | Z10: =渠道02!F3
C11: =IFERROR(VLOOKUP(B11,INDIRECT(A11&"!$F$5:$G$13"),2,0),"") | D11: 本班网费 | F11: 商品 | H11: 美团数量 | I11: =COUNTIF(A2:A2000,Z9) | J11: 美团金额 | K11: =SUMIF($A$2:$A$2000,$Z$9,$C$2:$C$2000) | Z11: =渠道03!F3
C12: =IFERROR(VLOOKUP(B12,INDIRECT(A12&"!$F$5:$G$13"),2,0),"") | Z12: =渠道04!F3
C13: =IFERROR(VLOOKUP(B13,INDIRECT(A13&"!$F$5:$G$13"),2,0),"") | D13: 本班XY | F13: 减账合计 | G13: =SUM(C$2:C$2000) | H13: 抖音数量 | I13: =COUNTIF(A2:A2000,Z10) | J13: 抖音金额 | K13: =SUMIF($A$2:$A$2000,$Z$10,$C$2:$C$2000) | Z13: =渠道05!F3
C14: =IFERROR(VLOOKUP(B14,INDIRECT(A14&"!$F$5:$G$13"),2,0),"")
C15: =IFERROR(VLOOKUP(B15,INDIRECT(A15&"!$F$5:$G$13"),2,0),"") | D15: 本班微信 | E15: =G3-E3 | F15: 本班现金 | G15: =G1-E1 | H15: 人工数量 | I15: =COUNTIF(A2:A2000,Z11) | J15: 人工金额 | K15: =SUMIF($A$2:$A$2000,$Z$11,$C$2:$C$2000)
C16: =IFERROR(VLOOKUP(B16,INDIRECT(A16&"!$F$5:$G$13"),2,0),"")
C17: =IFERROR(VLOOKUP(B17,INDIRECT(A17&"!$F$5:$G$13"),2,0),"") | D17: 本班支付宝 | E17: =G7-E7 | F17: 差额 | G17: =((G13+E15+G15+E17)-(E11+E13+G11)) | H17: 瓶装水换购 | I17: =COUNTIF(A2:A2000,$Z$12) | J17: 瓶装水金额 | K17: =SUMIF($A$2:$A$2000,$Z$12,$C$2:$C$2000)
C18: =IFERROR(VLOOKUP(B18,INDIRECT(A18&"!$F$5:$G$13"),2,0),"")
C19: =IFERROR(VLOOKUP(B19,INDIRECT(A19&"!$F$5:$G$13"),2,0),"") | H19: 槟榔换购 | I19: =COUNTIF(A2:A2000,Z13) | J19: 槟榔金额 | K19: =SUMIF($A$2:$A$2000,$Z$13,$C$2:$C$2000)
C20: =IFERROR(VLOOKUP(B20,INDIRECT(A20&"!$F$5:$G$13"),2,0),"")
C21: =IFERROR(VLOOKUP(B21,INDIRECT(A21&"!$F$5:$G$13"),2,0),"")
C22: =IFERROR(VLOOKUP(B22,INDIRECT(A22&"!$F$5:$G$13"),2,0),"")
C23: =IFERROR(VLOOKUP(B23,INDIRECT(A23&"!$F$5:$G$13"),2,0),"") | F23: 上交款 | G23: =E15+E17+G15
C24: =IFERROR(VLOOKUP(B24,INDIRECT(A24&"!$F$5:$G$13"),2,0),"")
C25: =IFERROR(VLOOKUP(B25,INDIRECT(A25&"!$F$5:$G$13"),2,0),"")
C26: =IFERROR(VLOOKUP(B26,INDIRECT(A26&"!$F$5:$G$13"),2,0),"")
C27: =IFERROR(VLOOKUP(B27,INDIRECT(A27&"!$F$5:$G$13"),2,0),"")
C28: =IFERROR(VLOOKUP(B28,INDIRECT(A28&"!$F$5:$G$13"),2,0),"")
C29: =IFERROR(VLOOKUP(B29,INDIRECT(A29&"!$F$5:$G$13"),2,0),"")
C30: =IFERROR(VLOOKUP(B30,INDIRECT(A30&"!$F$5:$G$13"),2,0),"")
C31: =IFERROR(VLOOKUP(B31,INDIRECT(A31&"!$F$5:$G$13"),2,0),"")
C32: =IFERROR(VLOOKUP(B32,INDIRECT(A32&"!$F$5:$G$13"),2,0),"")
C33: =IFERROR(VLOOKUP(B33,INDIRECT(A33&"!$F$5:$G$13"),2,0),"")
C34: =IFERROR(VLOOKUP(B34,INDIRECT(A34&"!$F$5:$G$13"),2,0),"")
C35: =IFERROR(VLOOKUP(B35,INDIRECT(A35&"!$F$5:$G$13"),2,0),"")
... C260: =IFERROR(VLOOKUP(B260,INDIRECT(A260&"!$F$5:$G$13"),2,0),"")

Sheet 23日白
A1: 减账原因 | B1: 类目 | C1: 金额 | D1: 上班现金 | E1: ='22日夜'!G1 | F1: 下班现金 | H1: =人工!H3 | I1: 姓名01 | K1: =人工!I3 | L1: 姓名02 | N1: =人工!J3 | O1: 姓名03
C2: =IFERROR(VLOOKUP(B2,INDIRECT(A2&"!$F$5:$G$13"),2,0),"")
C3: =IFERROR(VLOOKUP(B3,INDIRECT(A3&"!$F$5:$G$13"),2,0),"") | D3: 上班微信 | E3: ='22日夜'!G3 | F3: 下班微信
C4: =IFERROR(VLOOKUP(B4,INDIRECT(A4&"!$F$5:$G$13"),2,0),"")
C5: =IFERROR(VLOOKUP(B5,INDIRECT(A5&"!$F$5:$G$13"),2,0),"")
C6: =IFERROR(VLOOKUP(B6,INDIRECT(A6&"!$F$5:$G$13"),2,0),"")
C7: =IFERROR(VLOOKUP(B7,INDIRECT(A7&"!$F$5:$G$13"),2,0),"") | D7: 上班支付宝 | E7: ='22日夜'!G7 | F7: 下班支付宝
C8: =IFERROR(VLOOKUP(B8,INDIRECT(A8&"!$F$5:$G$13"),2,0),"")
C9: =IFERROR(VLOOKUP(B9,INDIRECT(A9&"!$F$5:$G$13"),2,0),"") | D9: 抄表区 | Z9: =渠道01!F3
C10: =IFERROR(VLOOKUP(B10,INDIRECT(A10&"!$F$5:$G$13"),2,0),"") | Z10: =渠道02!F3
C11: =IFERROR(VLOOKUP(B11,INDIRECT(A11&"!$F$5:$G$13"),2,0),"") | D11: 本班网费 | F11: 商品 | H11: 美团数量 | I11: =COUNTIF(A2:A2000,Z9) | J11: 美团金额 | K11: =SUMIF($A$2:$A$2000,$Z$9,$C$2:$C$2000) | Z11: =渠道03!F3
C12: =IFERROR(VLOOKUP(B12,INDIRECT(A12&"!$F$5:$G$13"),2,0),"") | Z12: =渠道04!F3
C13: =IFERROR(VLOOKUP(B13,INDIRECT(A13&"!$F$5:$G$13"),2,0),"") | D13: 本班XY | F13: 减账合计 | G13: =SUM(C$2:C$2000) | H13: 抖音数量 | I13: =COUNTIF(A2:A2000,Z10) | J13: 抖音金额 | K13: =SUMIF($A$2:$A$2000,$Z$10,$C$2:$C$2000) | Z13: =渠道05!F3
C14: =IFERROR(VLOOKUP(B14,INDIRECT(A14&"!$F$5:$G$13"),2,0),"")
C15: =IFERROR(VLOOKUP(B15,INDIRECT(A15&"!$F$5:$G$13"),2,0),"") | D15: 本班微信 | E15: =G3-E3 | F15: 本班现金 | G15: =G1-E1 | H15: 人工数量 | I15: =COUNTIF(A2:A2000,Z11) | J15: 人工金额 | K15: =SUMIF($A$2:$A$2000,$Z$11,$C$2:$C$2000)
C16: =IFERROR(VLOOKUP(B16,INDIRECT(A16&"!$F$5:$G$13"),2,0),"")
C17: =IFERROR(VLOOKUP(B17,INDIRECT(A17&"!$F$5:$G$13"),2,0),"") | D17: 本班支付宝 | E17: =G7-E7 | F17: 差额 | G17: =((G13+E15+G15+E17)-(E11+E13+G11)) | H17: 瓶装水换购 | I17: =COUNTIF(A2:A2000,$Z$12) | J17: 瓶装水金额 | K17: =SUMIF($A$2:$A$2000,$Z$12,$C$2:$C$2000)
C18: =IFERROR(VLOOKUP(B18,INDIRECT(A18&"!$F$5:$G$13"),2,0),"")
C19: =IFERROR(VLOOKUP(B19,INDIRECT(A19&"!$F$5:$G$13"),2,0),"") | H19: 槟榔换购 | I19: =COUNTIF(A2:A2000,Z13) | J19: 槟榔金额 | K19: =SUMIF($A$2:$A$2000,$Z$13,$C$2:$C$2000)
C20: =IFERROR(VLOOKUP(B20,INDIRECT(A20&"!$F$5:$G$13"),2,0),"")
C21: =IFERROR(VLOOKUP(B21,INDIRECT(A21&"!$F$5:$G$13"),2,0),"")
C22: =IFERROR(VLOOKUP(B22,INDIRECT(A22&"!$F$5:$G$13"),2,0),"")
C23: =IFERROR(VLOOKUP(B23,INDIRECT(A23&"!$F$5:$G$13"),2,0),"") | F23: 上交款 | G23: =E15+E17+G15
C24: =IFERROR(VLOOKUP(B24,INDIRECT(A24&"!$F$5:$G$13"),2,0),"")
C25: =IFERROR(VLOOKUP(B25,INDIRECT(A25&"!$F$5:$G$13"),2,0),"")
C26: =IFERROR(VLOOKUP(B26,INDIRECT(A26&"!$F$5:$G$13"),2,0),"")
C27: =IFERROR(VLOOKUP(B27,INDIRECT(A27&"!$F$5:$G$13"),2,0),"")
C28: =IFERROR(VLOOKUP(B28,INDIRECT(A28&"!$F$5:$G$13"),2,0),"")
C29: =IFERROR(VLOOKUP(B29,INDIRECT(A29&"!$F$5:$G$13"),2,0),"")
C30: =IFERROR(VLOOKUP(B30,INDIRECT(A30&"!$F$5:$G$13"),2,0),"")
C31: =IFERROR(VLOOKUP(B31,INDIRECT(A31&"!$F$5:$G$13"),2,0),"")
C32: =IFERROR(VLOOKUP(B32,INDIRECT(A32&"!$F$5:$G$13"),2,0),"")
C33: =IFERROR(VLOOKUP(B33,INDIRECT(A33&"!$F$5:$G$13"),2,0),"")
C34: =IFERROR(VLOOKUP(B34,INDIRECT(A34&"!$F$5:$G$13"),2,0),"")
C35: =IFERROR(VLOOKUP(B35,INDIRECT(A35&"!$F$5:$G$13"),2,0),"")
... C260: =IFERROR(VLOOKUP(B260,INDIRECT(A260&"!$F$5:$G$13"),2,0),"")

Sheet 23日夜
A1: 减账原因 | B1: 类目 | C1: 金额 | D1: 上班现金 | E1: ='23日白'!G1 | F1: 下班现金 | H1: =人工!H3 | I1: 姓名01 | K1: =人工!I3 | L1: 姓名02 | N1: =人工!J3 | O1: 姓名03
C2: =IFERROR(VLOOKUP(B2,INDIRECT(A2&"!$F$5:$G$13"),2,0),"")
C3: =IFERROR(VLOOKUP(B3,INDIRECT(A3&"!$F$5:$G$13"),2,0),"") | D3: 上班微信 | E3: ='23日白'!G3 | F3: 下班微信
C4: =IFERROR(VLOOKUP(B4,INDIRECT(A4&"!$F$5:$G$13"),2,0),"")
C5: =IFERROR(VLOOKUP(B5,INDIRECT(A5&"!$F$5:$G$13"),2,0),"")
C6: =IFERROR(VLOOKUP(B6,INDIRECT(A6&"!$F$5:$G$13"),2,0),"")
C7: =IFERROR(VLOOKUP(B7,INDIRECT(A7&"!$F$5:$G$13"),2,0),"") | D7: 上班支付宝 | E7: ='23日白'!G7 | F7: 下班支付宝
C8: =IFERROR(VLOOKUP(B8,INDIRECT(A8&"!$F$5:$G$13"),2,0),"")
C9: =IFERROR(VLOOKUP(B9,INDIRECT(A9&"!$F$5:$G$13"),2,0),"") | D9: 抄表区 | Z9: =渠道01!F3
C10: =IFERROR(VLOOKUP(B10,INDIRECT(A10&"!$F$5:$G$13"),2,0),"") | Z10: =渠道02!F3
C11: =IFERROR(VLOOKUP(B11,INDIRECT(A11&"!$F$5:$G$13"),2,0),"") | D11: 本班网费 | F11: 商品 | H11: 美团数量 | I11: =COUNTIF(A2:A2000,Z9) | J11: 美团金额 | K11: =SUMIF($A$2:$A$2000,$Z$9,$C$2:$C$2000) | Z11: =渠道03!F3
C12: =IFERROR(VLOOKUP(B12,INDIRECT(A12&"!$F$5:$G$13"),2,0),"") | Z12: =渠道04!F3
C13: =IFERROR(VLOOKUP(B13,INDIRECT(A13&"!$F$5:$G$13"),2,0),"") | D13: 本班XY | F13: 减账合计 | G13: =SUM(C$2:C$2000) | H13: 抖音数量 | I13: =COUNTIF(A2:A2000,Z10) | J13: 抖音金额 | K13: =SUMIF($A$2:$A$2000,$Z$10,$C$2:$C$2000) | Z13: =渠道05!F3
C14: =IFERROR(VLOOKUP(B14,INDIRECT(A14&"!$F$5:$G$13"),2,0),"")
C15: =IFERROR(VLOOKUP(B15,INDIRECT(A15&"!$F$5:$G$13"),2,0),"") | D15: 本班微信 | E15: =G3-E3 | F15: 本班现金 | G15: =G1-E1 | H15: 人工数量 | I15: =COUNTIF(A2:A2000,Z11) | J15: 人工金额 | K15: =SUMIF($A$2:$A$2000,$Z$11,$C$2:$C$2000)
C16: =IFERROR(VLOOKUP(B16,INDIRECT(A16&"!$F$5:$G$13"),2,0),"")
C17: =IFERROR(VLOOKUP(B17,INDIRECT(A17&"!$F$5:$G$13"),2,0),"") | D17: 本班支付宝 | E17: =G7-E7 | F17: 差额 | G17: =((G13+E15+G15+E17)-(E11+E13+G11)) | H17: 瓶装水换购 | I17: =COUNTIF(A2:A2000,$Z$12) | J17: 瓶装水金额 | K17: =SUMIF($A$2:$A$2000,$Z$12,$C$2:$C$2000)
C18: =IFERROR(VLOOKUP(B18,INDIRECT(A18&"!$F$5:$G$13"),2,0),"")
C19: =IFERROR(VLOOKUP(B19,INDIRECT(A19&"!$F$5:$G$13"),2,0),"") | H19: 槟榔换购 | I19: =COUNTIF(A2:A2000,Z13) | J19: 槟榔金额 | K19: =SUMIF($A$2:$A$2000,$Z$13,$C$2:$C$2000)
C20: =IFERROR(VLOOKUP(B20,INDIRECT(A20&"!$F$5:$G$13"),2,0),"")
C21: =IFERROR(VLOOKUP(B21,INDIRECT(A21&"!$F$5:$G$13"),2,0),"")
C22: =IFERROR(VLOOKUP(B22,INDIRECT(A22&"!$F$5:$G$13"),2,0),"")
C23: =IFERROR(VLOOKUP(B23,INDIRECT(A23&"!$F$5:$G$13"),2,0),"") | F23: 上交款 | G23: =E15+E17+G15
C24: =IFERROR(VLOOKUP(B24,INDIRECT(A24&"!$F$5:$G$13"),2,0),"")
C25: =IFERROR(VLOOKUP(B25,INDIRECT(A25&"!$F$5:$G$13"),2,0),"")
C26: =IFERROR(VLOOKUP(B26,INDIRECT(A26&"!$F$5:$G$13"),2,0),"")
C27: =IFERROR(VLOOKUP(B27,INDIRECT(A27&"!$F$5:$G$13"),2,0),"")
C28: =IFERROR(VLOOKUP(B28,INDIRECT(A28&"!$F$5:$G$13"),2,0),"")
C29: =IFERROR(VLOOKUP(B29,INDIRECT(A29&"!$F$5:$G$13"),2,0),"")
C30: =IFERROR(VLOOKUP(B30,INDIRECT(A30&"!$F$5:$G$13"),2,0),"")
C31: =IFERROR(VLOOKUP(B31,INDIRECT(A31&"!$F$5:$G$13"),2,0),"")
C32: =IFERROR(VLOOKUP(B32,INDIRECT(A32&"!$F$5:$G$13"),2,0),"")
C33: =IFERROR(VLOOKUP(B33,INDIRECT(A33&"!$F$5:$G$13"),2,0),"")
C34: =IFERROR(VLOOKUP(B34,INDIRECT(A34&"!$F$5:$G$13"),2,0),"")
C35: =IFERROR(VLOOKUP(B35,INDIRECT(A35&"!$F$5:$G$13"),2,0),"")
... C260: =IFERROR(VLOOKUP(B260,INDIRECT(A260&"!$F$5:$G$13"),2,0),"")

Sheet 24日白
A1: 减账原因 | B1: 类目 | C1: 金额 | D1: 上班现金 | E1: ='23日夜'!G1 | F1: 下班现金 | H1: =人工!H3 | I1: 姓名01 | K1: =人工!I3 | L1: 姓名02 | N1: =人工!J3 | O1: 姓名03
C2: =IFERROR(VLOOKUP(B2,INDIRECT(A2&"!$F$5:$G$13"),2,0),"")
C3: =IFERROR(VLOOKUP(B3,INDIRECT(A3&"!$F$5:$G$13"),2,0),"") | D3: 上班微信 | E3: ='23日夜'!G3 | F3: 下班微信
C4: =IFERROR(VLOOKUP(B4,INDIRECT(A4&"!$F$5:$G$13"),2,0),"")
C5: =IFERROR(VLOOKUP(B5,INDIRECT(A5&"!$F$5:$G$13"),2,0),"")
C6: =IFERROR(VLOOKUP(B6,INDIRECT(A6&"!$F$5:$G$13"),2,0),"")
C7: =IFERROR(VLOOKUP(B7,INDIRECT(A7&"!$F$5:$G$13"),2,0),"") | D7: 上班支付宝 | E7: ='23日夜'!G7 | F7: 下班支付宝
C8: =IFERROR(VLOOKUP(B8,INDIRECT(A8&"!$F$5:$G$13"),2,0),"")
C9: =IFERROR(VLOOKUP(B9,INDIRECT(A9&"!$F$5:$G$13"),2,0),"") | D9: 抄表区 | Z9: =渠道01!F3
C10: =IFERROR(VLOOKUP(B10,INDIRECT(A10&"!$F$5:$G$13"),2,0),"") | Z10: =渠道02!F3
C11: =IFERROR(VLOOKUP(B11,INDIRECT(A11&"!$F$5:$G$13"),2,0),"") | D11: 本班网费 | F11: 商品 | H11: 美团数量 | I11: =COUNTIF(A2:A2000,Z9) | J11: 美团金额 | K11: =SUMIF($A$2:$A$2000,$Z$9,$C$2:$C$2000) | Z11: =渠道03!F3
C12: =IFERROR(VLOOKUP(B12,INDIRECT(A12&"!$F$5:$G$13"),2,0),"") | Z12: =渠道04!F3
C13: =IFERROR(VLOOKUP(B13,INDIRECT(A13&"!$F$5:$G$13"),2,0),"") | D13: 本班XY | F13: 减账合计 | G13: =SUM(C$2:C$2000) | H13: 抖音数量 | I13: =COUNTIF(A2:A2000,Z10) | J13: 抖音金额 | K13: =SUMIF($A$2:$A$2000,$Z$10,$C$2:$C$2000) | Z13: =渠道05!F3
C14: =IFERROR(VLOOKUP(B14,INDIRECT(A14&"!$F$5:$G$13"),2,0),"")
C15: =IFERROR(VLOOKUP(B15,INDIRECT(A15&"!$F$5:$G$13"),2,0),"") | D15: 本班微信 | E15: =G3-E3 | F15: 本班现金 | G15: =G1-E1 | H15: 人工数量 | I15: =COUNTIF(A2:A2000,Z11) | J15: 人工金额 | K15: =SUMIF($A$2:$A$2000,$Z$11,$C$2:$C$2000)
C16: =IFERROR(VLOOKUP(B16,INDIRECT(A16&"!$F$5:$G$13"),2,0),"")
C17: =IFERROR(VLOOKUP(B17,INDIRECT(A17&"!$F$5:$G$13"),2,0),"") | D17: 本班支付宝 | E17: =G7-E7 | F17: 差额 | G17: =((G13+E15+G15+E17)-(E11+E13+G11)) | H17: 瓶装水换购 | I17: =COUNTIF(A2:A2000,$Z$12) | J17: 瓶装水金额 | K17: =SUMIF($A$2:$A$2000,$Z$12,$C$2:$C$2000)
C18: =IFERROR(VLOOKUP(B18,INDIRECT(A18&"!$F$5:$G$13"),2,0),"")
C19: =IFERROR(VLOOKUP(B19,INDIRECT(A19&"!$F$5:$G$13"),2,0),"") | H19: 槟榔换购 | I19: =COUNTIF(A2:A2000,Z13) | J19: 槟榔金额 | K19: =SUMIF($A$2:$A$2000,$Z$13,$C$2:$C$2000)
C20: =IFERROR(VLOOKUP(B20,INDIRECT(A20&"!$F$5:$G$13"),2,0),"")
C21: =IFERROR(VLOOKUP(B21,INDIRECT(A21&"!$F$5:$G$13"),2,0),"")
C22: =IFERROR(VLOOKUP(B22,INDIRECT(A22&"!$F$5:$G$13"),2,0),"")
C23: =IFERROR(VLOOKUP(B23,INDIRECT(A23&"!$F$5:$G$13"),2,0),"") | F23: 上交款 | G23: =E15+E17+G15
C24: =IFERROR(VLOOKUP(B24,INDIRECT(A24&"!$F$5:$G$13"),2,0),"")
C25: =IFERROR(VLOOKUP(B25,INDIRECT(A25&"!$F$5:$G$13"),2,0),"")
C26: =IFERROR(VLOOKUP(B26,INDIRECT(A26&"!$F$5:$G$13"),2,0),"")
C27: =IFERROR(VLOOKUP(B27,INDIRECT(A27&"!$F$5:$G$13"),2,0),"")
C28: =IFERROR(VLOOKUP(B28,INDIRECT(A28&"!$F$5:$G$13"),2,0),"")
C29: =IFERROR(VLOOKUP(B29,INDIRECT(A29&"!$F$5:$G$13"),2,0),"")
C30: =IFERROR(VLOOKUP(B30,INDIRECT(A30&"!$F$5:$G$13"),2,0),"")
C31: =IFERROR(VLOOKUP(B31,INDIRECT(A31&"!$F$5:$G$13"),2,0),"")
C32: =IFERROR(VLOOKUP(B32,INDIRECT(A32&"!$F$5:$G$13"),2,0),"")
C33: =IFERROR(VLOOKUP(B33,INDIRECT(A33&"!$F$5:$G$13"),2,0),"")
C34: =IFERROR(VLOOKUP(B34,INDIRECT(A34&"!$F$5:$G$13"),2,0),"")
C35: =IFERROR(VLOOKUP(B35,INDIRECT(A35&"!$F$5:$G$13"),2,0),"")
... C260: =IFERROR(VLOOKUP(B260,INDIRECT(A260&"!$F$5:$G$13"),2,0),"")

Sheet 24日夜
A1: 减账原因 | B1: 类目 | C1: 金额 | D1: 上班现金 | E1: ='24日白'!G1 | F1: 下班现金 | H1: =人工!H3 | I1: 姓名01 | K1: =人工!I3 | L1: 姓名02 | N1: =人工!J3 | O1: 姓名03
C2: =IFERROR(VLOOKUP(B2,INDIRECT(A2&"!$F$5:$G$13"),2,0),"")
C3: =IFERROR(VLOOKUP(B3,INDIRECT(A3&"!$F$5:$G$13"),2,0),"") | D3: 上班微信 | E3: ='24日白'!G3 | F3: 下班微信
C4: =IFERROR(VLOOKUP(B4,INDIRECT(A4&"!$F$5:$G$13"),2,0),"")
C5: =IFERROR(VLOOKUP(B5,INDIRECT(A5&"!$F$5:$G$13"),2,0),"")
C6: =IFERROR(VLOOKUP(B6,INDIRECT(A6&"!$F$5:$G$13"),2,0),"")
C7: =IFERROR(VLOOKUP(B7,INDIRECT(A7&"!$F$5:$G$13"),2,0),"") | D7: 上班支付宝 | E7: ='24日白'!G7 | F7: 下班支付宝
C8: =IFERROR(VLOOKUP(B8,INDIRECT(A8&"!$F$5:$G$13"),2,0),"")
C9: =IFERROR(VLOOKUP(B9,INDIRECT(A9&"!$F$5:$G$13"),2,0),"") | D9: 抄表区 | Z9: =渠道01!F3
C10: =IFERROR(VLOOKUP(B10,INDIRECT(A10&"!$F$5:$G$13"),2,0),"") | Z10: =渠道02!F3
C11: =IFERROR(VLOOKUP(B11,INDIRECT(A11&"!$F$5:$G$13"),2,0),"") | D11: 本班网费 | F11: 商品 | H11: 美团数量 | I11: =COUNTIF(A2:A2000,Z9) | J11: 美团金额 | K11: =SUMIF($A$2:$A$2000,$Z$9,$C$2:$C$2000) | Z11: =渠道03!F3
C12: =IFERROR(VLOOKUP(B12,INDIRECT(A12&"!$F$5:$G$13"),2,0),"") | Z12: =渠道04!F3
C13: =IFERROR(VLOOKUP(B13,INDIRECT(A13&"!$F$5:$G$13"),2,0),"") | D13: 本班XY | F13: 减账合计 | G13: =SUM(C$2:C$2000) | H13: 抖音数量 | I13: =COUNTIF(A2:A2000,Z10) | J13: 抖音金额 | K13: =SUMIF($A$2:$A$2000,$Z$10,$C$2:$C$2000) | Z13: =渠道05!F3
C14: =IFERROR(VLOOKUP(B14,INDIRECT(A14&"!$F$5:$G$13"),2,0),"")
C15: =IFERROR(VLOOKUP(B15,INDIRECT(A15&"!$F$5:$G$13"),2,0),"") | D15: 本班微信 | E15: =G3-E3 | F15: 本班现金 | G15: =G1-E1 | H15: 人工数量 | I15: =COUNTIF(A2:A2000,Z11) | J15: 人工金额 | K15: =SUMIF($A$2:$A$2000,$Z$11,$C$2:$C$2000)
C16: =IFERROR(VLOOKUP(B16,INDIRECT(A16&"!$F$5:$G$13"),2,0),"")
C17: =IFERROR(VLOOKUP(B17,INDIRECT(A17&"!$F$5:$G$13"),2,0),"") | D17: 本班支付宝 | E17: =G7-E7 | F17: 差额 | G17: =((G13+E15+G15+E17)-(E11+E13+G11)) | H17: 瓶装水换购 | I17: =COUNTIF(A2:A2000,$Z$12) | J17: 瓶装水金额 | K17: =SUMIF($A$2:$A$2000,$Z$12,$C$2:$C$2000)
C18: =IFERROR(VLOOKUP(B18,INDIRECT(A18&"!$F$5:$G$13"),2,0),"")
C19: =IFERROR(VLOOKUP(B19,INDIRECT(A19&"!$F$5:$G$13"),2,0),"") | H19: 槟榔换购 | I19: =COUNTIF(A2:A2000,Z13) | J19: 槟榔金额 | K19: =SUMIF($A$2:$A$2000,$Z$13,$C$2:$C$2000)
C20: =IFERROR(VLOOKUP(B20,INDIRECT(A20&"!$F$5:$G$13"),2,0),"")
C21: =IFERROR(VLOOKUP(B21,INDIRECT(A21&"!$F$5:$G$13"),2,0),"")
C22: =IFERROR(VLOOKUP(B22,INDIRECT(A22&"!$F$5:$G$13"),2,0),"")
C23: =IFERROR(VLOOKUP(B23,INDIRECT(A23&"!$F$5:$G$13"),2,0),"") | F23: 上交款 | G23: =E15+E17+G15
C24: =IFERROR(VLOOKUP(B24,INDIRECT(A24&"!$F$5:$G$13"),2,0),"")
C25: =IFERROR(VLOOKUP(B25,INDIRECT(A25&"!$F$5:$G$13"),2,0),"")
C26: =IFERROR(VLOOKUP(B26,INDIRECT(A26&"!$F$5:$G$13"),2,0),"")
C27: =IFERROR(VLOOKUP(B27,INDIRECT(A27&"!$F$5:$G$13"),2,0),"")
C28: =IFERROR(VLOOKUP(B28,INDIRECT(A28&"!$F$5:$G$13"),2,0),"")
C29: =IFERROR(VLOOKUP(B29,INDIRECT(A29&"!$F$5:$G$13"),2,0),"")
C30: =IFERROR(VLOOKUP(B30,INDIRECT(A30&"!$F$5:$G$13"),2,0),"")
C31: =IFERROR(VLOOKUP(B31,INDIRECT(A31&"!$F$5:$G$13"),2,0),"")
C32: =IFERROR(VLOOKUP(B32,INDIRECT(A32&"!$F$5:$G$13"),2,0),"")
C33: =IFERROR(VLOOKUP(B33,INDIRECT(A33&"!$F$5:$G$13"),2,0),"")
C34: =IFERROR(VLOOKUP(B34,INDIRECT(A34&"!$F$5:$G$13"),2,0),"")
C35: =IFERROR(VLOOKUP(B35,INDIRECT(A35&"!$F$5:$G$13"),2,0),"")
... C260: =IFERROR(VLOOKUP(B260,INDIRECT(A260&"!$F$5:$G$13"),2,0),"")

Sheet 25日白
A1: 减账原因 | B1: 类目 | C1: 金额 | D1: 上班现金 | E1: ='24日夜'!G1 | F1: 下班现金 | H1: =人工!H3 | I1: 姓名01 | K1: =人工!I3 | L1: 姓名02 | N1: =人工!J3 | O1: 姓名03
C2: =IFERROR(VLOOKUP(B2,INDIRECT(A2&"!$F$5:$G$13"),2,0),"")
C3: =IFERROR(VLOOKUP(B3,INDIRECT(A3&"!$F$5:$G$13"),2,0),"") | D3: 上班微信 | E3: ='24日夜'!G3 | F3: 下班微信
C4: =IFERROR(VLOOKUP(B4,INDIRECT(A4&"!$F$5:$G$13"),2,0),"")
C5: =IFERROR(VLOOKUP(B5,INDIRECT(A5&"!$F$5:$G$13"),2,0),"")
C6: =IFERROR(VLOOKUP(B6,INDIRECT(A6&"!$F$5:$G$13"),2,0),"")
C7: =IFERROR(VLOOKUP(B7,INDIRECT(A7&"!$F$5:$G$13"),2,0),"") | D7: 上班支付宝 | E7: ='24日夜'!G7 | F7: 下班支付宝
C8: =IFERROR(VLOOKUP(B8,INDIRECT(A8&"!$F$5:$G$13"),2,0),"")
C9: =IFERROR(VLOOKUP(B9,INDIRECT(A9&"!$F$5:$G$13"),2,0),"") | D9: 抄表区 | Z9: =渠道01!F3
C10: =IFERROR(VLOOKUP(B10,INDIRECT(A10&"!$F$5:$G$13"),2,0),"") | Z10: =渠道02!F3
C11: =IFERROR(VLOOKUP(B11,INDIRECT(A11&"!$F$5:$G$13"),2,0),"") | D11: 本班网费 | F11: 商品 | H11: 美团数量 | I11: =COUNTIF(A2:A2000,Z9) | J11: 美团金额 | K11: =SUMIF($A$2:$A$2000,$Z$9,$C$2:$C$2000) | Z11: =渠道03!F3
C12: =IFERROR(VLOOKUP(B12,INDIRECT(A12&"!$F$5:$G$13"),2,0),"") | Z12: =渠道04!F3
C13: =IFERROR(VLOOKUP(B13,INDIRECT(A13&"!$F$5:$G$13"),2,0),"") | D13: 本班XY | F13: 减账合计 | G13: =SUM(C$2:C$2000) | H13: 抖音数量 | I13: =COUNTIF(A2:A2000,Z10) | J13: 抖音金额 | K13: =SUMIF($A$2:$A$2000,$Z$10,$C$2:$C$2000) | Z13: =渠道05!F3
C14: =IFERROR(VLOOKUP(B14,INDIRECT(A14&"!$F$5:$G$13"),2,0),"")
C15: =IFERROR(VLOOKUP(B15,INDIRECT(A15&"!$F$5:$G$13"),2,0),"") | D15: 本班微信 | E15: =G3-E3 | F15: 本班现金 | G15: =G1-E1 | H15: 人工数量 | I15: =COUNTIF(A2:A2000,Z11) | J15: 人工金额 | K15: =SUMIF($A$2:$A$2000,$Z$11,$C$2:$C$2000)
C16: =IFERROR(VLOOKUP(B16,INDIRECT(A16&"!$F$5:$G$13"),2,0),"")
C17: =IFERROR(VLOOKUP(B17,INDIRECT(A17&"!$F$5:$G$13"),2,0),"") | D17: 本班支付宝 | E17: =G7-E7 | F17: 差额 | G17: =((G13+E15+G15+E17)-(E11+E13+G11)) | H17: 瓶装水换购 | I17: =COUNTIF(A2:A2000,$Z$12) | J17: 瓶装水金额 | K17: =SUMIF($A$2:$A$2000,$Z$12,$C$2:$C$2000)
C18: =IFERROR(VLOOKUP(B18,INDIRECT(A18&"!$F$5:$G$13"),2,0),"")
C19: =IFERROR(VLOOKUP(B19,INDIRECT(A19&"!$F$5:$G$13"),2,0),"") | H19: 槟榔换购 | I19: =COUNTIF(A2:A2000,Z13) | J19: 槟榔金额 | K19: =SUMIF($A$2:$A$2000,$Z$13,$C$2:$C$2000)
C20: =IFERROR(VLOOKUP(B20,INDIRECT(A20&"!$F$5:$G$13"),2,0),"")
C21: =IFERROR(VLOOKUP(B21,INDIRECT(A21&"!$F$5:$G$13"),2,0),"")
C22: =IFERROR(VLOOKUP(B22,INDIRECT(A22&"!$F$5:$G$13"),2,0),"")
C23: =IFERROR(VLOOKUP(B23,INDIRECT(A23&"!$F$5:$G$13"),2,0),"") | F23: 上交款 | G23: =E15+E17+G15
C24: =IFERROR(VLOOKUP(B24,INDIRECT(A24&"!$F$5:$G$13"),2,0),"")
C25: =IFERROR(VLOOKUP(B25,INDIRECT(A25&"!$F$5:$G$13"),2,0),"")
C26: =IFERROR(VLOOKUP(B26,INDIRECT(A26&"!$F$5:$G$13"),2,0),"")
C27: =IFERROR(VLOOKUP(B27,INDIRECT(A27&"!$F$5:$G$13"),2,0),"")
C28: =IFERROR(VLOOKUP(B28,INDIRECT(A28&"!$F$5:$G$13"),2,0),"")
C29: =IFERROR(VLOOKUP(B29,INDIRECT(A29&"!$F$5:$G$13"),2,0),"")
C30: =IFERROR(VLOOKUP(B30,INDIRECT(A30&"!$F$5:$G$13"),2,0),"")
C31: =IFERROR(VLOOKUP(B31,INDIRECT(A31&"!$F$5:$G$13"),2,0),"")
C32: =IFERROR(VLOOKUP(B32,INDIRECT(A32&"!$F$5:$G$13"),2,0),"")
C33: =IFERROR(VLOOKUP(B33,INDIRECT(A33&"!$F$5:$G$13"),2,0),"")
C34: =IFERROR(VLOOKUP(B34,INDIRECT(A34&"!$F$5:$G$13"),2,0),"")
C35: =IFERROR(VLOOKUP(B35,INDIRECT(A35&"!$F$5:$G$13"),2,0),"")
... C260: =IFERROR(VLOOKUP(B260,INDIRECT(A260&"!$F$5:$G$13"),2,0),"")

Sheet 25日夜
A1: 减账原因 | B1: 类目 | C1: 金额 | D1: 上班现金 | E1: ='25日白'!G1 | F1: 下班现金 | H1: =人工!H3 | I1: 姓名01 | K1: =人工!I3 | L1: 姓名02 | N1: =人工!J3 | O1: 姓名03
C2: =IFERROR(VLOOKUP(B2,INDIRECT(A2&"!$F$5:$G$13"),2,0),"")
C3: =IFERROR(VLOOKUP(B3,INDIRECT(A3&"!$F$5:$G$13"),2,0),"") | D3: 上班微信 | E3: ='25日白'!G3 | F3: 下班微信
C4: =IFERROR(VLOOKUP(B4,INDIRECT(A4&"!$F$5:$G$13"),2,0),"")
C5: =IFERROR(VLOOKUP(B5,INDIRECT(A5&"!$F$5:$G$13"),2,0),"")
C6: =IFERROR(VLOOKUP(B6,INDIRECT(A6&"!$F$5:$G$13"),2,0),"")
C7: =IFERROR(VLOOKUP(B7,INDIRECT(A7&"!$F$5:$G$13"),2,0),"") | D7: 上班支付宝 | E7: ='25日白'!G7 | F7: 下班支付宝
C8: =IFERROR(VLOOKUP(B8,INDIRECT(A8&"!$F$5:$G$13"),2,0),"")
C9: =IFERROR(VLOOKUP(B9,INDIRECT(A9&"!$F$5:$G$13"),2,0),"") | D9: 抄表区 | Z9: =渠道01!F3
C10: =IFERROR(VLOOKUP(B10,INDIRECT(A10&"!$F$5:$G$13"),2,0),"") | Z10: =渠道02!F3
C11: =IFERROR(VLOOKUP(B11,INDIRECT(A11&"!$F$5:$G$13"),2,0),"") | D11: 本班网费 | F11: 商品 | H11: 美团数量 | I11: =COUNTIF(A2:A2000,Z9) | J11: 美团金额 | K11: =SUMIF($A$2:$A$2000,$Z$9,$C$2:$C$2000) | Z11: =渠道03!F3
C12: =IFERROR(VLOOKUP(B12,INDIRECT(A12&"!$F$5:$G$13"),2,0),"") | Z12: =渠道04!F3
C13: =IFERROR(VLOOKUP(B13,INDIRECT(A13&"!$F$5:$G$13"),2,0),"") | D13: 本班XY | F13: 减账合计 | G13: =SUM(C$2:C$2000) | H13: 抖音数量 | I13: =COUNTIF(A2:A2000,Z10) | J13: 抖音金额 | K13: =SUMIF($A$2:$A$2000,$Z$10,$C$2:$C$2000) | Z13: =渠道05!F3
C14: =IFERROR(VLOOKUP(B14,INDIRECT(A14&"!$F$5:$G$13"),2,0),"")
C15: =IFERROR(VLOOKUP(B15,INDIRECT(A15&"!$F$5:$G$13"),2,0),"") | D15: 本班微信 | E15: =G3-E3 | F15: 本班现金 | G15: =G1-E1 | H15: 人工数量 | I15: =COUNTIF(A2:A2000,Z11) | J15: 人工金额 | K15: =SUMIF($A$2:$A$2000,$Z$11,$C$2:$C$2000)
C16: =IFERROR(VLOOKUP(B16,INDIRECT(A16&"!$F$5:$G$13"),2,0),"")
C17: =IFERROR(VLOOKUP(B17,INDIRECT(A17&"!$F$5:$G$13"),2,0),"") | D17: 本班支付宝 | E17: =G7-E7 | F17: 差额 | G17: =((G13+E15+G15+E17)-(E11+E13+G11)) | H17: 瓶装水换购 | I17: =COUNTIF(A2:A2000,$Z$12) | J17: 瓶装水金额 | K17: =SUMIF($A$2:$A$2000,$Z$12,$C$2:$C$2000)
C18: =IFERROR(VLOOKUP(B18,INDIRECT(A18&"!$F$5:$G$13"),2,0),"")
C19: =IFERROR(VLOOKUP(B19,INDIRECT(A19&"!$F$5:$G$13"),2,0),"") | H19: 槟榔换购 | I19: =COUNTIF(A2:A2000,Z13) | J19: 槟榔金额 | K19: =SUMIF($A$2:$A$2000,$Z$13,$C$2:$C$2000)
C20: =IFERROR(VLOOKUP(B20,INDIRECT(A20&"!$F$5:$G$13"),2,0),"")
C21: =IFERROR(VLOOKUP(B21,INDIRECT(A21&"!$F$5:$G$13"),2,0),"")
C22: =IFERROR(VLOOKUP(B22,INDIRECT(A22&"!$F$5:$G$13"),2,0),"")
C23: =IFERROR(VLOOKUP(B23,INDIRECT(A23&"!$F$5:$G$13"),2,0),"") | F23: 上交款 | G23: =E15+E17+G15
C24: =IFERROR(VLOOKUP(B24,INDIRECT(A24&"!$F$5:$G$13"),2,0),"")
C25: =IFERROR(VLOOKUP(B25,INDIRECT(A25&"!$F$5:$G$13"),2,0),"")
C26: =IFERROR(VLOOKUP(B26,INDIRECT(A26&"!$F$5:$G$13"),2,0),"")
C27: =IFERROR(VLOOKUP(B27,INDIRECT(A27&"!$F$5:$G$13"),2,0),"")
C28: =IFERROR(VLOOKUP(B28,INDIRECT(A28&"!$F$5:$G$13"),2,0),"")
C29: =IFERROR(VLOOKUP(B29,INDIRECT(A29&"!$F$5:$G$13"),2,0),"")
C30: =IFERROR(VLOOKUP(B30,INDIRECT(A30&"!$F$5:$G$13"),2,0),"")
C31: =IFERROR(VLOOKUP(B31,INDIRECT(A31&"!$F$5:$G$13"),2,0),"")
C32: =IFERROR(VLOOKUP(B32,INDIRECT(A32&"!$F$5:$G$13"),2,0),"")
C33: =IFERROR(VLOOKUP(B33,INDIRECT(A33&"!$F$5:$G$13"),2,0),"")
C34: =IFERROR(VLOOKUP(B34,INDIRECT(A34&"!$F$5:$G$13"),2,0),"")
C35: =IFERROR(VLOOKUP(B35,INDIRECT(A35&"!$F$5:$G$13"),2,0),"")
... C260: =IFERROR(VLOOKUP(B260,INDIRECT(A260&"!$F$5:$G$13"),2,0),"")

Sheet 26日白
A1: 减账原因 | B1: 类目 | C1: 金额 | D1: 上班现金 | E1: ='25日夜'!G1 | F1: 下班现金 | H1: =人工!H3 | I1: 姓名01 | K1: =人工!I3 | L1: 姓名02 | N1: =人工!J3 | O1: 姓名03
C2: =IFERROR(VLOOKUP(B2,INDIRECT(A2&"!$F$5:$G$13"),2,0),"")
C3: =IFERROR(VLOOKUP(B3,INDIRECT(A3&"!$F$5:$G$13"),2,0),"") | D3: 上班微信 | E3: ='25日夜'!G3 | F3: 下班微信
C4: =IFERROR(VLOOKUP(B4,INDIRECT(A4&"!$F$5:$G$13"),2,0),"")
C5: =IFERROR(VLOOKUP(B5,INDIRECT(A5&"!$F$5:$G$13"),2,0),"")
C6: =IFERROR(VLOOKUP(B6,INDIRECT(A6&"!$F$5:$G$13"),2,0),"")
C7: =IFERROR(VLOOKUP(B7,INDIRECT(A7&"!$F$5:$G$13"),2,0),"") | D7: 上班支付宝 | E7: ='25日夜'!G7 | F7: 下班支付宝
C8: =IFERROR(VLOOKUP(B8,INDIRECT(A8&"!$F$5:$G$13"),2,0),"")
C9: =IFERROR(VLOOKUP(B9,INDIRECT(A9&"!$F$5:$G$13"),2,0),"") | D9: 抄表区 | Z9: =渠道01!F3
C10: =IFERROR(VLOOKUP(B10,INDIRECT(A10&"!$F$5:$G$13"),2,0),"") | Z10: =渠道02!F3
C11: =IFERROR(VLOOKUP(B11,INDIRECT(A11&"!$F$5:$G$13"),2,0),"") | D11: 本班网费 | F11: 商品 | H11: 美团数量 | I11: =COUNTIF(A2:A2000,Z9) | J11: 美团金额 | K11: =SUMIF($A$2:$A$2000,$Z$9,$C$2:$C$2000) | Z11: =渠道03!F3
C12: =IFERROR(VLOOKUP(B12,INDIRECT(A12&"!$F$5:$G$13"),2,0),"") | Z12: =渠道04!F3
C13: =IFERROR(VLOOKUP(B13,INDIRECT(A13&"!$F$5:$G$13"),2,0),"") | D13: 本班XY | F13: 减账合计 | G13: =SUM(C$2:C$2000) | H13: 抖音数量 | I13: =COUNTIF(A2:A2000,Z10) | J13: 抖音金额 | K13: =SUMIF($A$2:$A$2000,$Z$10,$C$2:$C$2000) | Z13: =渠道05!F3
C14: =IFERROR(VLOOKUP(B14,INDIRECT(A14&"!$F$5:$G$13"),2,0),"")
C15: =IFERROR(VLOOKUP(B15,INDIRECT(A15&"!$F$5:$G$13"),2,0),"") | D15: 本班微信 | E15: =G3-E3 | F15: 本班现金 | G15: =G1-E1 | H15: 人工数量 | I15: =COUNTIF(A2:A2000,Z11) | J15: 人工金额 | K15: =SUMIF($A$2:$A$2000,$Z$11,$C$2:$C$2000)
C16: =IFERROR(VLOOKUP(B16,INDIRECT(A16&"!$F$5:$G$13"),2,0),"")
C17: =IFERROR(VLOOKUP(B17,INDIRECT(A17&"!$F$5:$G$13"),2,0),"") | D17: 本班支付宝 | E17: =G7-E7 | F17: 差额 | G17: =((G13+E15+G15+E17)-(E11+E13+G11)) | H17: 瓶装水换购 | I17: =COUNTIF(A2:A2000,$Z$12) | J17: 瓶装水金额 | K17: =SUMIF($A$2:$A$2000,$Z$12,$C$2:$C$2000)
C18: =IFERROR(VLOOKUP(B18,INDIRECT(A18&"!$F$5:$G$13"),2,0),"")
C19: =IFERROR(VLOOKUP(B19,INDIRECT(A19&"!$F$5:$G$13"),2,0),"") | H19: 槟榔换购 | I19: =COUNTIF(A2:A2000,Z13) | J19: 槟榔金额 | K19: =SUMIF($A$2:$A$2000,$Z$13,$C$2:$C$2000)
C20: =IFERROR(VLOOKUP(B20,INDIRECT(A20&"!$F$5:$G$13"),2,0),"")
C21: =IFERROR(VLOOKUP(B21,INDIRECT(A21&"!$F$5:$G$13"),2,0),"")
C22: =IFERROR(VLOOKUP(B22,INDIRECT(A22&"!$F$5:$G$13"),2,0),"")
C23: =IFERROR(VLOOKUP(B23,INDIRECT(A23&"!$F$5:$G$13"),2,0),"") | F23: 上交款 | G23: =E15+E17+G15
C24: =IFERROR(VLOOKUP(B24,INDIRECT(A24&"!$F$5:$G$13"),2,0),"")
C25: =IFERROR(VLOOKUP(B25,INDIRECT(A25&"!$F$5:$G$13"),2,0),"")
C26: =IFERROR(VLOOKUP(B26,INDIRECT(A26&"!$F$5:$G$13"),2,0),"")
C27: =IFERROR(VLOOKUP(B27,INDIRECT(A27&"!$F$5:$G$13"),2,0),"")
C28: =IFERROR(VLOOKUP(B28,INDIRECT(A28&"!$F$5:$G$13"),2,0),"")
C29: =IFERROR(VLOOKUP(B29,INDIRECT(A29&"!$F$5:$G$13"),2,0),"")
C30: =IFERROR(VLOOKUP(B30,INDIRECT(A30&"!$F$5:$G$13"),2,0),"")
C31: =IFERROR(VLOOKUP(B31,INDIRECT(A31&"!$F$5:$G$13"),2,0),"")
C32: =IFERROR(VLOOKUP(B32,INDIRECT(A32&"!$F$5:$G$13"),2,0),"")
C33: =IFERROR(VLOOKUP(B33,INDIRECT(A33&"!$F$5:$G$13"),2,0),"")
C34: =IFERROR(VLOOKUP(B34,INDIRECT(A34&"!$F$5:$G$13"),2,0),"")
C35: =IFERROR(VLOOKUP(B35,INDIRECT(A35&"!$F$5:$G$13"),2,0),"")
... C260: =IFERROR(VLOOKUP(B260,INDIRECT(A260&"!$F$5:$G$13"),2,0),"")

Sheet 26日夜
A1: 减账原因 | B1: 类目 | C1: 金额 | D1: 上班现金 | E1: ='26日白'!G1 | F1: 下班现金 | H1: =人工!H3 | I1: 姓名01 | K1: =人工!I3 | L1: 姓名02 | N1: =人工!J3 | O1: 姓名03
C2: =IFERROR(VLOOKUP(B2,INDIRECT(A2&"!$F$5:$G$13"),2,0),"")
C3: =IFERROR(VLOOKUP(B3,INDIRECT(A3&"!$F$5:$G$13"),2,0),"") | D3: 上班微信 | E3: ='26日白'!G3 | F3: 下班微信
C4: =IFERROR(VLOOKUP(B4,INDIRECT(A4&"!$F$5:$G$13"),2,0),"")
C5: =IFERROR(VLOOKUP(B5,INDIRECT(A5&"!$F$5:$G$13"),2,0),"")
C6: =IFERROR(VLOOKUP(B6,INDIRECT(A6&"!$F$5:$G$13"),2,0),"")
C7: =IFERROR(VLOOKUP(B7,INDIRECT(A7&"!$F$5:$G$13"),2,0),"") | D7: 上班支付宝 | E7: ='26日白'!G7 | F7: 下班支付宝
C8: =IFERROR(VLOOKUP(B8,INDIRECT(A8&"!$F$5:$G$13"),2,0),"")
C9: =IFERROR(VLOOKUP(B9,INDIRECT(A9&"!$F$5:$G$13"),2,0),"") | D9: 抄表区 | Z9: =渠道01!F3
C10: =IFERROR(VLOOKUP(B10,INDIRECT(A10&"!$F$5:$G$13"),2,0),"") | Z10: =渠道02!F3
C11: =IFERROR(VLOOKUP(B11,INDIRECT(A11&"!$F$5:$G$13"),2,0),"") | D11: 本班网费 | F11: 商品 | H11: 美团数量 | I11: =COUNTIF(A2:A2000,Z9) | J11: 美团金额 | K11: =SUMIF($A$2:$A$2000,$Z$9,$C$2:$C$2000) | Z11: =渠道03!F3
C12: =IFERROR(VLOOKUP(B12,INDIRECT(A12&"!$F$5:$G$13"),2,0),"") | Z12: =渠道04!F3
C13: =IFERROR(VLOOKUP(B13,INDIRECT(A13&"!$F$5:$G$13"),2,0),"") | D13: 本班XY | F13: 减账合计 | G13: =SUM(C$2:C$2000) | H13: 抖音数量 | I13: =COUNTIF(A2:A2000,Z10) | J13: 抖音金额 | K13: =SUMIF($A$2:$A$2000,$Z$10,$C$2:$C$2000) | Z13: =渠道05!F3
C14: =IFERROR(VLOOKUP(B14,INDIRECT(A14&"!$F$5:$G$13"),2,0),"")
C15: =IFERROR(VLOOKUP(B15,INDIRECT(A15&"!$F$5:$G$13"),2,0),"") | D15: 本班微信 | E15: =G3-E3 | F15: 本班现金 | G15: =G1-E1 | H15: 人工数量 | I15: =COUNTIF(A2:A2000,Z11) | J15: 人工金额 | K15: =SUMIF($A$2:$A$2000,$Z$11,$C$2:$C$2000)
C16: =IFERROR(VLOOKUP(B16,INDIRECT(A16&"!$F$5:$G$13"),2,0),"")
C17: =IFERROR(VLOOKUP(B17,INDIRECT(A17&"!$F$5:$G$13"),2,0),"") | D17: 本班支付宝 | E17: =G7-E7 | F17: 差额 | G17: =((G13+E15+G15+E17)-(E11+E13+G11)) | H17: 瓶装水换购 | I17: =COUNTIF(A2:A2000,$Z$12) | J17: 瓶装水金额 | K17: =SUMIF($A$2:$A$2000,$Z$12,$C$2:$C$2000)
C18: =IFERROR(VLOOKUP(B18,INDIRECT(A18&"!$F$5:$G$13"),2,0),"")
C19: =IFERROR(VLOOKUP(B19,INDIRECT(A19&"!$F$5:$G$13"),2,0),"") | H19: 槟榔换购 | I19: =COUNTIF(A2:A2000,Z13) | J19: 槟榔金额 | K19: =SUMIF($A$2:$A$2000,$Z$13,$C$2:$C$2000)
C20: =IFERROR(VLOOKUP(B20,INDIRECT(A20&"!$F$5:$G$13"),2,0),"")
C21: =IFERROR(VLOOKUP(B21,INDIRECT(A21&"!$F$5:$G$13"),2,0),"")
C22: =IFERROR(VLOOKUP(B22,INDIRECT(A22&"!$F$5:$G$13"),2,0),"")
C23: =IFERROR(VLOOKUP(B23,INDIRECT(A23&"!$F$5:$G$13"),2,0),"") | F23: 上交款 | G23: =E15+E17+G15
C24: =IFERROR(VLOOKUP(B24,INDIRECT(A24&"!$F$5:$G$13"),2,0),"")
C25: =IFERROR(VLOOKUP(B25,INDIRECT(A25&"!$F$5:$G$13"),2,0),"")
C26: =IFERROR(VLOOKUP(B26,INDIRECT(A26&"!$F$5:$G$13"),2,0),"")
C27: =IFERROR(VLOOKUP(B27,INDIRECT(A27&"!$F$5:$G$13"),2,0),"")
C28: =IFERROR(VLOOKUP(B28,INDIRECT(A28&"!$F$5:$G$13"),2,0),"")
C29: =IFERROR(VLOOKUP(B29,INDIRECT(A29&"!$F$5:$G$13"),2,0),"")
C30: =IFERROR(VLOOKUP(B30,INDIRECT(A30&"!$F$5:$G$13"),2,0),"")
C31: =IFERROR(VLOOKUP(B31,INDIRECT(A31&"!$F$5:$G$13"),2,0),"")
C32: =IFERROR(VLOOKUP(B32,INDIRECT(A32&"!$F$5:$G$13"),2,0),"")
C33: =IFERROR(VLOOKUP(B33,INDIRECT(A33&"!$F$5:$G$13"),2,0),"")
C34: =IFERROR(VLOOKUP(B34,INDIRECT(A34&"!$F$5:$G$13"),2,0),"")
C35: =IFERROR(VLOOKUP(B35,INDIRECT(A35&"!$F$5:$G$13"),2,0),"")
... C260: =IFERROR(VLOOKUP(B260,INDIRECT(A260&"!$F$5:$G$13"),2,0),"")

Sheet 27日白
A1: 减账原因 | B1: 类目 | C1: 金额 | D1: 上班现金 | E1: ='26日夜'!G1 | F1: 下班现金 | H1: =人工!H3 | I1: 姓名01 | K1: =人工!I3 | L1: 姓名02 | N1: =人工!J3 | O1: 姓名03
C2: =IFERROR(VLOOKUP(B2,INDIRECT(A2&"!$F$5:$G$13"),2,0),"")
C3: =IFERROR(VLOOKUP(B3,INDIRECT(A3&"!$F$5:$G$13"),2,0),"") | D3: 上班微信 | E3: ='26日夜'!G3 | F3: 下班微信
C4: =IFERROR(VLOOKUP(B4,INDIRECT(A4&"!$F$5:$G$13"),2,0),"")
C5: =IFERROR(VLOOKUP(B5,INDIRECT(A5&"!$F$5:$G$13"),2,0),"")
C6: =IFERROR(VLOOKUP(B6,INDIRECT(A6&"!$F$5:$G$13"),2,0),"")
C7: =IFERROR(VLOOKUP(B7,INDIRECT(A7&"!$F$5:$G$13"),2,0),"") | D7: 上班支付宝 | E7: ='26日夜'!G7 | F7: 下班支付宝
C8: =IFERROR(VLOOKUP(B8,INDIRECT(A8&"!$F$5:$G$13"),2,0),"")
C9: =IFERROR(VLOOKUP(B9,INDIRECT(A9&"!$F$5:$G$13"),2,0),"") | D9: 抄表区 | Z9: =渠道01!F3
C10: =IFERROR(VLOOKUP(B10,INDIRECT(A10&"!$F$5:$G$13"),2,0),"") | Z10: =渠道02!F3
C11: =IFERROR(VLOOKUP(B11,INDIRECT(A11&"!$F$5:$G$13"),2,0),"") | D11: 本班网费 | F11: 商品 | H11: 美团数量 | I11: =COUNTIF(A2:A2000,Z9) | J11: 美团金额 | K11: =SUMIF($A$2:$A$2000,$Z$9,$C$2:$C$2000) | Z11: =渠道03!F3
C12: =IFERROR(VLOOKUP(B12,INDIRECT(A12&"!$F$5:$G$13"),2,0),"") | Z12: =渠道04!F3
C13: =IFERROR(VLOOKUP(B13,INDIRECT(A13&"!$F$5:$G$13"),2,0),"") | D13: 本班XY | F13: 减账合计 | G13: =SUM(C$2:C$2000) | H13: 抖音数量 | I13: =COUNTIF(A2:A2000,Z10) | J13: 抖音金额 | K13: =SUMIF($A$2:$A$2000,$Z$10,$C$2:$C$2000) | Z13: =渠道05!F3
C14: =IFERROR(VLOOKUP(B14,INDIRECT(A14&"!$F$5:$G$13"),2,0),"")
C15: =IFERROR(VLOOKUP(B15,INDIRECT(A15&"!$F$5:$G$13"),2,0),"") | D15: 本班微信 | E15: =G3-E3 | F15: 本班现金 | G15: =G1-E1 | H15: 人工数量 | I15: =COUNTIF(A2:A2000,Z11) | J15: 人工金额 | K15: =SUMIF($A$2:$A$2000,$Z$11,$C$2:$C$2000)
C16: =IFERROR(VLOOKUP(B16,INDIRECT(A16&"!$F$5:$G$13"),2,0),"")
C17: =IFERROR(VLOOKUP(B17,INDIRECT(A17&"!$F$5:$G$13"),2,0),"") | D17: 本班支付宝 | E17: =G7-E7 | F17: 差额 | G17: =((G13+E15+G15+E17)-(E11+E13+G11)) | H17: 瓶装水换购 | I17: =COUNTIF(A2:A2000,$Z$12) | J17: 瓶装水金额 | K17: =SUMIF($A$2:$A$2000,$Z$12,$C$2:$C$2000)
C18: =IFERROR(VLOOKUP(B18,INDIRECT(A18&"!$F$5:$G$13"),2,0),"")
C19: =IFERROR(VLOOKUP(B19,INDIRECT(A19&"!$F$5:$G$13"),2,0),"") | H19: 槟榔换购 | I19: =COUNTIF(A2:A2000,Z13) | J19: 槟榔金额 | K19: =SUMIF($A$2:$A$2000,$Z$13,$C$2:$C$2000)
C20: =IFERROR(VLOOKUP(B20,INDIRECT(A20&"!$F$5:$G$13"),2,0),"")
C21: =IFERROR(VLOOKUP(B21,INDIRECT(A21&"!$F$5:$G$13"),2,0),"")
C22: =IFERROR(VLOOKUP(B22,INDIRECT(A22&"!$F$5:$G$13"),2,0),"")
C23: =IFERROR(VLOOKUP(B23,INDIRECT(A23&"!$F$5:$G$13"),2,0),"") | F23: 上交款 | G23: =E15+E17+G15
C24: =IFERROR(VLOOKUP(B24,INDIRECT(A24&"!$F$5:$G$13"),2,0),"")
C25: =IFERROR(VLOOKUP(B25,INDIRECT(A25&"!$F$5:$G$13"),2,0),"")
C26: =IFERROR(VLOOKUP(B26,INDIRECT(A26&"!$F$5:$G$13"),2,0),"")
C27: =IFERROR(VLOOKUP(B27,INDIRECT(A27&"!$F$5:$G$13"),2,0),"")
C28: =IFERROR(VLOOKUP(B28,INDIRECT(A28&"!$F$5:$G$13"),2,0),"")
C29: =IFERROR(VLOOKUP(B29,INDIRECT(A29&"!$F$5:$G$13"),2,0),"")
C30: =IFERROR(VLOOKUP(B30,INDIRECT(A30&"!$F$5:$G$13"),2,0),"")
C31: =IFERROR(VLOOKUP(B31,INDIRECT(A31&"!$F$5:$G$13"),2,0),"")
C32: =IFERROR(VLOOKUP(B32,INDIRECT(A32&"!$F$5:$G$13"),2,0),"")
C33: =IFERROR(VLOOKUP(B33,INDIRECT(A33&"!$F$5:$G$13"),2,0),"")
C34: =IFERROR(VLOOKUP(B34,INDIRECT(A34&"!$F$5:$G$13"),2,0),"")
C35: =IFERROR(VLOOKUP(B35,INDIRECT(A35&"!$F$5:$G$13"),2,0),"")
... C260: =IFERROR(VLOOKUP(B260,INDIRECT(A260&"!$F$5:$G$13"),2,0),"")

Sheet 27日夜
A1: 减账原因 | B1: 类目 | C1: 金额 | D1: 上班现金 | E1: ='27日白'!G1 | F1: 下班现金 | H1: =人工!H3 | I1: 姓名01 | K1: =人工!I3 | L1: 姓名02 | N1: =人工!J3 | O1: 姓名03
C2: =IFERROR(VLOOKUP(B2,INDIRECT(A2&"!$F$5:$G$13"),2,0),"")
C3: =IFERROR(VLOOKUP(B3,INDIRECT(A3&"!$F$5:$G$13"),2,0),"") | D3: 上班微信 | E3: ='27日白'!G3 | F3: 下班微信
C4: =IFERROR(VLOOKUP(B4,INDIRECT(A4&"!$F$5:$G$13"),2,0),"")
C5: =IFERROR(VLOOKUP(B5,INDIRECT(A5&"!$F$5:$G$13"),2,0),"")
C6: =IFERROR(VLOOKUP(B6,INDIRECT(A6&"!$F$5:$G$13"),2,0),"")
C7: =IFERROR(VLOOKUP(B7,INDIRECT(A7&"!$F$5:$G$13"),2,0),"") | D7: 上班支付宝 | E7: ='27日白'!G7 | F7: 下班支付宝
C8: =IFERROR(VLOOKUP(B8,INDIRECT(A8&"!$F$5:$G$13"),2,0),"")
C9: =IFERROR(VLOOKUP(B9,INDIRECT(A9&"!$F$5:$G$13"),2,0),"") | D9: 抄表区 | Z9: =渠道01!F3
C10: =IFERROR(VLOOKUP(B10,INDIRECT(A10&"!$F$5:$G$13"),2,0),"") | Z10: =渠道02!F3
C11: =IFERROR(VLOOKUP(B11,INDIRECT(A11&"!$F$5:$G$13"),2,0),"") | D11: 本班网费 | F11: 商品 | H11: 美团数量 | I11: =COUNTIF(A2:A2000,Z9) | J11: 美团金额 | K11: =SUMIF($A$2:$A$2000,$Z$9,$C$2:$C$2000) | Z11: =渠道03!F3
C12: =IFERROR(VLOOKUP(B12,INDIRECT(A12&"!$F$5:$G$13"),2,0),"") | Z12: =渠道04!F3
C13: =IFERROR(VLOOKUP(B13,INDIRECT(A13&"!$F$5:$G$13"),2,0),"") | D13: 本班XY | F13: 减账合计 | G13: =SUM(C$2:C$2000) | H13: 抖音数量 | I13: =COUNTIF(A2:A2000,Z10) | J13: 抖音金额 | K13: =SUMIF($A$2:$A$2000,$Z$10,$C$2:$C$2000) | Z13: =渠道05!F3
C14: =IFERROR(VLOOKUP(B14,INDIRECT(A14&"!$F$5:$G$13"),2,0),"")
C15: =IFERROR(VLOOKUP(B15,INDIRECT(A15&"!$F$5:$G$13"),2,0),"") | D15: 本班微信 | E15: =G3-E3 | F15: 本班现金 | G15: =G1-E1 | H15: 人工数量 | I15: =COUNTIF(A2:A2000,Z11) | J15: 人工金额 | K15: =SUMIF($A$2:$A$2000,$Z$11,$C$2:$C$2000)
C16: =IFERROR(VLOOKUP(B16,INDIRECT(A16&"!$F$5:$G$13"),2,0),"")
C17: =IFERROR(VLOOKUP(B17,INDIRECT(A17&"!$F$5:$G$13"),2,0),"") | D17: 本班支付宝 | E17: =G7-E7 | F17: 差额 | G17: =((G13+E15+G15+E17)-(E11+E13+G11)) | H17: 瓶装水换购 | I17: =COUNTIF(A2:A2000,$Z$12) | J17: 瓶装水金额 | K17: =SUMIF($A$2:$A$2000,$Z$12,$C$2:$C$2000)
C18: =IFERROR(VLOOKUP(B18,INDIRECT(A18&"!$F$5:$G$13"),2,0),"")
C19: =IFERROR(VLOOKUP(B19,INDIRECT(A19&"!$F$5:$G$13"),2,0),"") | H19: 槟榔换购 | I19: =COUNTIF(A2:A2000,Z13) | J19: 槟榔金额 | K19: =SUMIF($A$2:$A$2000,$Z$13,$C$2:$C$2000)
C20: =IFERROR(VLOOKUP(B20,INDIRECT(A20&"!$F$5:$G$13"),2,0),"")
C21: =IFERROR(VLOOKUP(B21,INDIRECT(A21&"!$F$5:$G$13"),2,0),"")
C22: =IFERROR(VLOOKUP(B22,INDIRECT(A22&"!$F$5:$G$13"),2,0),"")
C23: =IFERROR(VLOOKUP(B23,INDIRECT(A23&"!$F$5:$G$13"),2,0),"") | F23: 上交款 | G23: =E15+E17+G15
C24: =IFERROR(VLOOKUP(B24,INDIRECT(A24&"!$F$5:$G$13"),2,0),"")
C25: =IFERROR(VLOOKUP(B25,INDIRECT(A25&"!$F$5:$G$13"),2,0),"")
C26: =IFERROR(VLOOKUP(B26,INDIRECT(A26&"!$F$5:$G$13"),2,0),"")
C27: =IFERROR(VLOOKUP(B27,INDIRECT(A27&"!$F$5:$G$13"),2,0),"")
C28: =IFERROR(VLOOKUP(B28,INDIRECT(A28&"!$F$5:$G$13"),2,0),"")
C29: =IFERROR(VLOOKUP(B29,INDIRECT(A29&"!$F$5:$G$13"),2,0),"")
C30: =IFERROR(VLOOKUP(B30,INDIRECT(A30&"!$F$5:$G$13"),2,0),"")
C31: =IFERROR(VLOOKUP(B31,INDIRECT(A31&"!$F$5:$G$13"),2,0),"")
C32: =IFERROR(VLOOKUP(B32,INDIRECT(A32&"!$F$5:$G$13"),2,0),"")
C33: =IFERROR(VLOOKUP(B33,INDIRECT(A33&"!$F$5:$G$13"),2,0),"")
C34: =IFERROR(VLOOKUP(B34,INDIRECT(A34&"!$F$5:$G$13"),2,0),"")
C35: =IFERROR(VLOOKUP(B35,INDIRECT(A35&"!$F$5:$G$13"),2,0),"")
... C260: =IFERROR(VLOOKUP(B260,INDIRECT(A260&"!$F$5:$G$13"),2,0),"")

Sheet 28日白
A1: 减账原因 | B1: 类目 | C1: 金额 | D1: 上班现金 | E1: ='27日夜'!G1 | F1: 下班现金 | H1: =人工!H3 | I1: 姓名01 | K1: =人工!I3 | L1: 姓名02 | N1: =人工!J3 | O1: 姓名03
C2: =IFERROR(VLOOKUP(B2,INDIRECT(A2&"!$F$5:$G$13"),2,0),"")
C3: =IFERROR(VLOOKUP(B3,INDIRECT(A3&"!$F$5:$G$13"),2,0),"") | D3: 上班微信 | E3: ='27日夜'!G3 | F3: 下班微信
C4: =IFERROR(VLOOKUP(B4,INDIRECT(A4&"!$F$5:$G$13"),2,0),"")
C5: =IFERROR(VLOOKUP(B5,INDIRECT(A5&"!$F$5:$G$13"),2,0),"")
C6: =IFERROR(VLOOKUP(B6,INDIRECT(A6&"!$F$5:$G$13"),2,0),"")
C7: =IFERROR(VLOOKUP(B7,INDIRECT(A7&"!$F$5:$G$13"),2,0),"") | D7: 上班支付宝 | E7: ='27日夜'!G7 | F7: 下班支付宝
C8: =IFERROR(VLOOKUP(B8,INDIRECT(A8&"!$F$5:$G$13"),2,0),"")
C9: =IFERROR(VLOOKUP(B9,INDIRECT(A9&"!$F$5:$G$13"),2,0),"") | D9: 抄表区 | Z9: =渠道01!F3
C10: =IFERROR(VLOOKUP(B10,INDIRECT(A10&"!$F$5:$G$13"),2,0),"") | Z10: =渠道02!F3
C11: =IFERROR(VLOOKUP(B11,INDIRECT(A11&"!$F$5:$G$13"),2,0),"") | D11: 本班网费 | F11: 商品 | H11: 美团数量 | I11: =COUNTIF(A2:A2000,Z9) | J11: 美团金额 | K11: =SUMIF($A$2:$A$2000,$Z$9,$C$2:$C$2000) | Z11: =渠道03!F3
C12: =IFERROR(VLOOKUP(B12,INDIRECT(A12&"!$F$5:$G$13"),2,0),"") | Z12: =渠道04!F3
C13: =IFERROR(VLOOKUP(B13,INDIRECT(A13&"!$F$5:$G$13"),2,0),"") | D13: 本班XY | F13: 减账合计 | G13: =SUM(C$2:C$2000) | H13: 抖音数量 | I13: =COUNTIF(A2:A2000,Z10) | J13: 抖音金额 | K13: =SUMIF($A$2:$A$2000,$Z$10,$C$2:$C$2000) | Z13: =渠道05!F3
C14: =IFERROR(VLOOKUP(B14,INDIRECT(A14&"!$F$5:$G$13"),2,0),"")
C15: =IFERROR(VLOOKUP(B15,INDIRECT(A15&"!$F$5:$G$13"),2,0),"") | D15: 本班微信 | E15: =G3-E3 | F15: 本班现金 | G15: =G1-E1 | H15: 人工数量 | I15: =COUNTIF(A2:A2000,Z11) | J15: 人工金额 | K15: =SUMIF($A$2:$A$2000,$Z$11,$C$2:$C$2000)
C16: =IFERROR(VLOOKUP(B16,INDIRECT(A16&"!$F$5:$G$13"),2,0),"")
C17: =IFERROR(VLOOKUP(B17,INDIRECT(A17&"!$F$5:$G$13"),2,0),"") | D17: 本班支付宝 | E17: =G7-E7 | F17: 差额 | G17: =((G13+E15+G15+E17)-(E11+E13+G11)) | H17: 瓶装水换购 | I17: =COUNTIF(A2:A2000,$Z$12) | J17: 瓶装水金额 | K17: =SUMIF($A$2:$A$2000,$Z$12,$C$2:$C$2000)
C18: =IFERROR(VLOOKUP(B18,INDIRECT(A18&"!$F$5:$G$13"),2,0),"")
C19: =IFERROR(VLOOKUP(B19,INDIRECT(A19&"!$F$5:$G$13"),2,0),"") | H19: 槟榔换购 | I19: =COUNTIF(A2:A2000,Z13) | J19: 槟榔金额 | K19: =SUMIF($A$2:$A$2000,$Z$13,$C$2:$C$2000)
C20: =IFERROR(VLOOKUP(B20,INDIRECT(A20&"!$F$5:$G$13"),2,0),"")
C21: =IFERROR(VLOOKUP(B21,INDIRECT(A21&"!$F$5:$G$13"),2,0),"")
C22: =IFERROR(VLOOKUP(B22,INDIRECT(A22&"!$F$5:$G$13"),2,0),"")
C23: =IFERROR(VLOOKUP(B23,INDIRECT(A23&"!$F$5:$G$13"),2,0),"") | F23: 上交款 | G23: =E15+E17+G15
C24: =IFERROR(VLOOKUP(B24,INDIRECT(A24&"!$F$5:$G$13"),2,0),"")
C25: =IFERROR(VLOOKUP(B25,INDIRECT(A25&"!$F$5:$G$13"),2,0),"")
C26: =IFERROR(VLOOKUP(B26,INDIRECT(A26&"!$F$5:$G$13"),2,0),"")
C27: =IFERROR(VLOOKUP(B27,INDIRECT(A27&"!$F$5:$G$13"),2,0),"")
C28: =IFERROR(VLOOKUP(B28,INDIRECT(A28&"!$F$5:$G$13"),2,0),"")
C29: =IFERROR(VLOOKUP(B29,INDIRECT(A29&"!$F$5:$G$13"),2,0),"")
C30: =IFERROR(VLOOKUP(B30,INDIRECT(A30&"!$F$5:$G$13"),2,0),"")
C31: =IFERROR(VLOOKUP(B31,INDIRECT(A31&"!$F$5:$G$13"),2,0),"")
C32: =IFERROR(VLOOKUP(B32,INDIRECT(A32&"!$F$5:$G$13"),2,0),"")
C33: =IFERROR(VLOOKUP(B33,INDIRECT(A33&"!$F$5:$G$13"),2,0),"")
C34: =IFERROR(VLOOKUP(B34,INDIRECT(A34&"!$F$5:$G$13"),2,0),"")
C35: =IFERROR(VLOOKUP(B35,INDIRECT(A35&"!$F$5:$G$13"),2,0),"")
... C260: =IFERROR(VLOOKUP(B260,INDIRECT(A260&"!$F$5:$G$13"),2,0),"")

Sheet 28日夜
A1: 减账原因 | B1: 类目 | C1: 金额 | D1: 上班现金 | E1: ='28日白'!G1 | F1: 下班现金 | H1: =人工!H3 | I1: 姓名01 | K1: =人工!I3 | L1: 姓名02 | N1: =人工!J3 | O1: 姓名03
C2: =IFERROR(VLOOKUP(B2,INDIRECT(A2&"!$F$5:$G$13"),2,0),"")
C3: =IFERROR(VLOOKUP(B3,INDIRECT(A3&"!$F$5:$G$13"),2,0),"") | D3: 上班微信 | E3: ='28日白'!G3 | F3: 下班微信
C4: =IFERROR(VLOOKUP(B4,INDIRECT(A4&"!$F$5:$G$13"),2,0),"")
C5: =IFERROR(VLOOKUP(B5,INDIRECT(A5&"!$F$5:$G$13"),2,0),"")
C6: =IFERROR(VLOOKUP(B6,INDIRECT(A6&"!$F$5:$G$13"),2,0),"")
C7: =IFERROR(VLOOKUP(B7,INDIRECT(A7&"!$F$5:$G$13"),2,0),"") | D7: 上班支付宝 | E7: ='28日白'!G7 | F7: 下班支付宝
C8: =IFERROR(VLOOKUP(B8,INDIRECT(A8&"!$F$5:$G$13"),2,0),"")
C9: =IFERROR(VLOOKUP(B9,INDIRECT(A9&"!$F$5:$G$13"),2,0),"") | D9: 抄表区 | Z9: =渠道01!F3
C10: =IFERROR(VLOOKUP(B10,INDIRECT(A10&"!$F$5:$G$13"),2,0),"") | Z10: =渠道02!F3
C11: =IFERROR(VLOOKUP(B11,INDIRECT(A11&"!$F$5:$G$13"),2,0),"") | D11: 本班网费 | F11: 商品 | H11: 美团数量 | I11: =COUNTIF(A2:A2000,Z9) | J11: 美团金额 | K11: =SUMIF($A$2:$A$2000,$Z$9,$C$2:$C$2000) | Z11: =渠道03!F3
C12: =IFERROR(VLOOKUP(B12,INDIRECT(A12&"!$F$5:$G$13"),2,0),"") | Z12: =渠道04!F3
C13: =IFERROR(VLOOKUP(B13,INDIRECT(A13&"!$F$5:$G$13"),2,0),"") | D13: 本班XY | F13: 减账合计 | G13: =SUM(C$2:C$2000) | H13: 抖音数量 | I13: =COUNTIF(A2:A2000,Z10) | J13: 抖音金额 | K13: =SUMIF($A$2:$A$2000,$Z$10,$C$2:$C$2000) | Z13: =渠道05!F3
C14: =IFERROR(VLOOKUP(B14,INDIRECT(A14&"!$F$5:$G$13"),2,0),"")
C15: =IFERROR(VLOOKUP(B15,INDIRECT(A15&"!$F$5:$G$13"),2,0),"") | D15: 本班微信 | E15: =G3-E3 | F15: 本班现金 | G15: =G1-E1 | H15: 人工数量 | I15: =COUNTIF(A2:A2000,Z11) | J15: 人工金额 | K15: =SUMIF($A$2:$A$2000,$Z$11,$C$2:$C$2000)
C16: =IFERROR(VLOOKUP(B16,INDIRECT(A16&"!$F$5:$G$13"),2,0),"")
C17: =IFERROR(VLOOKUP(B17,INDIRECT(A17&"!$F$5:$G$13"),2,0),"") | D17: 本班支付宝 | E17: =G7-E7 | F17: 差额 | G17: =((G13+E15+G15+E17)-(E11+E13+G11)) | H17: 瓶装水换购 | I17: =COUNTIF(A2:A2000,$Z$12) | J17: 瓶装水金额 | K17: =SUMIF($A$2:$A$2000,$Z$12,$C$2:$C$2000)
C18: =IFERROR(VLOOKUP(B18,INDIRECT(A18&"!$F$5:$G$13"),2,0),"")
C19: =IFERROR(VLOOKUP(B19,INDIRECT(A19&"!$F$5:$G$13"),2,0),"") | H19: 槟榔换购 | I19: =COUNTIF(A2:A2000,Z13) | J19: 槟榔金额 | K19: =SUMIF($A$2:$A$2000,$Z$13,$C$2:$C$2000)
C20: =IFERROR(VLOOKUP(B20,INDIRECT(A20&"!$F$5:$G$13"),2,0),"")
C21: =IFERROR(VLOOKUP(B21,INDIRECT(A21&"!$F$5:$G$13"),2,0),"")
C22: =IFERROR(VLOOKUP(B22,INDIRECT(A22&"!$F$5:$G$13"),2,0),"")
C23: =IFERROR(VLOOKUP(B23,INDIRECT(A23&"!$F$5:$G$13"),2,0),"") | F23: 上交款 | G23: =E15+E17+G15
C24: =IFERROR(VLOOKUP(B24,INDIRECT(A24&"!$F$5:$G$13"),2,0),"")
C25: =IFERROR(VLOOKUP(B25,INDIRECT(A25&"!$F$5:$G$13"),2,0),"")
C26: =IFERROR(VLOOKUP(B26,INDIRECT(A26&"!$F$5:$G$13"),2,0),"")
C27: =IFERROR(VLOOKUP(B27,INDIRECT(A27&"!$F$5:$G$13"),2,0),"")
C28: =IFERROR(VLOOKUP(B28,INDIRECT(A28&"!$F$5:$G$13"),2,0),"")
C29: =IFERROR(VLOOKUP(B29,INDIRECT(A29&"!$F$5:$G$13"),2,0),"")
C30: =IFERROR(VLOOKUP(B30,INDIRECT(A30&"!$F$5:$G$13"),2,0),"")
C31: =IFERROR(VLOOKUP(B31,INDIRECT(A31&"!$F$5:$G$13"),2,0),"")
C32: =IFERROR(VLOOKUP(B32,INDIRECT(A32&"!$F$5:$G$13"),2,0),"")
C33: =IFERROR(VLOOKUP(B33,INDIRECT(A33&"!$F$5:$G$13"),2,0),"")
C34: =IFERROR(VLOOKUP(B34,INDIRECT(A34&"!$F$5:$G$13"),2,0),"")
C35: =IFERROR(VLOOKUP(B35,INDIRECT(A35&"!$F$5:$G$13"),2,0),"")
... C260: =IFERROR(VLOOKUP(B260,INDIRECT(A260&"!$F$5:$G$13"),2,0),"")

Sheet 29日白
A1: 减账原因 | B1: 类目 | C1: 金额 | D1: 上班现金 | E1: ='28日夜'!G1 | F1: 下班现金 | H1: =人工!H3 | I1: 姓名01 | K1: =人工!I3 | L1: 姓名02 | N1: =人工!J3 | O1: 姓名03
C2: =IFERROR(VLOOKUP(B2,INDIRECT(A2&"!$F$5:$G$13"),2,0),"")
C3: =IFERROR(VLOOKUP(B3,INDIRECT(A3&"!$F$5:$G$13"),2,0),"") | D3: 上班微信 | E3: ='28日夜'!G3 | F3: 下班微信
C4: =IFERROR(VLOOKUP(B4,INDIRECT(A4&"!$F$5:$G$13"),2,0),"")
C5: =IFERROR(VLOOKUP(B5,INDIRECT(A5&"!$F$5:$G$13"),2,0),"")
C6: =IFERROR(VLOOKUP(B6,INDIRECT(A6&"!$F$5:$G$13"),2,0),"")
C7: =IFERROR(VLOOKUP(B7,INDIRECT(A7&"!$F$5:$G$13"),2,0),"") | D7: 上班支付宝 | E7: ='28日夜'!G7 | F7: 下班支付宝
C8: =IFERROR(VLOOKUP(B8,INDIRECT(A8&"!$F$5:$G$13"),2,0),"")
C9: =IFERROR(VLOOKUP(B9,INDIRECT(A9&"!$F$5:$G$13"),2,0),"") | D9: 抄表区 | Z9: =渠道01!F3
C10: =IFERROR(VLOOKUP(B10,INDIRECT(A10&"!$F$5:$G$13"),2,0),"") | Z10: =渠道02!F3
C11: =IFERROR(VLOOKUP(B11,INDIRECT(A11&"!$F$5:$G$13"),2,0),"") | D11: 本班网费 | F11: 商品 | H11: 美团数量 | I11: =COUNTIF(A2:A2000,Z9) | J11: 美团金额 | K11: =SUMIF($A$2:$A$2000,$Z$9,$C$2:$C$2000) | Z11: =渠道03!F3
C12: =IFERROR(VLOOKUP(B12,INDIRECT(A12&"!$F$5:$G$13"),2,0),"") | Z12: =渠道04!F3
C13: =IFERROR(VLOOKUP(B13,INDIRECT(A13&"!$F$5:$G$13"),2,0),"") | D13: 本班XY | F13: 减账合计 | G13: =SUM(C$2:C$2000) | H13: 抖音数量 | I13: =COUNTIF(A2:A2000,Z10) | J13: 抖音金额 | K13: =SUMIF($A$2:$A$2000,$Z$10,$C$2:$C$2000) | Z13: =渠道05!F3
C14: =IFERROR(VLOOKUP(B14,INDIRECT(A14&"!$F$5:$G$13"),2,0),"")
C15: =IFERROR(VLOOKUP(B15,INDIRECT(A15&"!$F$5:$G$13"),2,0),"") | D15: 本班微信 | E15: =G3-E3 | F15: 本班现金 | G15: =G1-E1 | H15: 人工数量 | I15: =COUNTIF(A2:A2000,Z11) | J15: 人工金额 | K15: =SUMIF($A$2:$A$2000,$Z$11,$C$2:$C$2000)
C16: =IFERROR(VLOOKUP(B16,INDIRECT(A16&"!$F$5:$G$13"),2,0),"")
C17: =IFERROR(VLOOKUP(B17,INDIRECT(A17&"!$F$5:$G$13"),2,0),"") | D17: 本班支付宝 | E17: =G7-E7 | F17: 差额 | G17: =((G13+E15+G15+E17)-(E11+E13+G11)) | H17: 瓶装水换购 | I17: =COUNTIF(A2:A2000,$Z$12) | J17: 瓶装水金额 | K17: =SUMIF($A$2:$A$2000,$Z$12,$C$2:$C$2000)
C18: =IFERROR(VLOOKUP(B18,INDIRECT(A18&"!$F$5:$G$13"),2,0),"")
C19: =IFERROR(VLOOKUP(B19,INDIRECT(A19&"!$F$5:$G$13"),2,0),"") | H19: 槟榔换购 | I19: =COUNTIF(A2:A2000,Z13) | J19: 槟榔金额 | K19: =SUMIF($A$2:$A$2000,$Z$13,$C$2:$C$2000)
C20: =IFERROR(VLOOKUP(B20,INDIRECT(A20&"!$F$5:$G$13"),2,0),"")
C21: =IFERROR(VLOOKUP(B21,INDIRECT(A21&"!$F$5:$G$13"),2,0),"")
C22: =IFERROR(VLOOKUP(B22,INDIRECT(A22&"!$F$5:$G$13"),2,0),"")
C23: =IFERROR(VLOOKUP(B23,INDIRECT(A23&"!$F$5:$G$13"),2,0),"") | F23: 上交款 | G23: =E15+E17+G15
C24: =IFERROR(VLOOKUP(B24,INDIRECT(A24&"!$F$5:$G$13"),2,0),"")
C25: =IFERROR(VLOOKUP(B25,INDIRECT(A25&"!$F$5:$G$13"),2,0),"")
C26: =IFERROR(VLOOKUP(B26,INDIRECT(A26&"!$F$5:$G$13"),2,0),"")
C27: =IFERROR(VLOOKUP(B27,INDIRECT(A27&"!$F$5:$G$13"),2,0),"")
C28: =IFERROR(VLOOKUP(B28,INDIRECT(A28&"!$F$5:$G$13"),2,0),"")
C29: =IFERROR(VLOOKUP(B29,INDIRECT(A29&"!$F$5:$G$13"),2,0),"")
C30: =IFERROR(VLOOKUP(B30,INDIRECT(A30&"!$F$5:$G$13"),2,0),"")
C31: =IFERROR(VLOOKUP(B31,INDIRECT(A31&"!$F$5:$G$13"),2,0),"")
C32: =IFERROR(VLOOKUP(B32,INDIRECT(A32&"!$F$5:$G$13"),2,0),"")
C33: =IFERROR(VLOOKUP(B33,INDIRECT(A33&"!$F$5:$G$13"),2,0),"")
C34: =IFERROR(VLOOKUP(B34,INDIRECT(A34&"!$F$5:$G$13"),2,0),"")
C35: =IFERROR(VLOOKUP(B35,INDIRECT(A35&"!$F$5:$G$13"),2,0),"")
... C260: =IFERROR(VLOOKUP(B260,INDIRECT(A260&"!$F$5:$G$13"),2,0),"")

Sheet 29日夜
A1: 减账原因 | B1: 类目 | C1: 金额 | D1: 上班现金 | E1: ='29日白'!G1 | F1: 下班现金 | H1: =人工!H3 | I1: 姓名01 | K1: =人工!I3 | L1: 姓名02 | N1: =人工!J3 | O1: 姓名03
C2: =IFERROR(VLOOKUP(B2,INDIRECT(A2&"!$F$5:$G$13"),2,0),"")
C3: =IFERROR(VLOOKUP(B3,INDIRECT(A3&"!$F$5:$G$13"),2,0),"") | D3: 上班微信 | E3: ='29日白'!G3 | F3: 下班微信
C4: =IFERROR(VLOOKUP(B4,INDIRECT(A4&"!$F$5:$G$13"),2,0),"")
C5: =IFERROR(VLOOKUP(B5,INDIRECT(A5&"!$F$5:$G$13"),2,0),"")
C6: =IFERROR(VLOOKUP(B6,INDIRECT(A6&"!$F$5:$G$13"),2,0),"")
C7: =IFERROR(VLOOKUP(B7,INDIRECT(A7&"!$F$5:$G$13"),2,0),"") | D7: 上班支付宝 | E7: ='29日白'!G7 | F7: 下班支付宝
C8: =IFERROR(VLOOKUP(B8,INDIRECT(A8&"!$F$5:$G$13"),2,0),"")
C9: =IFERROR(VLOOKUP(B9,INDIRECT(A9&"!$F$5:$G$13"),2,0),"") | D9: 抄表区 | Z9: =渠道01!F3
C10: =IFERROR(VLOOKUP(B10,INDIRECT(A10&"!$F$5:$G$13"),2,0),"") | Z10: =渠道02!F3
C11: =IFERROR(VLOOKUP(B11,INDIRECT(A11&"!$F$5:$G$13"),2,0),"") | D11: 本班网费 | F11: 商品 | H11: 美团数量 | I11: =COUNTIF(A2:A2000,Z9) | J11: 美团金额 | K11: =SUMIF($A$2:$A$2000,$Z$9,$C$2:$C$2000) | Z11: =渠道03!F3
C12: =IFERROR(VLOOKUP(B12,INDIRECT(A12&"!$F$5:$G$13"),2,0),"") | Z12: =渠道04!F3
C13: =IFERROR(VLOOKUP(B13,INDIRECT(A13&"!$F$5:$G$13"),2,0),"") | D13: 本班XY | F13: 减账合计 | G13: =SUM(C$2:C$2000) | H13: 抖音数量 | I13: =COUNTIF(A2:A2000,Z10) | J13: 抖音金额 | K13: =SUMIF($A$2:$A$2000,$Z$10,$C$2:$C$2000) | Z13: =渠道05!F3
C14: =IFERROR(VLOOKUP(B14,INDIRECT(A14&"!$F$5:$G$13"),2,0),"")
C15: =IFERROR(VLOOKUP(B15,INDIRECT(A15&"!$F$5:$G$13"),2,0),"") | D15: 本班微信 | E15: =G3-E3 | F15: 本班现金 | G15: =G1-E1 | H15: 人工数量 | I15: =COUNTIF(A2:A2000,Z11) | J15: 人工金额 | K15: =SUMIF($A$2:$A$2000,$Z$11,$C$2:$C$2000)
C16: =IFERROR(VLOOKUP(B16,INDIRECT(A16&"!$F$5:$G$13"),2,0),"")
C17: =IFERROR(VLOOKUP(B17,INDIRECT(A17&"!$F$5:$G$13"),2,0),"") | D17: 本班支付宝 | E17: =G7-E7 | F17: 差额 | G17: =((G13+E15+G15+E17)-(E11+E13+G11)) | H17: 瓶装水换购 | I17: =COUNTIF(A2:A2000,$Z$12) | J17: 瓶装水金额 | K17: =SUMIF($A$2:$A$2000,$Z$12,$C$2:$C$2000)
C18: =IFERROR(VLOOKUP(B18,INDIRECT(A18&"!$F$5:$G$13"),2,0),"")
C19: =IFERROR(VLOOKUP(B19,INDIRECT(A19&"!$F$5:$G$13"),2,0),"") | H19: 槟榔换购 | I19: =COUNTIF(A2:A2000,Z13) | J19: 槟榔金额 | K19: =SUMIF($A$2:$A$2000,$Z$13,$C$2:$C$2000)
C20: =IFERROR(VLOOKUP(B20,INDIRECT(A20&"!$F$5:$G$13"),2,0),"")
C21: =IFERROR(VLOOKUP(B21,INDIRECT(A21&"!$F$5:$G$13"),2,0),"")
C22: =IFERROR(VLOOKUP(B22,INDIRECT(A22&"!$F$5:$G$13"),2,0),"")
C23: =IFERROR(VLOOKUP(B23,INDIRECT(A23&"!$F$5:$G$13"),2,0),"") | F23: 上交款 | G23: =E15+E17+G15
C24: =IFERROR(VLOOKUP(B24,INDIRECT(A24&"!$F$5:$G$13"),2,0),"")
C25: =IFERROR(VLOOKUP(B25,INDIRECT(A25&"!$F$5:$G$13"),2,0),"")
C26: =IFERROR(VLOOKUP(B26,INDIRECT(A26&"!$F$5:$G$13"),2,0),"")
C27: =IFERROR(VLOOKUP(B27,INDIRECT(A27&"!$F$5:$G$13"),2,0),"")
C28: =IFERROR(VLOOKUP(B28,INDIRECT(A28&"!$F$5:$G$13"),2,0),"")
C29: =IFERROR(VLOOKUP(B29,INDIRECT(A29&"!$F$5:$G$13"),2,0),"")
C30: =IFERROR(VLOOKUP(B30,INDIRECT(A30&"!$F$5:$G$13"),2,0),"")
C31: =IFERROR(VLOOKUP(B31,INDIRECT(A31&"!$F$5:$G$13"),2,0),"")
C32: =IFERROR(VLOOKUP(B32,INDIRECT(A32&"!$F$5:$G$13"),2,0),"")
C33: =IFERROR(VLOOKUP(B33,INDIRECT(A33&"!$F$5:$G$13"),2,0),"")
C34: =IFERROR(VLOOKUP(B34,INDIRECT(A34&"!$F$5:$G$13"),2,0),"")
C35: =IFERROR(VLOOKUP(B35,INDIRECT(A35&"!$F$5:$G$13"),2,0),"")
... C260: =IFERROR(VLOOKUP(B260,INDIRECT(A260&"!$F$5:$G$13"),2,0),"")

Sheet 30日白
A1: 减账原因 | B1: 类目 | C1: 金额 | D1: 上班现金 | E1: ='29日夜'!G1 | F1: 下班现金 | H1: =人工!H3 | I1: 姓名01 | K1: =人工!I3 | L1: 姓名02 | N1: =人工!J3 | O1: 姓名03
C2: =IFERROR(VLOOKUP(B2,INDIRECT(A2&"!$F$5:$G$13"),2,0),"")
C3: =IFERROR(VLOOKUP(B3,INDIRECT(A3&"!$F$5:$G$13"),2,0),"") | D3: 上班微信 | E3: ='29日夜'!G3 | F3: 下班微信
C4: =IFERROR(VLOOKUP(B4,INDIRECT(A4&"!$F$5:$G$13"),2,0),"")
C5: =IFERROR(VLOOKUP(B5,INDIRECT(A5&"!$F$5:$G$13"),2,0),"")
C6: =IFERROR(VLOOKUP(B6,INDIRECT(A6&"!$F$5:$G$13"),2,0),"")
C7: =IFERROR(VLOOKUP(B7,INDIRECT(A7&"!$F$5:$G$13"),2,0),"") | D7: 上班支付宝 | E7: ='29日夜'!G7 | F7: 下班支付宝
C8: =IFERROR(VLOOKUP(B8,INDIRECT(A8&"!$F$5:$G$13"),2,0),"")
C9: =IFERROR(VLOOKUP(B9,INDIRECT(A9&"!$F$5:$G$13"),2,0),"") | D9: 抄表区 | Z9: =渠道01!F3
C10: =IFERROR(VLOOKUP(B10,INDIRECT(A10&"!$F$5:$G$13"),2,0),"") | Z10: =渠道02!F3
C11: =IFERROR(VLOOKUP(B11,INDIRECT(A11&"!$F$5:$G$13"),2,0),"") | D11: 本班网费 | F11: 商品 | H11: 美团数量 | I11: =COUNTIF(A2:A2000,Z9) | J11: 美团金额 | K11: =SUMIF($A$2:$A$2000,$Z$9,$C$2:$C$2000) | Z11: =渠道03!F3
C12: =IFERROR(VLOOKUP(B12,INDIRECT(A12&"!$F$5:$G$13"),2,0),"") | Z12: =渠道04!F3
C13: =IFERROR(VLOOKUP(B13,INDIRECT(A13&"!$F$5:$G$13"),2,0),"") | D13: 本班XY | F13: 减账合计 | G13: =SUM(C$2:C$2000) | H13: 抖音数量 | I13: =COUNTIF(A2:A2000,Z10) | J13: 抖音金额 | K13: =SUMIF($A$2:$A$2000,$Z$10,$C$2:$C$2000) | Z13: =渠道05!F3
C14: =IFERROR(VLOOKUP(B14,INDIRECT(A14&"!$F$5:$G$13"),2,0),"")
C15: =IFERROR(VLOOKUP(B15,INDIRECT(A15&"!$F$5:$G$13"),2,0),"") | D15: 本班微信 | E15: =G3-E3 | F15: 本班现金 | G15: =G1-E1 | H15: 人工数量 | I15: =COUNTIF(A2:A2000,Z11) | J15: 人工金额 | K15: =SUMIF($A$2:$A$2000,$Z$11,$C$2:$C$2000)
C16: =IFERROR(VLOOKUP(B16,INDIRECT(A16&"!$F$5:$G$13"),2,0),"")
C17: =IFERROR(VLOOKUP(B17,INDIRECT(A17&"!$F$5:$G$13"),2,0),"") | D17: 本班支付宝 | E17: =G7-E7 | F17: 差额 | G17: =((G13+E15+G15+E17)-(E11+E13+G11)) | H17: 瓶装水换购 | I17: =COUNTIF(A2:A2000,$Z$12) | J17: 瓶装水金额 | K17: =SUMIF($A$2:$A$2000,$Z$12,$C$2:$C$2000)
C18: =IFERROR(VLOOKUP(B18,INDIRECT(A18&"!$F$5:$G$13"),2,0),"")
C19: =IFERROR(VLOOKUP(B19,INDIRECT(A19&"!$F$5:$G$13"),2,0),"") | H19: 槟榔换购 | I19: =COUNTIF(A2:A2000,Z13) | J19: 槟榔金额 | K19: =SUMIF($A$2:$A$2000,$Z$13,$C$2:$C$2000)
C20: =IFERROR(VLOOKUP(B20,INDIRECT(A20&"!$F$5:$G$13"),2,0),"")
C21: =IFERROR(VLOOKUP(B21,INDIRECT(A21&"!$F$5:$G$13"),2,0),"")
C22: =IFERROR(VLOOKUP(B22,INDIRECT(A22&"!$F$5:$G$13"),2,0),"")
C23: =IFERROR(VLOOKUP(B23,INDIRECT(A23&"!$F$5:$G$13"),2,0),"") | F23: 上交款 | G23: =E15+E17+G15
C24: =IFERROR(VLOOKUP(B24,INDIRECT(A24&"!$F$5:$G$13"),2,0),"")
C25: =IFERROR(VLOOKUP(B25,INDIRECT(A25&"!$F$5:$G$13"),2,0),"")
C26: =IFERROR(VLOOKUP(B26,INDIRECT(A26&"!$F$5:$G$13"),2,0),"")
C27: =IFERROR(VLOOKUP(B27,INDIRECT(A27&"!$F$5:$G$13"),2,0),"")
C28: =IFERROR(VLOOKUP(B28,INDIRECT(A28&"!$F$5:$G$13"),2,0),"")
C29: =IFERROR(VLOOKUP(B29,INDIRECT(A29&"!$F$5:$G$13"),2,0),"")
C30: =IFERROR(VLOOKUP(B30,INDIRECT(A30&"!$F$5:$G$13"),2,0),"")
C31: =IFERROR(VLOOKUP(B31,INDIRECT(A31&"!$F$5:$G$13"),2,0),"")
C32: =IFERROR(VLOOKUP(B32,INDIRECT(A32&"!$F$5:$G$13"),2,0),"")
C33: =IFERROR(VLOOKUP(B33,INDIRECT(A33&"!$F$5:$G$13"),2,0),"")
C34: =IFERROR(VLOOKUP(B34,INDIRECT(A34&"!$F$5:$G$13"),2,0),"")
C35: =IFERROR(VLOOKUP(B35,INDIRECT(A35&"!$F$5:$G$13"),2,0),"")
... C260: =IFERROR(VLOOKUP(B260,INDIRECT(A260&"!$F$5:$G$13"),2,0),"")

Sheet 30日夜
A1: 减账原因 | B1: 类目 | C1: 金额 | D1: 上班现金 | E1: ='30日白'!G1 | F1: 下班现金 | H1: =人工!H3 | I1: 姓名01 | K1: =人工!I3 | L1: 姓名02 | N1: =人工!J3 | O1: 姓名03
C2: =IFERROR(VLOOKUP(B2,INDIRECT(A2&"!$F$5:$G$13"),2,0),"")
C3: =IFERROR(VLOOKUP(B3,INDIRECT(A3&"!$F$5:$G$13"),2,0),"") | D3: 上班微信 | E3: ='30日白'!G3 | F3: 下班微信
C4: =IFERROR(VLOOKUP(B4,INDIRECT(A4&"!$F$5:$G$13"),2,0),"")
C5: =IFERROR(VLOOKUP(B5,INDIRECT(A5&"!$F$5:$G$13"),2,0),"")
C6: =IFERROR(VLOOKUP(B6,INDIRECT(A6&"!$F$5:$G$13"),2,0),"")
C7: =IFERROR(VLOOKUP(B7,INDIRECT(A7&"!$F$5:$G$13"),2,0),"") | D7: 上班支付宝 | E7: ='30日白'!G7 | F7: 下班支付宝
C8: =IFERROR(VLOOKUP(B8,INDIRECT(A8&"!$F$5:$G$13"),2,0),"")
C9: =IFERROR(VLOOKUP(B9,INDIRECT(A9&"!$F$5:$G$13"),2,0),"") | D9: 抄表区 | Z9: =渠道01!F3
C10: =IFERROR(VLOOKUP(B10,INDIRECT(A10&"!$F$5:$G$13"),2,0),"") | Z10: =渠道02!F3
C11: =IFERROR(VLOOKUP(B11,INDIRECT(A11&"!$F$5:$G$13"),2,0),"") | D11: 本班网费 | F11: 商品 | H11: 美团数量 | I11: =COUNTIF(A2:A2000,Z9) | J11: 美团金额 | K11: =SUMIF($A$2:$A$2000,$Z$9,$C$2:$C$2000) | Z11: =渠道03!F3
C12: =IFERROR(VLOOKUP(B12,INDIRECT(A12&"!$F$5:$G$13"),2,0),"") | Z12: =渠道04!F3
C13: =IFERROR(VLOOKUP(B13,INDIRECT(A13&"!$F$5:$G$13"),2,0),"") | D13: 本班XY | F13: 减账合计 | G13: =SUM(C$2:C$2000) | H13: 抖音数量 | I13: =COUNTIF(A2:A2000,Z10) | J13: 抖音金额 | K13: =SUMIF($A$2:$A$2000,$Z$10,$C$2:$C$2000) | Z13: =渠道05!F3
C14: =IFERROR(VLOOKUP(B14,INDIRECT(A14&"!$F$5:$G$13"),2,0),"")
C15: =IFERROR(VLOOKUP(B15,INDIRECT(A15&"!$F$5:$G$13"),2,0),"") | D15: 本班微信 | E15: =G3-E3 | F15: 本班现金 | G15: =G1-E1 | H15: 人工数量 | I15: =COUNTIF(A2:A2000,Z11) | J15: 人工金额 | K15: =SUMIF($A$2:$A$2000,$Z$11,$C$2:$C$2000)
C16: =IFERROR(VLOOKUP(B16,INDIRECT(A16&"!$F$5:$G$13"),2,0),"")
C17: =IFERROR(VLOOKUP(B17,INDIRECT(A17&"!$F$5:$G$13"),2,0),"") | D17: 本班支付宝 | E17: =G7-E7 | F17: 差额 | G17: =((G13+E15+G15+E17)-(E11+E13+G11)) | H17: 瓶装水换购 | I17: =COUNTIF(A2:A2000,$Z$12) | J17: 瓶装水金额 | K17: =SUMIF($A$2:$A$2000,$Z$12,$C$2:$C$2000)
C18: =IFERROR(VLOOKUP(B18,INDIRECT(A18&"!$F$5:$G$13"),2,0),"")
C19: =IFERROR(VLOOKUP(B19,INDIRECT(A19&"!$F$5:$G$13"),2,0),"") | H19: 槟榔换购 | I19: =COUNTIF(A2:A2000,Z13) | J19: 槟榔金额 | K19: =SUMIF($A$2:$A$2000,$Z$13,$C$2:$C$2000)
C20: =IFERROR(VLOOKUP(B20,INDIRECT(A20&"!$F$5:$G$13"),2,0),"")
C21: =IFERROR(VLOOKUP(B21,INDIRECT(A21&"!$F$5:$G$13"),2,0),"")
C22: =IFERROR(VLOOKUP(B22,INDIRECT(A22&"!$F$5:$G$13"),2,0),"")
C23: =IFERROR(VLOOKUP(B23,INDIRECT(A23&"!$F$5:$G$13"),2,0),"") | F23: 上交款 | G23: =E15+E17+G15
C24: =IFERROR(VLOOKUP(B24,INDIRECT(A24&"!$F$5:$G$13"),2,0),"")
C25: =IFERROR(VLOOKUP(B25,INDIRECT(A25&"!$F$5:$G$13"),2,0),"")
C26: =IFERROR(VLOOKUP(B26,INDIRECT(A26&"!$F$5:$G$13"),2,0),"")
C27: =IFERROR(VLOOKUP(B27,INDIRECT(A27&"!$F$5:$G$13"),2,0),"")
C28: =IFERROR(VLOOKUP(B28,INDIRECT(A28&"!$F$5:$G$13"),2,0),"")
C29: =IFERROR(VLOOKUP(B29,INDIRECT(A29&"!$F$5:$G$13"),2,0),"")
C30: =IFERROR(VLOOKUP(B30,INDIRECT(A30&"!$F$5:$G$13"),2,0),"")
C31: =IFERROR(VLOOKUP(B31,INDIRECT(A31&"!$F$5:$G$13"),2,0),"")
C32: =IFERROR(VLOOKUP(B32,INDIRECT(A32&"!$F$5:$G$13"),2,0),"")
C33: =IFERROR(VLOOKUP(B33,INDIRECT(A33&"!$F$5:$G$13"),2,0),"")
C34: =IFERROR(VLOOKUP(B34,INDIRECT(A34&"!$F$5:$G$13"),2,0),"")
C35: =IFERROR(VLOOKUP(B35,INDIRECT(A35&"!$F$5:$G$13"),2,0),"")
... C260: =IFERROR(VLOOKUP(B260,INDIRECT(A260&"!$F$5:$G$13"),2,0),"")

Sheet 31日白
A1: 减账原因 | B1: 类目 | C1: 金额 | D1: 上班现金 | E1: ='30日夜'!G1 | F1: 下班现金 | H1: =人工!H3 | I1: 姓名01 | K1: =人工!I3 | L1: 姓名02 | N1: =人工!J3 | O1: 姓名03
C2: =IFERROR(VLOOKUP(B2,INDIRECT(A2&"!$F$5:$G$13"),2,0),"")
C3: =IFERROR(VLOOKUP(B3,INDIRECT(A3&"!$F$5:$G$13"),2,0),"") | D3: 上班微信 | E3: ='30日夜'!G3 | F3: 下班微信
C4: =IFERROR(VLOOKUP(B4,INDIRECT(A4&"!$F$5:$G$13"),2,0),"")
C5: =IFERROR(VLOOKUP(B5,INDIRECT(A5&"!$F$5:$G$13"),2,0),"")
C6: =IFERROR(VLOOKUP(B6,INDIRECT(A6&"!$F$5:$G$13"),2,0),"")
C7: =IFERROR(VLOOKUP(B7,INDIRECT(A7&"!$F$5:$G$13"),2,0),"") | D7: 上班支付宝 | E7: ='30日夜'!G7 | F7: 下班支付宝
C8: =IFERROR(VLOOKUP(B8,INDIRECT(A8&"!$F$5:$G$13"),2,0),"")
C9: =IFERROR(VLOOKUP(B9,INDIRECT(A9&"!$F$5:$G$13"),2,0),"") | D9: 抄表区 | Z9: =渠道01!F3
C10: =IFERROR(VLOOKUP(B10,INDIRECT(A10&"!$F$5:$G$13"),2,0),"") | Z10: =渠道02!F3
C11: =IFERROR(VLOOKUP(B11,INDIRECT(A11&"!$F$5:$G$13"),2,0),"") | D11: 本班网费 | F11: 商品 | H11: 美团数量 | I11: =COUNTIF(A2:A2000,Z9) | J11: 美团金额 | K11: =SUMIF($A$2:$A$2000,$Z$9,$C$2:$C$2000) | Z11: =渠道03!F3
C12: =IFERROR(VLOOKUP(B12,INDIRECT(A12&"!$F$5:$G$13"),2,0),"") | Z12: =渠道04!F3
C13: =IFERROR(VLOOKUP(B13,INDIRECT(A13&"!$F$5:$G$13"),2,0),"") | D13: 本班XY | F13: 减账合计 | G13: =SUM(C$2:C$2000) | H13: 抖音数量 | I13: =COUNTIF(A2:A2000,Z10) | J13: 抖音金额 | K13: =SUMIF($A$2:$A$2000,$Z$10,$C$2:$C$2000) | Z13: =渠道05!F3
C14: =IFERROR(VLOOKUP(B14,INDIRECT(A14&"!$F$5:$G$13"),2,0),"")
C15: =IFERROR(VLOOKUP(B15,INDIRECT(A15&"!$F$5:$G$13"),2,0),"") | D15: 本班微信 | E15: =G3-E3 | F15: 本班现金 | G15: =G1-E1 | H15: 人工数量 | I15: =COUNTIF(A2:A2000,Z11) | J15: 人工金额 | K15: =SUMIF($A$2:$A$2000,$Z$11,$C$2:$C$2000)
C16: =IFERROR(VLOOKUP(B16,INDIRECT(A16&"!$F$5:$G$13"),2,0),"")
C17: =IFERROR(VLOOKUP(B17,INDIRECT(A17&"!$F$5:$G$13"),2,0),"") | D17: 本班支付宝 | E17: =G7-E7 | F17: 差额 | G17: =((G13+E15+G15+E17)-(E11+E13+G11)) | H17: 瓶装水换购 | I17: =COUNTIF(A2:A2000,$Z$12) | J17: 瓶装水金额 | K17: =SUMIF($A$2:$A$2000,$Z$12,$C$2:$C$2000)
C18: =IFERROR(VLOOKUP(B18,INDIRECT(A18&"!$F$5:$G$13"),2,0),"")
C19: =IFERROR(VLOOKUP(B19,INDIRECT(A19&"!$F$5:$G$13"),2,0),"") | H19: 槟榔换购 | I19: =COUNTIF(A2:A2000,Z13) | J19: 槟榔金额 | K19: =SUMIF($A$2:$A$2000,$Z$13,$C$2:$C$2000)
C20: =IFERROR(VLOOKUP(B20,INDIRECT(A20&"!$F$5:$G$13"),2,0),"")
C21: =IFERROR(VLOOKUP(B21,INDIRECT(A21&"!$F$5:$G$13"),2,0),"")
C22: =IFERROR(VLOOKUP(B22,INDIRECT(A22&"!$F$5:$G$13"),2,0),"")
C23: =IFERROR(VLOOKUP(B23,INDIRECT(A23&"!$F$5:$G$13"),2,0),"") | F23: 上交款 | G23: =E15+E17+G15
C24: =IFERROR(VLOOKUP(B24,INDIRECT(A24&"!$F$5:$G$13"),2,0),"")
C25: =IFERROR(VLOOKUP(B25,INDIRECT(A25&"!$F$5:$G$13"),2,0),"")
C26: =IFERROR(VLOOKUP(B26,INDIRECT(A26&"!$F$5:$G$13"),2,0),"")
C27: =IFERROR(VLOOKUP(B27,INDIRECT(A27&"!$F$5:$G$13"),2,0),"")
C28: =IFERROR(VLOOKUP(B28,INDIRECT(A28&"!$F$5:$G$13"),2,0),"")
C29: =IFERROR(VLOOKUP(B29,INDIRECT(A29&"!$F$5:$G$13"),2,0),"")
C30: =IFERROR(VLOOKUP(B30,INDIRECT(A30&"!$F$5:$G$13"),2,0),"")
C31: =IFERROR(VLOOKUP(B31,INDIRECT(A31&"!$F$5:$G$13"),2,0),"")
C32: =IFERROR(VLOOKUP(B32,INDIRECT(A32&"!$F$5:$G$13"),2,0),"")
C33: =IFERROR(VLOOKUP(B33,INDIRECT(A33&"!$F$5:$G$13"),2,0),"")
C34: =IFERROR(VLOOKUP(B34,INDIRECT(A34&"!$F$5:$G$13"),2,0),"")
C35: =IFERROR(VLOOKUP(B35,INDIRECT(A35&"!$F$5:$G$13"),2,0),"")
... C260: =IFERROR(VLOOKUP(B260,INDIRECT(A260&"!$F$5:$G$13"),2,0),"")

Sheet 31日夜
A1: 减账原因 | B1: 类目 | C1: 金额 | D1: 上班现金 | E1: ='31日白'!G1 | F1: 下班现金 | H1: =人工!H3 | I1: 姓名01 | K1: =人工!I3 | L1: 姓名02 | N1: =人工!J3 | O1: 姓名03
C2: =IFERROR(VLOOKUP(B2,INDIRECT(A2&"!$F$5:$G$13"),2,0),"")
C3: =IFERROR(VLOOKUP(B3,INDIRECT(A3&"!$F$5:$G$13"),2,0),"") | D3: 上班微信 | E3: ='31日白'!G3 | F3: 下班微信
C4: =IFERROR(VLOOKUP(B4,INDIRECT(A4&"!$F$5:$G$13"),2,0),"")
C5: =IFERROR(VLOOKUP(B5,INDIRECT(A5&"!$F$5:$G$13"),2,0),"")
C6: =IFERROR(VLOOKUP(B6,INDIRECT(A6&"!$F$5:$G$13"),2,0),"")
C7: =IFERROR(VLOOKUP(B7,INDIRECT(A7&"!$F$5:$G$13"),2,0),"") | D7: 上班支付宝 | E7: ='31日白'!G7 | F7: 下班支付宝
C8: =IFERROR(VLOOKUP(B8,INDIRECT(A8&"!$F$5:$G$13"),2,0),"")
C9: =IFERROR(VLOOKUP(B9,INDIRECT(A9&"!$F$5:$G$13"),2,0),"") | D9: 抄表区 | Z9: =渠道01!F3
C10: =IFERROR(VLOOKUP(B10,INDIRECT(A10&"!$F$5:$G$13"),2,0),"") | Z10: =渠道02!F3
C11: =IFERROR(VLOOKUP(B11,INDIRECT(A11&"!$F$5:$G$13"),2,0),"") | D11: 本班网费 | F11: 商品 | H11: 美团数量 | I11: =COUNTIF(A2:A2000,Z9) | J11: 美团金额 | K11: =SUMIF($A$2:$A$2000,$Z$9,$C$2:$C$2000) | Z11: =渠道03!F3
C12: =IFERROR(VLOOKUP(B12,INDIRECT(A12&"!$F$5:$G$13"),2,0),"") | Z12: =渠道04!F3
C13: =IFERROR(VLOOKUP(B13,INDIRECT(A13&"!$F$5:$G$13"),2,0),"") | D13: 本班XY | F13: 减账合计 | G13: =SUM(C$2:C$2000) | H13: 抖音数量 | I13: =COUNTIF(A2:A2000,Z10) | J13: 抖音金额 | K13: =SUMIF($A$2:$A$2000,$Z$10,$C$2:$C$2000) | Z13: =渠道05!F3
C14: =IFERROR(VLOOKUP(B14,INDIRECT(A14&"!$F$5:$G$13"),2,0),"")
